BEGIN:VCALENDAR
VERSION:2.0
PRODID:-//jEvents 2.0 for Joomla//EN
CALSCALE:GREGORIAN
METHOD:PUBLISH
BEGIN:VTIMEZONE
TZID:America/Toronto
BEGIN:STANDARD
DTSTART:20231105T010000
RDATE:20240310T030000
TZOFFSETFROM:-0400
TZOFFSETTO:-0500
TZNAME:America/Toronto EST
END:STANDARD
BEGIN:STANDARD
DTSTART:20241103T010000
RDATE:20250309T030000
TZOFFSETFROM:-0400
TZOFFSETTO:-0500
TZNAME:America/Toronto EST
END:STANDARD
BEGIN:STANDARD
DTSTART:20251102T010000
RDATE:20260308T030000
TZOFFSETFROM:-0400
TZOFFSETTO:-0500
TZNAME:America/Toronto EST
END:STANDARD
BEGIN:STANDARD
DTSTART:20261101T010000
RDATE:20270314T030000
TZOFFSETFROM:-0400
TZOFFSETTO:-0500
TZNAME:America/Toronto EST
END:STANDARD
BEGIN:STANDARD
DTSTART:20271107T010000
RDATE:20280312T030000
TZOFFSETFROM:-0400
TZOFFSETTO:-0500
TZNAME:America/Toronto EST
END:STANDARD
BEGIN:STANDARD
DTSTART:20281105T010000
RDATE:20290311T030000
TZOFFSETFROM:-0400
TZOFFSETTO:-0500
TZNAME:America/Toronto EST
END:STANDARD
BEGIN:STANDARD
DTSTART:20291104T010000
RDATE:20300310T030000
TZOFFSETFROM:-0400
TZOFFSETTO:-0500
TZNAME:America/Toronto EST
END:STANDARD
BEGIN:STANDARD
DTSTART:20301103T010000
RDATE:20310309T030000
TZOFFSETFROM:-0400
TZOFFSETTO:-0500
TZNAME:America/Toronto EST
END:STANDARD
BEGIN:STANDARD
DTSTART:20311102T010000
RDATE:20320314T030000
TZOFFSETFROM:-0400
TZOFFSETTO:-0500
TZNAME:America/Toronto EST
END:STANDARD
BEGIN:DAYLIGHT
DTSTART:20230504T183000
RDATE:20231105T010000
TZOFFSETFROM:-0500
TZOFFSETTO:-0400
TZNAME:America/Toronto EDT
END:DAYLIGHT
BEGIN:DAYLIGHT
DTSTART:20240310T030000
RDATE:20241103T010000
TZOFFSETFROM:-0500
TZOFFSETTO:-0400
TZNAME:America/Toronto EDT
END:DAYLIGHT
BEGIN:DAYLIGHT
DTSTART:20250309T030000
RDATE:20251102T010000
TZOFFSETFROM:-0500
TZOFFSETTO:-0400
TZNAME:America/Toronto EDT
END:DAYLIGHT
BEGIN:DAYLIGHT
DTSTART:20260308T030000
RDATE:20261101T010000
TZOFFSETFROM:-0500
TZOFFSETTO:-0400
TZNAME:America/Toronto EDT
END:DAYLIGHT
BEGIN:DAYLIGHT
DTSTART:20270314T030000
RDATE:20271107T010000
TZOFFSETFROM:-0500
TZOFFSETTO:-0400
TZNAME:America/Toronto EDT
END:DAYLIGHT
BEGIN:DAYLIGHT
DTSTART:20280312T030000
RDATE:20281105T010000
TZOFFSETFROM:-0500
TZOFFSETTO:-0400
TZNAME:America/Toronto EDT
END:DAYLIGHT
BEGIN:DAYLIGHT
DTSTART:20290311T030000
RDATE:20291104T010000
TZOFFSETFROM:-0500
TZOFFSETTO:-0400
TZNAME:America/Toronto EDT
END:DAYLIGHT
BEGIN:DAYLIGHT
DTSTART:20300310T030000
RDATE:20301103T010000
TZOFFSETFROM:-0500
TZOFFSETTO:-0400
TZNAME:America/Toronto EDT
END:DAYLIGHT
BEGIN:DAYLIGHT
DTSTART:20310309T030000
RDATE:20311102T010000
TZOFFSETFROM:-0500
TZOFFSETTO:-0400
TZNAME:America/Toronto EDT
END:DAYLIGHT
END:VTIMEZONE
BEGIN:VEVENT
UID:74c074e97fb3c5f4506fc1742d98f282
CATEGORIES:Durham Events
CREATED:20240304T194020
SUMMARY:New Life Neighbourhood Centre Spring Fundraising Gala Masquerade Ball
LOCATION:Ukrainian Cultural Centre\, 38 Lviv Blvd. Oshawa\, ON L1H 4K2
DESCRIPTION:New Life Neighbourhood Centre Spring Fundraising Gala Masquerade Ball. - Wh
 at better way to welcome Spring and celebrate with us as a community active
 ly participating in transforming lives of those in need. Don't miss your ch
 ance to take part in this extraordinary evening.This is going to be an ench
 anting evening of live classically-themed entertainment, formal dinner and 
 an opportunity to make a difference in the lives of many individuals in the
  community. Secure your spot now by going onto Eventbrite.\nhttps://www.eve
 ntbrite.com/e/new-life-neighbourhood-centre-spring-gala-fundraiser-masquera
 de-ball-tickets-719407064897?aff=ebdssbdestsearch&amp;keep_tld=1&amp;fbclid
 =IwAR1UgoMLQcM7jiCqgg0LNfngH7GXn4RNRsn0R7ZOSz9g0XT-T6g487p409Q\nREGULAR TIC
 KETS: $125/person (February 25 - March 31).Table of 8: $850 (please reserve
  your tickets online. You can reserve all 8 tickets under one name. Then em
 ail the names of your table party to: Sharon Ennis: This email address is b
 eing protected from spambots. You need JavaScript enabled to view it.Seatin
 g is limited. DATE: May 4, 2024TIME: Dinner starts at 7:00pmVENUE: Ukrainia
 n Heritage Centre, OshawaFor ticket information, connect with Sharon Ennis 
 at This email address is being protected from spambots. You need JavaScript
  enabled to view it.For more information about the Neighbourhood Centre vis
 it our website:https://neighbourhoodcentre.newlifeadventistchurch.com/?fbcl
 id=IwAR158U7sbsxXHmcLxfL-6FlvoPaaJIQfSa9uWETQ_Zrf9ymLWAlqZh56lOc
X-ALT-DESC;FMTTYPE=text/html:<p>New Life Neighbourhood Centre Spring Fundraising Gala Masquerade Ball. -
  What better way to welcome Spring and celebrate with us as a community act
 ively participating in transforming lives of those in need. Don't miss your
  chance to take part in this extraordinary evening.This is going to be an e
 nchanting evening of live classically-themed entertainment, formal dinner a
 nd an opportunity to make a difference in the lives of many individuals in 
 the community. Secure your spot now by going onto Eventbrite.</p><p><a href
 ="https://www.eventbrite.com/e/new-life-neighbourhood-centre-spring-gala-fu
 ndraiser-masquerade-ball-tickets-719407064897?aff=ebdssbdestsearch&amp;keep
 _tld=1&amp;fbclid=IwAR1UgoMLQcM7jiCqgg0LNfngH7GXn4RNRsn0R7ZOSz9g0XT-T6g487p
 409Q">https://www.eventbrite.com/e/new-life-neighbourhood-centre-spring-gal
 a-fundraiser-masquerade-ball-tickets-719407064897?aff=ebdssbdestsearch&amp;
 keep_tld=1&amp;fbclid=IwAR1UgoMLQcM7jiCqgg0LNfngH7GXn4RNRsn0R7ZOSz9g0XT-T6g
 487p409Q</a></p><div class="x11i5rnm xat24cr x1mh8g0r x1vvkbs xtlvy1s x126k
 92a"><div dir="auto">REGULAR TICKETS: $125/person (February 25 - March 31).
 Table of 8: $850 (please reserve your tickets online. You can reserve all 8
  tickets under one name. Then email the names of your table party to: Sharo
 n Ennis: <joomla-hidden-mail  is-link="1" is-email="1" first="c2hhcm9uZW5ua
 XM=" last="cm9nZXJzLmNvbQ==" text="c2hhcm9uZW5uaXNAcm9nZXJzLmNvbQ==" base="
 " >This email address is being protected from spambots. You need JavaScript
  enabled to view it.</joomla-hidden-mail></div><div dir="auto">Seating is l
 imited.</div><div dir="auto"> </div></div><div class="x11i5rnm xat24cr x1mh
 8g0r x1vvkbs xtlvy1s x126k92a"><div dir="auto">DATE: May 4, 2024</div><div 
 dir="auto">TIME: Dinner starts at 7:00pm</div><div dir="auto">VENUE: Ukrain
 ian Heritage Centre, Oshawa</div><div dir="auto">For ticket information, co
 nnect with Sharon Ennis at <joomla-hidden-mail  is-link="1" is-email="1" fi
 rst="U2hhcm9uZW5uaXM=" last="cm9nZXJzLmNvbQ==" text="U2hhcm9uZW5uaXNAcm9nZX
 JzLmNvbQ==" base="" >This email address is being protected from spambots. Y
 ou need JavaScript enabled to view it.</joomla-hidden-mail></div><div dir="
 auto">For more information about the Neighbourhood Centre visit our website
 :</div><div dir="auto"><a href="https://neighbourhoodcentre.newlifeadventis
 tchurch.com/?fbclid=IwAR158U7sbsxXHmcLxfL-6FlvoPaaJIQfSa9uWETQ_Zrf9ymLWAlqZ
 h56lOc">https://neighbourhoodcentre.newlifeadventistchurch.com/?fbclid=IwAR
 158U7sbsxXHmcLxfL-6FlvoPaaJIQfSa9uWETQ_Zrf9ymLWAlqZh56lOc</a></div></div>
CONTACT:Sharon Ennis at This email address is being protected from spambots. You need JavaScript enabled to view it.
DTSTAMP:20260420T214101
DTSTART;TZID=America/Toronto:20240504T183000
DTEND;TZID=America/Toronto:20240504T230000
SEQUENCE:0
TRANSP:OPAQUE
END:VEVENT
END:VCALENDAR