BEGIN:VCALENDAR
VERSION:2.0
PRODID:-//jEvents 2.0 for Joomla//EN
CALSCALE:GREGORIAN
METHOD:PUBLISH
BEGIN:VTIMEZONE
TZID:America/Toronto
BEGIN:STANDARD
DTSTART:20231105T010000
RDATE:20240310T030000
TZOFFSETFROM:-0400
TZOFFSETTO:-0500
TZNAME:America/Toronto EST
END:STANDARD
BEGIN:STANDARD
DTSTART:20241103T010000
RDATE:20250309T030000
TZOFFSETFROM:-0400
TZOFFSETTO:-0500
TZNAME:America/Toronto EST
END:STANDARD
BEGIN:STANDARD
DTSTART:20251102T010000
RDATE:20260308T030000
TZOFFSETFROM:-0400
TZOFFSETTO:-0500
TZNAME:America/Toronto EST
END:STANDARD
BEGIN:STANDARD
DTSTART:20261101T010000
RDATE:20270314T030000
TZOFFSETFROM:-0400
TZOFFSETTO:-0500
TZNAME:America/Toronto EST
END:STANDARD
BEGIN:STANDARD
DTSTART:20271107T010000
RDATE:20280312T030000
TZOFFSETFROM:-0400
TZOFFSETTO:-0500
TZNAME:America/Toronto EST
END:STANDARD
BEGIN:STANDARD
DTSTART:20281105T010000
RDATE:20290311T030000
TZOFFSETFROM:-0400
TZOFFSETTO:-0500
TZNAME:America/Toronto EST
END:STANDARD
BEGIN:STANDARD
DTSTART:20291104T010000
RDATE:20300310T030000
TZOFFSETFROM:-0400
TZOFFSETTO:-0500
TZNAME:America/Toronto EST
END:STANDARD
BEGIN:STANDARD
DTSTART:20301103T010000
RDATE:20310309T030000
TZOFFSETFROM:-0400
TZOFFSETTO:-0500
TZNAME:America/Toronto EST
END:STANDARD
BEGIN:STANDARD
DTSTART:20311102T010000
RDATE:20320314T030000
TZOFFSETFROM:-0400
TZOFFSETTO:-0500
TZNAME:America/Toronto EST
END:STANDARD
BEGIN:DAYLIGHT
DTSTART:20230421T120000
RDATE:20231105T010000
TZOFFSETFROM:-0500
TZOFFSETTO:-0400
TZNAME:America/Toronto EDT
END:DAYLIGHT
BEGIN:DAYLIGHT
DTSTART:20240310T030000
RDATE:20241103T010000
TZOFFSETFROM:-0500
TZOFFSETTO:-0400
TZNAME:America/Toronto EDT
END:DAYLIGHT
BEGIN:DAYLIGHT
DTSTART:20250309T030000
RDATE:20251102T010000
TZOFFSETFROM:-0500
TZOFFSETTO:-0400
TZNAME:America/Toronto EDT
END:DAYLIGHT
BEGIN:DAYLIGHT
DTSTART:20260308T030000
RDATE:20261101T010000
TZOFFSETFROM:-0500
TZOFFSETTO:-0400
TZNAME:America/Toronto EDT
END:DAYLIGHT
BEGIN:DAYLIGHT
DTSTART:20270314T030000
RDATE:20271107T010000
TZOFFSETFROM:-0500
TZOFFSETTO:-0400
TZNAME:America/Toronto EDT
END:DAYLIGHT
BEGIN:DAYLIGHT
DTSTART:20280312T030000
RDATE:20281105T010000
TZOFFSETFROM:-0500
TZOFFSETTO:-0400
TZNAME:America/Toronto EDT
END:DAYLIGHT
BEGIN:DAYLIGHT
DTSTART:20290311T030000
RDATE:20291104T010000
TZOFFSETFROM:-0500
TZOFFSETTO:-0400
TZNAME:America/Toronto EDT
END:DAYLIGHT
BEGIN:DAYLIGHT
DTSTART:20300310T030000
RDATE:20301103T010000
TZOFFSETFROM:-0500
TZOFFSETTO:-0400
TZNAME:America/Toronto EDT
END:DAYLIGHT
BEGIN:DAYLIGHT
DTSTART:20310309T030000
RDATE:20311102T010000
TZOFFSETFROM:-0500
TZOFFSETTO:-0400
TZNAME:America/Toronto EDT
END:DAYLIGHT
END:VTIMEZONE
BEGIN:VEVENT
UID:8576b0480ee9da086d07470998d36149
CATEGORIES:Durham Events
CREATED:20240303T121420
SUMMARY:Outrun CF Durham 5K Walk/Run
LOCATION:Ajax Rotary Park Pavilion
DESCRIPTION:On Sunday, April 21, friends and family will come together for the 14th Ann
 ual Outrun CF Durham 5K Walk/Run to remember and support Canadians living w
 ith Cystic Fibrosis!\nThis year’s event will be run in a hybrid format.\nIn
  Person\nApril 21, 2024 - 12 noon\nMeet at Ajax Rotary Park Pavilion\nVirtu
 ally\nApril 21 - April 30, 2024\nComplete your walk, from anywhere, your wa
 y, on your own time!\nTo register please visit https://changemakers.crowdch
 ange.ca/54633. (https://l.facebook.com/l.php?u=https%3A%2F%2Fchangemakers.c
 rowdchange.ca%2F54633%3Ffbclid%3DIwAR0_MWTeXdineyUSzdCKcp_AwUmu7rfUxBk6xCji
 a1-_m2XJcM5g-_zO2mY&amp;h=AT17pKtIJNRQD75pzSs3abm45p8jelpfa4WSo4KUtwkrtWNhW
 MmT1bGquHhBPuIDZyvvGJVsNb46b_wsCFnoWsp1oMypIKglcQt1bPkbkA4bHsyyFUs79QzeA8sw
 aREypx4nH18OLHz0v7eSzQ&amp;__tn__=-UK-R&amp;c%5b0%5d=AT2Fb1UHZ5qT7ER-m8GEXr
 Sfbkwpun2f0fa4USCaYJp0dnKo7m3Gq2jV4NqDUyeTHq4Eke_neEqBVRbiN6_6_ntwcfiFbeKm1
 iwfX757J3iFQnOG2oQNKNuZbbURHlDEmdfEmv_UP0KSHi4lYjJxk1Wgtaw1zQAfQ9EbYAl4yx_X
 6zIGMo7maEI4uo-Ff-O6SJ1jkqoaao5lpLIS0BpU0h1s29FBPAIPFTb7F95NBLLZZ-BSym_y) R
 egistration is fast and easy!\nFollow us on social media for updates on the
  event and to find out how your support has advanced cystic fibrosis resear
 ch and care that has more than doubled life expectancy for Canadians living
  with cystic fibrosis!\nFacebook - https://www.facebook.com/Outrun-CF-Durha
 m-1562147394104001\nInstagram – outruncfdurham\n
X-ALT-DESC;FMTTYPE=text/html:<p>On Sunday, April 21, friends and family will come together for the 14th 
 Annual Outrun CF Durham 5K Walk/Run to remember and support Canadians livin
 g with Cystic Fibrosis!</p><p>This year’s event will be run in a hybrid for
 mat.</p><p><strong>In Person</strong></p><p>April 21, 2024 - 12 noon</p><p>
 Meet at Ajax Rotary Park Pavilion</p><p><strong>Virtually</strong></p><p>Ap
 ril 21 - April 30, 2024</p><p>Complete your walk, from anywhere, your way, 
 on your own time!</p><p>To register please visit <a href="https://l.faceboo
 k.com/l.php?u=https%3A%2F%2Fchangemakers.crowdchange.ca%2F54633%3Ffbclid%3D
 IwAR0_MWTeXdineyUSzdCKcp_AwUmu7rfUxBk6xCjia1-_m2XJcM5g-_zO2mY&amp;h=AT17pKt
 IJNRQD75pzSs3abm45p8jelpfa4WSo4KUtwkrtWNhWMmT1bGquHhBPuIDZyvvGJVsNb46b_wsCF
 noWsp1oMypIKglcQt1bPkbkA4bHsyyFUs79QzeA8swaREypx4nH18OLHz0v7eSzQ&amp;__tn__
 =-UK-R&amp;c%5b0%5d=AT2Fb1UHZ5qT7ER-m8GEXrSfbkwpun2f0fa4USCaYJp0dnKo7m3Gq2j
 V4NqDUyeTHq4Eke_neEqBVRbiN6_6_ntwcfiFbeKm1iwfX757J3iFQnOG2oQNKNuZbbURHlDEmd
 fEmv_UP0KSHi4lYjJxk1Wgtaw1zQAfQ9EbYAl4yx_X6zIGMo7maEI4uo-Ff-O6SJ1jkqoaao5lp
 LIS0BpU0h1s29FBPAIPFTb7F95NBLLZZ-BSym_y">https://changemakers.crowdchange.c
 a/54633.</a> Registration is fast and easy!</p><p>Follow us on social media
  for updates on the event and to find out how your support has advanced cys
 tic fibrosis research and care that has more than doubled life expectancy f
 or Canadians living with cystic fibrosis!</p><p>Facebook - <a href="https:/
 /www.facebook.com/Outrun-CF-Durham-1562147394104001?__cft__%5b0%5d=AZXjRE82
 Toq_QPgWq9AomP0Q75Ynub4CDO7xLG8zGno6McriwKpcrJ97NZf1drAdnfyBBvlO3B_DIByE9Wi
 PegsYtdFlVgrV7i9wsQgfhMO24cBdAAZA-AnO1hr47hAWhHmZsj5rqreuJlUrToSzdOcLy0zVmf
 0o_tGo5H_xpZ0h3lVcRx9Nx9YbuPztS-_f1gQ&amp;__tn__=-UK-R">https://www.faceboo
 k.com/Outrun-CF-Durham-1562147394104001</a></p><p>Instagram – outruncfdurha
 m</p>
CONTACT:This email address is being protected from spambots. You need JavaScript enabled to view it.
DTSTAMP:20260420T213533
DTSTART;TZID=America/Toronto:20240421T120000
DTEND;TZID=America/Toronto:20240421T150000
SEQUENCE:0
TRANSP:OPAQUE
END:VEVENT
END:VCALENDAR