BEGIN:VCALENDAR
VERSION:2.0
PRODID:-//jEvents 2.0 for Joomla//EN
CALSCALE:GREGORIAN
METHOD:PUBLISH
BEGIN:VTIMEZONE
TZID:America/Toronto
BEGIN:STANDARD
DTSTART:20230218T090000
RDATE:20230312T030000
TZOFFSETFROM:-0400
TZOFFSETTO:-0500
TZNAME:America/Toronto EST
END:STANDARD
BEGIN:STANDARD
DTSTART:20231105T010000
RDATE:20240310T030000
TZOFFSETFROM:-0400
TZOFFSETTO:-0500
TZNAME:America/Toronto EST
END:STANDARD
BEGIN:STANDARD
DTSTART:20241103T010000
RDATE:20250309T030000
TZOFFSETFROM:-0400
TZOFFSETTO:-0500
TZNAME:America/Toronto EST
END:STANDARD
BEGIN:STANDARD
DTSTART:20251102T010000
RDATE:20260308T030000
TZOFFSETFROM:-0400
TZOFFSETTO:-0500
TZNAME:America/Toronto EST
END:STANDARD
BEGIN:STANDARD
DTSTART:20261101T010000
RDATE:20270314T030000
TZOFFSETFROM:-0400
TZOFFSETTO:-0500
TZNAME:America/Toronto EST
END:STANDARD
BEGIN:STANDARD
DTSTART:20271107T010000
RDATE:20280312T030000
TZOFFSETFROM:-0400
TZOFFSETTO:-0500
TZNAME:America/Toronto EST
END:STANDARD
BEGIN:STANDARD
DTSTART:20281105T010000
RDATE:20290311T030000
TZOFFSETFROM:-0400
TZOFFSETTO:-0500
TZNAME:America/Toronto EST
END:STANDARD
BEGIN:STANDARD
DTSTART:20291104T010000
RDATE:20300310T030000
TZOFFSETFROM:-0400
TZOFFSETTO:-0500
TZNAME:America/Toronto EST
END:STANDARD
BEGIN:STANDARD
DTSTART:20301103T010000
RDATE:20310309T030000
TZOFFSETFROM:-0400
TZOFFSETTO:-0500
TZNAME:America/Toronto EST
END:STANDARD
BEGIN:STANDARD
DTSTART:20311102T010000
RDATE:20320314T030000
TZOFFSETFROM:-0400
TZOFFSETTO:-0500
TZNAME:America/Toronto EST
END:STANDARD
BEGIN:DAYLIGHT
DTSTART:20230312T030000
RDATE:20231105T010000
TZOFFSETFROM:-0500
TZOFFSETTO:-0400
TZNAME:America/Toronto EDT
END:DAYLIGHT
BEGIN:DAYLIGHT
DTSTART:20240310T030000
RDATE:20241103T010000
TZOFFSETFROM:-0500
TZOFFSETTO:-0400
TZNAME:America/Toronto EDT
END:DAYLIGHT
BEGIN:DAYLIGHT
DTSTART:20250309T030000
RDATE:20251102T010000
TZOFFSETFROM:-0500
TZOFFSETTO:-0400
TZNAME:America/Toronto EDT
END:DAYLIGHT
BEGIN:DAYLIGHT
DTSTART:20260308T030000
RDATE:20261101T010000
TZOFFSETFROM:-0500
TZOFFSETTO:-0400
TZNAME:America/Toronto EDT
END:DAYLIGHT
BEGIN:DAYLIGHT
DTSTART:20270314T030000
RDATE:20271107T010000
TZOFFSETFROM:-0500
TZOFFSETTO:-0400
TZNAME:America/Toronto EDT
END:DAYLIGHT
BEGIN:DAYLIGHT
DTSTART:20280312T030000
RDATE:20281105T010000
TZOFFSETFROM:-0500
TZOFFSETTO:-0400
TZNAME:America/Toronto EDT
END:DAYLIGHT
BEGIN:DAYLIGHT
DTSTART:20290311T030000
RDATE:20291104T010000
TZOFFSETFROM:-0500
TZOFFSETTO:-0400
TZNAME:America/Toronto EDT
END:DAYLIGHT
BEGIN:DAYLIGHT
DTSTART:20300310T030000
RDATE:20301103T010000
TZOFFSETFROM:-0500
TZOFFSETTO:-0400
TZNAME:America/Toronto EDT
END:DAYLIGHT
BEGIN:DAYLIGHT
DTSTART:20310309T030000
RDATE:20311102T010000
TZOFFSETFROM:-0500
TZOFFSETTO:-0400
TZNAME:America/Toronto EDT
END:DAYLIGHT
END:VTIMEZONE
BEGIN:VEVENT
UID:ad8605c65b96205c30389798b66abede
CATEGORIES:Durham Events
CREATED:20240213T114021
SUMMARY:Family Day Pancake Breakfast / Skate
LOCATION:2 Princess Street\, Orono\, L0B1M0
DESCRIPTION:<div>Get the skates out for a fun morning on the rink in Orono!</div><div><
 br />The Family Day Pancake Breakfast and Skate hosted by Phillip Lawrence 
 Member of Parliment for Northumberland-Peterborough South kicks is Monday, 
 February 19th from 9am-11am.<br /><br />Visit <a href="oaaa.ca">https://oaa
 a.ca</a> for more.</div><div>&nbsp;</div><div><div>(Family Day Pancake / Sk
 ate hosted by</div><div dir="auto">Philip Lawrence&nbsp;</div><div dir="aut
 o">Member of Parliament for</div><div dir="auto">Northumberland-Peterboroug
 h South</div><div dir="auto">Free Skating and Pancake Breakfast</div><div>&
 nbsp;</div><div dir="auto"><strong>9am - 11am, Monday, February 19th</stron
 g></div><div dir="auto">(Orono Arena)</div></div>
X-ALT-DESC;FMTTYPE=text/html:<div>Get the skates out for a fun morning on the rink in Orono!</div><div><
 br />The Family Day Pancake Breakfast and Skate hosted by Phillip Lawrence 
 Member of Parliment for Northumberland-Peterborough South kicks is Monday, 
 February 19th from 9am-11am.<br /><br />Visit <a href="https://www.durhamra
 dioevents.com/oaaa.ca">https://oaaa.ca</a> for more.</div><div>&nbsp;</div>
 <div><div>(Family Day Pancake / Skate hosted by</div><div dir="auto">Philip
  Lawrence&nbsp;</div><div dir="auto">Member of Parliament for</div><div dir
 ="auto">Northumberland-Peterborough South</div><div dir="auto">Free Skating
  and Pancake Breakfast</div><div>&nbsp;</div><div dir="auto"><strong>9am - 
 11am, Monday, February 19th</strong></div><div dir="auto">(Orono Arena)</di
 v></div>
DTSTAMP:20260420T204624
DTSTART;TZID=America/Toronto:20240219T090000
DTEND;TZID=America/Toronto:20240219T110000
SEQUENCE:0
TRANSP:OPAQUE
END:VEVENT
END:VCALENDAR