BEGIN:VCALENDAR
VERSION:2.0
PRODID:-//jEvents 2.0 for Joomla//EN
CALSCALE:GREGORIAN
METHOD:PUBLISH
BEGIN:VTIMEZONE
TZID:America/Toronto
BEGIN:STANDARD
DTSTART:20230218T120000
RDATE:20230312T030000
TZOFFSETFROM:-0400
TZOFFSETTO:-0500
TZNAME:America/Toronto EST
END:STANDARD
BEGIN:STANDARD
DTSTART:20231105T010000
RDATE:20240310T030000
TZOFFSETFROM:-0400
TZOFFSETTO:-0500
TZNAME:America/Toronto EST
END:STANDARD
BEGIN:STANDARD
DTSTART:20241103T010000
RDATE:20250309T030000
TZOFFSETFROM:-0400
TZOFFSETTO:-0500
TZNAME:America/Toronto EST
END:STANDARD
BEGIN:STANDARD
DTSTART:20251102T010000
RDATE:20260308T030000
TZOFFSETFROM:-0400
TZOFFSETTO:-0500
TZNAME:America/Toronto EST
END:STANDARD
BEGIN:STANDARD
DTSTART:20261101T010000
RDATE:20270314T030000
TZOFFSETFROM:-0400
TZOFFSETTO:-0500
TZNAME:America/Toronto EST
END:STANDARD
BEGIN:STANDARD
DTSTART:20271107T010000
RDATE:20280312T030000
TZOFFSETFROM:-0400
TZOFFSETTO:-0500
TZNAME:America/Toronto EST
END:STANDARD
BEGIN:STANDARD
DTSTART:20281105T010000
RDATE:20290311T030000
TZOFFSETFROM:-0400
TZOFFSETTO:-0500
TZNAME:America/Toronto EST
END:STANDARD
BEGIN:STANDARD
DTSTART:20291104T010000
RDATE:20300310T030000
TZOFFSETFROM:-0400
TZOFFSETTO:-0500
TZNAME:America/Toronto EST
END:STANDARD
BEGIN:STANDARD
DTSTART:20301103T010000
RDATE:20310309T030000
TZOFFSETFROM:-0400
TZOFFSETTO:-0500
TZNAME:America/Toronto EST
END:STANDARD
BEGIN:STANDARD
DTSTART:20311102T010000
RDATE:20320314T030000
TZOFFSETFROM:-0400
TZOFFSETTO:-0500
TZNAME:America/Toronto EST
END:STANDARD
BEGIN:DAYLIGHT
DTSTART:20230312T030000
RDATE:20231105T010000
TZOFFSETFROM:-0500
TZOFFSETTO:-0400
TZNAME:America/Toronto EDT
END:DAYLIGHT
BEGIN:DAYLIGHT
DTSTART:20240310T030000
RDATE:20241103T010000
TZOFFSETFROM:-0500
TZOFFSETTO:-0400
TZNAME:America/Toronto EDT
END:DAYLIGHT
BEGIN:DAYLIGHT
DTSTART:20250309T030000
RDATE:20251102T010000
TZOFFSETFROM:-0500
TZOFFSETTO:-0400
TZNAME:America/Toronto EDT
END:DAYLIGHT
BEGIN:DAYLIGHT
DTSTART:20260308T030000
RDATE:20261101T010000
TZOFFSETFROM:-0500
TZOFFSETTO:-0400
TZNAME:America/Toronto EDT
END:DAYLIGHT
BEGIN:DAYLIGHT
DTSTART:20270314T030000
RDATE:20271107T010000
TZOFFSETFROM:-0500
TZOFFSETTO:-0400
TZNAME:America/Toronto EDT
END:DAYLIGHT
BEGIN:DAYLIGHT
DTSTART:20280312T030000
RDATE:20281105T010000
TZOFFSETFROM:-0500
TZOFFSETTO:-0400
TZNAME:America/Toronto EDT
END:DAYLIGHT
BEGIN:DAYLIGHT
DTSTART:20290311T030000
RDATE:20291104T010000
TZOFFSETFROM:-0500
TZOFFSETTO:-0400
TZNAME:America/Toronto EDT
END:DAYLIGHT
BEGIN:DAYLIGHT
DTSTART:20300310T030000
RDATE:20301103T010000
TZOFFSETFROM:-0500
TZOFFSETTO:-0400
TZNAME:America/Toronto EDT
END:DAYLIGHT
BEGIN:DAYLIGHT
DTSTART:20310309T030000
RDATE:20311102T010000
TZOFFSETFROM:-0500
TZOFFSETTO:-0400
TZNAME:America/Toronto EDT
END:DAYLIGHT
END:VTIMEZONE
BEGIN:VEVENT
UID:2ec6f814f0faf6a87ed8657381790696
CATEGORIES:Durham Events
CREATED:20240117T151147
SUMMARY:Be Prepared at the Oshawa Museum
LOCATION:Oshawa Museum 1450 Simcoe Street South\, Oshawa
DESCRIPTION:Don’t be left out! Join the hundreds of visitors who’ve already experienced
  Be Prepared, an exhibit dedicated to Oshawa’s Guiding and Scouting history
 . This Family Day, the Oshawa Museum is open from 12 – 4 p.m. for tours of 
 the museum homes and activities associated with the Be Prepared exhibit. Us
 e this as a pre-visit for your guiding or scouting group, and book an eveni
 ng tour with us!\nCheck out artefacts used for the game ‘Fortunately/Unfort
 unately, ’ design future uniforms for the young people of tomorrow, find ou
 t what a pollution catcher is, and leave us your favourite memories of guid
 ing and scouting.\nAdmission is $5 per person. Tickets can be purchased at 
 Eventbrite.com/oshawamuseum or the door. This event starts in Guy House, th
 e yellow building at the Oshawa Museum, in Lakeview Park, Oshawa.\n
X-ALT-DESC;FMTTYPE=text/html:<p>Don’t be left out! Join the hundreds of visitors who’ve already experien
 ced <em>Be Prepared</em>, an exhibit dedicated to Oshawa’s Guiding and Scou
 ting history. This Family Day, the Oshawa Museum is open from 12 – 4 p.m. f
 or tours of the museum homes and activities associated with the <em>Be Prep
 ared </em>exhibit. Use this as a pre-visit for your guiding or scouting gro
 up, and book an evening tour with us!</p><p>Check out artefacts used for th
 e game ‘Fortunately/Unfortunately, ’ design future uniforms for the young p
 eople of tomorrow, find out what a pollution catcher is, and leave us your 
 favourite memories of guiding and scouting.</p><p>Admission is $5 per perso
 n. Tickets can be purchased at Eventbrite.com/oshawamuseum or the door. Thi
 s event starts in Guy House, the yellow building at the Oshawa Museum, in L
 akeview Park, Oshawa.</p>
CONTACT:Jill Passmore
X-EXTRAINFO:905-436-7624\nThis email address is being protected from spambots. You need
  JavaScript enabled to view it.
DTSTAMP:20260420T204558
DTSTART;TZID=America/Toronto:20240219T120000
DTEND;TZID=America/Toronto:20240219T160000
SEQUENCE:0
TRANSP:OPAQUE
END:VEVENT
END:VCALENDAR