BEGIN:VCALENDAR
VERSION:2.0
PRODID:-//jEvents 2.0 for Joomla//EN
CALSCALE:GREGORIAN
METHOD:PUBLISH
BEGIN:VTIMEZONE
TZID:America/Toronto
BEGIN:STANDARD
DTSTART:20230122T190000
RDATE:20230312T030000
TZOFFSETFROM:-0400
TZOFFSETTO:-0500
TZNAME:America/Toronto EST
END:STANDARD
BEGIN:STANDARD
DTSTART:20231105T010000
RDATE:20240310T030000
TZOFFSETFROM:-0400
TZOFFSETTO:-0500
TZNAME:America/Toronto EST
END:STANDARD
BEGIN:STANDARD
DTSTART:20241103T010000
RDATE:20250309T030000
TZOFFSETFROM:-0400
TZOFFSETTO:-0500
TZNAME:America/Toronto EST
END:STANDARD
BEGIN:STANDARD
DTSTART:20251102T010000
RDATE:20260308T030000
TZOFFSETFROM:-0400
TZOFFSETTO:-0500
TZNAME:America/Toronto EST
END:STANDARD
BEGIN:STANDARD
DTSTART:20261101T010000
RDATE:20270314T030000
TZOFFSETFROM:-0400
TZOFFSETTO:-0500
TZNAME:America/Toronto EST
END:STANDARD
BEGIN:STANDARD
DTSTART:20271107T010000
RDATE:20280312T030000
TZOFFSETFROM:-0400
TZOFFSETTO:-0500
TZNAME:America/Toronto EST
END:STANDARD
BEGIN:STANDARD
DTSTART:20281105T010000
RDATE:20290311T030000
TZOFFSETFROM:-0400
TZOFFSETTO:-0500
TZNAME:America/Toronto EST
END:STANDARD
BEGIN:STANDARD
DTSTART:20291104T010000
RDATE:20300310T030000
TZOFFSETFROM:-0400
TZOFFSETTO:-0500
TZNAME:America/Toronto EST
END:STANDARD
BEGIN:STANDARD
DTSTART:20301103T010000
RDATE:20310309T030000
TZOFFSETFROM:-0400
TZOFFSETTO:-0500
TZNAME:America/Toronto EST
END:STANDARD
BEGIN:STANDARD
DTSTART:20311102T010000
RDATE:20320314T030000
TZOFFSETFROM:-0400
TZOFFSETTO:-0500
TZNAME:America/Toronto EST
END:STANDARD
BEGIN:DAYLIGHT
DTSTART:20230312T030000
RDATE:20231105T010000
TZOFFSETFROM:-0500
TZOFFSETTO:-0400
TZNAME:America/Toronto EDT
END:DAYLIGHT
BEGIN:DAYLIGHT
DTSTART:20240310T030000
RDATE:20241103T010000
TZOFFSETFROM:-0500
TZOFFSETTO:-0400
TZNAME:America/Toronto EDT
END:DAYLIGHT
BEGIN:DAYLIGHT
DTSTART:20250309T030000
RDATE:20251102T010000
TZOFFSETFROM:-0500
TZOFFSETTO:-0400
TZNAME:America/Toronto EDT
END:DAYLIGHT
BEGIN:DAYLIGHT
DTSTART:20260308T030000
RDATE:20261101T010000
TZOFFSETFROM:-0500
TZOFFSETTO:-0400
TZNAME:America/Toronto EDT
END:DAYLIGHT
BEGIN:DAYLIGHT
DTSTART:20270314T030000
RDATE:20271107T010000
TZOFFSETFROM:-0500
TZOFFSETTO:-0400
TZNAME:America/Toronto EDT
END:DAYLIGHT
BEGIN:DAYLIGHT
DTSTART:20280312T030000
RDATE:20281105T010000
TZOFFSETFROM:-0500
TZOFFSETTO:-0400
TZNAME:America/Toronto EDT
END:DAYLIGHT
BEGIN:DAYLIGHT
DTSTART:20290311T030000
RDATE:20291104T010000
TZOFFSETFROM:-0500
TZOFFSETTO:-0400
TZNAME:America/Toronto EDT
END:DAYLIGHT
BEGIN:DAYLIGHT
DTSTART:20300310T030000
RDATE:20301103T010000
TZOFFSETFROM:-0500
TZOFFSETTO:-0400
TZNAME:America/Toronto EDT
END:DAYLIGHT
BEGIN:DAYLIGHT
DTSTART:20310309T030000
RDATE:20311102T010000
TZOFFSETFROM:-0500
TZOFFSETTO:-0400
TZNAME:America/Toronto EDT
END:DAYLIGHT
END:VTIMEZONE
BEGIN:VEVENT
UID:8714061871b8d5eaef192694a307d97b
CATEGORIES:Durham Events
CREATED:20240113T155729
SUMMARY:Tea and History Speaker Series
LOCATION:Whityby Public Library - Central Branch
DESCRIPTION:TEA &amp; HISTORY SPEAKER SERIES: Spencer School Excavations with Dr. Kathe
 rine HullNot so long ago, one-room schoolhouses with a single teacher were 
 the main source of education for rural children in Ontario. Brooklin’s Spen
 cer School (c. 1877) is a well-preserved example of a 19th century brick sc
 hoolhouse. The school was one of only five that served the Township of Whit
 by at that time, and continued to do so until 1965. The building is still i
 n use as a Community Centre today.\nIn 2019, in association with Doors Open
  Whitby, a team of archeologists excavated the schoolyard. At our first Tea
  &amp; History presentation of 2024, you’ll meet Dr. Hull, an archeologist 
 involved in the project, and learn about the artifacts uncovered at the sit
 e!\nSEATING IS LIMITED – PLEASE PRE-REGISTER!!!\nRegister Online (https://w
 arren-general-store.square.site/product/jan-23-tea-history-speaker-series-s
 pencer-school-excavations-with-dr-katherine-hull/2688) or Register by Phone
 : 905-665-3131\n2019, in association with Doors Open Whitby, a team of arch
 eologists excavated the schoolyard. At our first Tea &amp; History presenta
 tion of 2024, you’ll meet Dr. Hull, an archeologist involved in the project
 , and learn about the artifacts uncovered at the site!\nSEATING IS LIMITED 
 – PLEASE PRE-REGISTER!!!\nRegister Online (https://warren-general-store.squ
 are.site/product/jan-23-tea-history-speaker-series-spencer-school-excavatio
 ns-with-dr-katherine-hull/2688) or Register by Phone: 905-665-3131\n
X-ALT-DESC;FMTTYPE=text/html:<h1 class="tribe-events-single-event-title">TEA &amp; HISTORY SPEAKER SERIE
 S: Spencer School Excavations with Dr. Katherine Hull</h1><p>Not so long ag
 o, one-room schoolhouses with a single teacher were the main source of educ
 ation for rural children in Ontario. Brooklin’s Spencer School <em>(c. 1877
 )</em> is a well-preserved example of a 19th century brick schoolhouse. The
  school was one of only five that served the Township of Whitby at that tim
 e, and continued to do so until 1965. The building is still in use as a Com
 munity Centre today.</p><p>In 2019, in association with Doors Open Whitby, 
 a team of archeologists excavated the schoolyard. At our first Tea &amp; Hi
 story presentation of 2024, you’ll meet Dr. Hull, an archeologist involved 
 in the project, and learn about the artifacts uncovered at the site!</p><p>
 SEATING IS LIMITED – PLEASE PRE-REGISTER!!!</p><p><a href="https://warren-g
 eneral-store.square.site/product/jan-23-tea-history-speaker-series-spencer-
 school-excavations-with-dr-katherine-hull/2688">Register Online</a> or Regi
 ster by Phone: 905-665-3131</p><p>2019, in association with Doors Open Whit
 by, a team of archeologists excavated the schoolyard. At our first Tea &amp
 ; History presentation of 2024, you’ll meet Dr. Hull, an archeologist invol
 ved in the project, and learn about the artifacts uncovered at the site!</p
 ><p>SEATING IS LIMITED – PLEASE PRE-REGISTER!!!</p><p><a href="https://warr
 en-general-store.square.site/product/jan-23-tea-history-speaker-series-spen
 cer-school-excavations-with-dr-katherine-hull/2688">Register Online</a> or 
 Register by Phone: 905-665-3131</p>
CONTACT:This email address is being protected from spambots. You need JavaScript enabled to view it.
X-EXTRAINFO:Admission by Donation
DTSTAMP:20260420T142518
DTSTART;TZID=America/Toronto:20240123T190000
DTEND;TZID=America/Toronto:20240123T203000
SEQUENCE:0
TRANSP:OPAQUE
END:VEVENT
END:VCALENDAR