BEGIN:VCALENDAR
VERSION:2.0
PRODID:-//jEvents 2.0 for Joomla//EN
CALSCALE:GREGORIAN
METHOD:PUBLISH
BEGIN:VTIMEZONE
TZID:America/Toronto
BEGIN:STANDARD
DTSTART:20230112T173000
RDATE:20230312T030000
TZOFFSETFROM:-0400
TZOFFSETTO:-0500
TZNAME:America/Toronto EST
END:STANDARD
BEGIN:STANDARD
DTSTART:20231105T010000
RDATE:20240310T030000
TZOFFSETFROM:-0400
TZOFFSETTO:-0500
TZNAME:America/Toronto EST
END:STANDARD
BEGIN:STANDARD
DTSTART:20241103T010000
RDATE:20250309T030000
TZOFFSETFROM:-0400
TZOFFSETTO:-0500
TZNAME:America/Toronto EST
END:STANDARD
BEGIN:STANDARD
DTSTART:20251102T010000
RDATE:20260308T030000
TZOFFSETFROM:-0400
TZOFFSETTO:-0500
TZNAME:America/Toronto EST
END:STANDARD
BEGIN:STANDARD
DTSTART:20261101T010000
RDATE:20270314T030000
TZOFFSETFROM:-0400
TZOFFSETTO:-0500
TZNAME:America/Toronto EST
END:STANDARD
BEGIN:STANDARD
DTSTART:20271107T010000
RDATE:20280312T030000
TZOFFSETFROM:-0400
TZOFFSETTO:-0500
TZNAME:America/Toronto EST
END:STANDARD
BEGIN:STANDARD
DTSTART:20281105T010000
RDATE:20290311T030000
TZOFFSETFROM:-0400
TZOFFSETTO:-0500
TZNAME:America/Toronto EST
END:STANDARD
BEGIN:STANDARD
DTSTART:20291104T010000
RDATE:20300310T030000
TZOFFSETFROM:-0400
TZOFFSETTO:-0500
TZNAME:America/Toronto EST
END:STANDARD
BEGIN:STANDARD
DTSTART:20301103T010000
RDATE:20310309T030000
TZOFFSETFROM:-0400
TZOFFSETTO:-0500
TZNAME:America/Toronto EST
END:STANDARD
BEGIN:STANDARD
DTSTART:20311102T010000
RDATE:20320314T030000
TZOFFSETFROM:-0400
TZOFFSETTO:-0500
TZNAME:America/Toronto EST
END:STANDARD
BEGIN:DAYLIGHT
DTSTART:20230312T030000
RDATE:20231105T010000
TZOFFSETFROM:-0500
TZOFFSETTO:-0400
TZNAME:America/Toronto EDT
END:DAYLIGHT
BEGIN:DAYLIGHT
DTSTART:20240310T030000
RDATE:20241103T010000
TZOFFSETFROM:-0500
TZOFFSETTO:-0400
TZNAME:America/Toronto EDT
END:DAYLIGHT
BEGIN:DAYLIGHT
DTSTART:20250309T030000
RDATE:20251102T010000
TZOFFSETFROM:-0500
TZOFFSETTO:-0400
TZNAME:America/Toronto EDT
END:DAYLIGHT
BEGIN:DAYLIGHT
DTSTART:20260308T030000
RDATE:20261101T010000
TZOFFSETFROM:-0500
TZOFFSETTO:-0400
TZNAME:America/Toronto EDT
END:DAYLIGHT
BEGIN:DAYLIGHT
DTSTART:20270314T030000
RDATE:20271107T010000
TZOFFSETFROM:-0500
TZOFFSETTO:-0400
TZNAME:America/Toronto EDT
END:DAYLIGHT
BEGIN:DAYLIGHT
DTSTART:20280312T030000
RDATE:20281105T010000
TZOFFSETFROM:-0500
TZOFFSETTO:-0400
TZNAME:America/Toronto EDT
END:DAYLIGHT
BEGIN:DAYLIGHT
DTSTART:20290311T030000
RDATE:20291104T010000
TZOFFSETFROM:-0500
TZOFFSETTO:-0400
TZNAME:America/Toronto EDT
END:DAYLIGHT
BEGIN:DAYLIGHT
DTSTART:20300310T030000
RDATE:20301103T010000
TZOFFSETFROM:-0500
TZOFFSETTO:-0400
TZNAME:America/Toronto EDT
END:DAYLIGHT
BEGIN:DAYLIGHT
DTSTART:20310309T030000
RDATE:20311102T010000
TZOFFSETFROM:-0500
TZOFFSETTO:-0400
TZNAME:America/Toronto EDT
END:DAYLIGHT
END:VTIMEZONE
BEGIN:VEVENT
UID:11104455bd584ada0618a8495650c1d5
CATEGORIES:Durham Events
CREATED:20231211T162047
SUMMARY:Vyshyvana Malanka
LOCATION:Royal Canadian Legion\, Branch 43\, 471 Simcoe St S\, Oshawa
DESCRIPTION:The Odesa Ukrainian Dancers are sponsoring a Vyshyvana Malanka on Saturday 
 January 13, 2024 at the Royal Canadian Legion, Branch 43, 471 Simcoe St S i
 n Oshawa (just north of the 401).  "Red Boots &amp; Bubbly" is our theme, s
 emi-formal Ukrainian style - we are asking everyone to wear their best embr
 oidered shirt, blouse, skirt, dress, bowtie, etc, rather than a suit, tuxed
 o or long gown.  This is a family Malanka - everyone is welcome, all ages, 
 bring the entire family.  Enjoy a full sit-down dinner with wine, door priz
 es, energetic music from Nervy (Нерви), and a special performance by the Od
 esa Ukrainian Dancers including a traditional Malanka presentation.  This i
 s a not-for-profit event - we just want to get together and have some fun, 
 but if we do make a profit,  all proceeds will be donated to humanitarian s
 upport for Ukraine  .\nDoors open at 5:30pm with dinner served at 6:00pm.  
 Tickets are $100 per adult, $50 per student (12-18), $25 per youth (5-11), 
 $25 per Odesa Dancer.  Purchase a 'reserved table' of 8 for $740 to save so
 me money &amp; pre-select your table, otherwise general seating is availabl
 e throughout the hall.  Tickets must be purchased in advance and will incre
 ase by $15 per ticket December 20.  Ticket sales end Dec 31.  No tickets wi
 ll be available at the door.  There is limited seating capacity so purchase
  your tickets today by contacting the Odesa Dancers at This email address i
 s being protected from spambots. You need JavaScript enabled to view it. or
  by calling John Stezik (c: 905-391-6248).
X-ALT-DESC;FMTTYPE=text/html:<div>The Odesa Ukrainian Dancers are sponsoring a&nbsp;<span style="color: 
 #ff0000;"><b><span style="font-size: large;">Vyshyvana Malanka</span></b>&n
 bsp;</span>on Saturday January 13, 2024 at the Royal Canadian Legion, Branc
 h 43, 471 Simcoe St S in Oshawa (just north of the 401). &nbsp;"Red Boots &
 amp; Bubbly" is our theme, semi-formal Ukrainian style - we are asking ever
 yone to wear their best embroidered shirt, blouse, skirt, dress, bowtie, et
 c, rather than a suit, tuxedo or long gown.&nbsp; This is a&nbsp;<span styl
 e="text-decoration: underline;">family</span>&nbsp;Malanka - everyone is we
 lcome,&nbsp;all ages, bring the entire family.&nbsp; Enjoy a full sit-down 
 dinner with wine, door prizes, energetic music from Nervy (Нерви), and a sp
 ecial performance by the Odesa Ukrainian Dancers including a traditional Ma
 lanka presentation.&nbsp; This is a not-for-profit event - we just want to 
 get together and have some fun, but if we do make a profit,&nbsp;&nbsp;<b><
 span style="color: #0000ff; font-size: large;">all proceeds will be donated
  to humanitarian support for Ukraine</span></b>&nbsp; .</div><div><br />Doo
 rs open at 5:30pm with dinner served at 6:00pm.&nbsp; Tickets are $100 per 
 adult, $50 per student (12-18), $25 per youth (5-11), $25 per Odesa Dancer.
 &nbsp; Purchase a 'reserved table' of 8 for $740 to save some money &amp; p
 re-select your table, otherwise general seating is available throughout the
  hall.&nbsp; Tickets must be purchased in advance and&nbsp;<b><span style="
 text-decoration: underline;">will increase by $15 per ticket December&nbsp;
 20</span></b>.&nbsp; Ticket sales end Dec 31.&nbsp; No tickets will be avai
 lable at the door.&nbsp; There is limited seating capacity so purchase your
  tickets today by contacting the Odesa Dancers at&nbsp;<joomla-hidden-mail 
  is-link="1" is-email="1" first="b2Rlc3NhZGFuY2Vycw==" last="Z21haWwuY29t" 
 text="b2Rlc3NhZGFuY2Vyc0BnbWFpbC5jb20=" base=""  target="_blank" rel="noope
 ner noreferrer">This email address is being protected from spambots. You ne
 ed JavaScript enabled to view it.</joomla-hidden-mail>&nbsp;or by calling J
 ohn Stezik (c: 905-391-6248).</div>
CONTACT:John Stezik
DTSTAMP:20260420T113411
DTSTART;TZID=America/Toronto:20240113T173000
DTEND;TZID=America/Toronto:20240113T000000
SEQUENCE:0
TRANSP:OPAQUE
END:VEVENT
END:VCALENDAR