BEGIN:VCALENDAR
VERSION:2.0
PRODID:-//jEvents 2.0 for Joomla//EN
CALSCALE:GREGORIAN
METHOD:PUBLISH
BEGIN:VTIMEZONE
TZID:America/Toronto
BEGIN:STANDARD
DTSTART:20230223T180000
RDATE:20230312T030000
TZOFFSETFROM:-0400
TZOFFSETTO:-0500
TZNAME:America/Toronto EST
END:STANDARD
BEGIN:STANDARD
DTSTART:20231105T010000
RDATE:20240310T030000
TZOFFSETFROM:-0400
TZOFFSETTO:-0500
TZNAME:America/Toronto EST
END:STANDARD
BEGIN:STANDARD
DTSTART:20241103T010000
RDATE:20250309T030000
TZOFFSETFROM:-0400
TZOFFSETTO:-0500
TZNAME:America/Toronto EST
END:STANDARD
BEGIN:STANDARD
DTSTART:20251102T010000
RDATE:20260308T030000
TZOFFSETFROM:-0400
TZOFFSETTO:-0500
TZNAME:America/Toronto EST
END:STANDARD
BEGIN:STANDARD
DTSTART:20261101T010000
RDATE:20270314T030000
TZOFFSETFROM:-0400
TZOFFSETTO:-0500
TZNAME:America/Toronto EST
END:STANDARD
BEGIN:STANDARD
DTSTART:20271107T010000
RDATE:20280312T030000
TZOFFSETFROM:-0400
TZOFFSETTO:-0500
TZNAME:America/Toronto EST
END:STANDARD
BEGIN:STANDARD
DTSTART:20281105T010000
RDATE:20290311T030000
TZOFFSETFROM:-0400
TZOFFSETTO:-0500
TZNAME:America/Toronto EST
END:STANDARD
BEGIN:STANDARD
DTSTART:20291104T010000
RDATE:20300310T030000
TZOFFSETFROM:-0400
TZOFFSETTO:-0500
TZNAME:America/Toronto EST
END:STANDARD
BEGIN:STANDARD
DTSTART:20301103T010000
RDATE:20310309T030000
TZOFFSETFROM:-0400
TZOFFSETTO:-0500
TZNAME:America/Toronto EST
END:STANDARD
BEGIN:STANDARD
DTSTART:20311102T010000
RDATE:20320314T030000
TZOFFSETFROM:-0400
TZOFFSETTO:-0500
TZNAME:America/Toronto EST
END:STANDARD
BEGIN:DAYLIGHT
DTSTART:20230312T030000
RDATE:20231105T010000
TZOFFSETFROM:-0500
TZOFFSETTO:-0400
TZNAME:America/Toronto EDT
END:DAYLIGHT
BEGIN:DAYLIGHT
DTSTART:20240310T030000
RDATE:20241103T010000
TZOFFSETFROM:-0500
TZOFFSETTO:-0400
TZNAME:America/Toronto EDT
END:DAYLIGHT
BEGIN:DAYLIGHT
DTSTART:20250309T030000
RDATE:20251102T010000
TZOFFSETFROM:-0500
TZOFFSETTO:-0400
TZNAME:America/Toronto EDT
END:DAYLIGHT
BEGIN:DAYLIGHT
DTSTART:20260308T030000
RDATE:20261101T010000
TZOFFSETFROM:-0500
TZOFFSETTO:-0400
TZNAME:America/Toronto EDT
END:DAYLIGHT
BEGIN:DAYLIGHT
DTSTART:20270314T030000
RDATE:20271107T010000
TZOFFSETFROM:-0500
TZOFFSETTO:-0400
TZNAME:America/Toronto EDT
END:DAYLIGHT
BEGIN:DAYLIGHT
DTSTART:20280312T030000
RDATE:20281105T010000
TZOFFSETFROM:-0500
TZOFFSETTO:-0400
TZNAME:America/Toronto EDT
END:DAYLIGHT
BEGIN:DAYLIGHT
DTSTART:20290311T030000
RDATE:20291104T010000
TZOFFSETFROM:-0500
TZOFFSETTO:-0400
TZNAME:America/Toronto EDT
END:DAYLIGHT
BEGIN:DAYLIGHT
DTSTART:20300310T030000
RDATE:20301103T010000
TZOFFSETFROM:-0500
TZOFFSETTO:-0400
TZNAME:America/Toronto EDT
END:DAYLIGHT
BEGIN:DAYLIGHT
DTSTART:20310309T030000
RDATE:20311102T010000
TZOFFSETFROM:-0500
TZOFFSETTO:-0400
TZNAME:America/Toronto EDT
END:DAYLIGHT
END:VTIMEZONE
BEGIN:VEVENT
UID:17d59c597e4558102bfc2bf9108143c6
CATEGORIES:Durham Events
CREATED:20231207T114704
SUMMARY:19th Annual Heart to Heart Gala
LOCATION:Deer Creek Golf &amp; Banquet Facility\, 2700 Audley Rd. N.\, Ajax
DESCRIPTION:Catholic Family Services of Durham is pleased to announce that tickets are 
 on sale now for our 19th Annual Heart to Heart Gala!\nJoin us for a lovely 
 evening which includes a 3-course dinner with wine, a DJ-dance, raffles, li
 ve and silent auction. Tickets are $120 each, and a tax receipt will be iss
 ued for the donation portion of the ticket. \nThe funds raised at this even
 t support programs and services to support the most vulnerable among us, re
 gardless of ability to pay or religious beliefs.\nTo purchase tickets or to
  make a donation, please visit: Heart to Heart Gala 2024 (trellis.org) (htt
 ps://trellis.org/heart-to-heart-gala-2024)\n
X-ALT-DESC;FMTTYPE=text/html:<p>Catholic Family Services of Durham is pleased to announce that tickets a
 re on sale now for our 19th Annual Heart to Heart Gala!</p><p>Join us for a
  lovely evening which includes a 3-course dinner with wine, a DJ-dance, raf
 fles, live and silent auction. Tickets are $120 each, and a tax receipt wil
 l be issued for the donation portion of the ticket. </p><p>The funds raised
  at this event support programs and services to support the most vulnerable
  among us, regardless of ability to pay or religious beliefs.</p><p>To purc
 hase tickets or to make a donation, please visit: <a href="https://trellis.
 org/heart-to-heart-gala-2024">Heart to Heart Gala 2024 (trellis.org)</a></p
 >
CONTACT:Tania at This email address is being protected from spambots. You need JavaScript enabled to view it.
DTSTAMP:20260420T204455
DTSTART;TZID=America/Toronto:20240224T180000
DTEND;TZID=America/Toronto:20240224T233000
SEQUENCE:0
TRANSP:OPAQUE
END:VEVENT
END:VCALENDAR