BEGIN:VCALENDAR
VERSION:2.0
PRODID:-//jEvents 2.0 for Joomla//EN
CALSCALE:GREGORIAN
METHOD:PUBLISH
BEGIN:VTIMEZONE
TZID:America/Toronto
BEGIN:STANDARD
DTSTART:20230117T190000
RDATE:20230312T030000
TZOFFSETFROM:-0400
TZOFFSETTO:-0500
TZNAME:America/Toronto EST
END:STANDARD
BEGIN:STANDARD
DTSTART:20231105T010000
RDATE:20240310T030000
TZOFFSETFROM:-0400
TZOFFSETTO:-0500
TZNAME:America/Toronto EST
END:STANDARD
BEGIN:STANDARD
DTSTART:20241103T010000
RDATE:20250309T030000
TZOFFSETFROM:-0400
TZOFFSETTO:-0500
TZNAME:America/Toronto EST
END:STANDARD
BEGIN:STANDARD
DTSTART:20251102T010000
RDATE:20260308T030000
TZOFFSETFROM:-0400
TZOFFSETTO:-0500
TZNAME:America/Toronto EST
END:STANDARD
BEGIN:STANDARD
DTSTART:20261101T010000
RDATE:20270314T030000
TZOFFSETFROM:-0400
TZOFFSETTO:-0500
TZNAME:America/Toronto EST
END:STANDARD
BEGIN:STANDARD
DTSTART:20271107T010000
RDATE:20280312T030000
TZOFFSETFROM:-0400
TZOFFSETTO:-0500
TZNAME:America/Toronto EST
END:STANDARD
BEGIN:STANDARD
DTSTART:20281105T010000
RDATE:20290311T030000
TZOFFSETFROM:-0400
TZOFFSETTO:-0500
TZNAME:America/Toronto EST
END:STANDARD
BEGIN:STANDARD
DTSTART:20291104T010000
RDATE:20300310T030000
TZOFFSETFROM:-0400
TZOFFSETTO:-0500
TZNAME:America/Toronto EST
END:STANDARD
BEGIN:STANDARD
DTSTART:20301103T010000
RDATE:20310309T030000
TZOFFSETFROM:-0400
TZOFFSETTO:-0500
TZNAME:America/Toronto EST
END:STANDARD
BEGIN:STANDARD
DTSTART:20311102T010000
RDATE:20320314T030000
TZOFFSETFROM:-0400
TZOFFSETTO:-0500
TZNAME:America/Toronto EST
END:STANDARD
BEGIN:DAYLIGHT
DTSTART:20230312T030000
RDATE:20231105T010000
TZOFFSETFROM:-0500
TZOFFSETTO:-0400
TZNAME:America/Toronto EDT
END:DAYLIGHT
BEGIN:DAYLIGHT
DTSTART:20240310T030000
RDATE:20241103T010000
TZOFFSETFROM:-0500
TZOFFSETTO:-0400
TZNAME:America/Toronto EDT
END:DAYLIGHT
BEGIN:DAYLIGHT
DTSTART:20250309T030000
RDATE:20251102T010000
TZOFFSETFROM:-0500
TZOFFSETTO:-0400
TZNAME:America/Toronto EDT
END:DAYLIGHT
BEGIN:DAYLIGHT
DTSTART:20260308T030000
RDATE:20261101T010000
TZOFFSETFROM:-0500
TZOFFSETTO:-0400
TZNAME:America/Toronto EDT
END:DAYLIGHT
BEGIN:DAYLIGHT
DTSTART:20270314T030000
RDATE:20271107T010000
TZOFFSETFROM:-0500
TZOFFSETTO:-0400
TZNAME:America/Toronto EDT
END:DAYLIGHT
BEGIN:DAYLIGHT
DTSTART:20280312T030000
RDATE:20281105T010000
TZOFFSETFROM:-0500
TZOFFSETTO:-0400
TZNAME:America/Toronto EDT
END:DAYLIGHT
BEGIN:DAYLIGHT
DTSTART:20290311T030000
RDATE:20291104T010000
TZOFFSETFROM:-0500
TZOFFSETTO:-0400
TZNAME:America/Toronto EDT
END:DAYLIGHT
BEGIN:DAYLIGHT
DTSTART:20300310T030000
RDATE:20301103T010000
TZOFFSETFROM:-0500
TZOFFSETTO:-0400
TZNAME:America/Toronto EDT
END:DAYLIGHT
BEGIN:DAYLIGHT
DTSTART:20310309T030000
RDATE:20311102T010000
TZOFFSETFROM:-0500
TZOFFSETTO:-0400
TZNAME:America/Toronto EDT
END:DAYLIGHT
END:VTIMEZONE
BEGIN:VEVENT
UID:513f09ffe5f066c37236e5c31d9d7efb
CATEGORIES:Durham Events
CREATED:20231206T170411
SUMMARY:Art Talks with Olex — Part 1
LOCATION:405 Dundas Street West\, Whitby\, ON\, L1N 6A1
DESCRIPTION:Art Talks with Olex — Part 1These popular art talks will expand your apprec
 iation of art and culture with the perfect blend of scholarly information, 
 academic influence, humour and approachability. Join Station Gallery Curato
 r Olex Wlasenko for this dynamic 5-part lecture series. \nPart 1: Synchroni
 cities – Art &amp; Movies \nA follow-up performance in an ever-expanding se
 ries exploring visual art and cinema. Never has the intersection of art and
  film been as pronounced as today. In his latest edition, Wlasenko observes
  the influence of moving images on still imagery and vice versa.\nThis prog
 ram is offered at the Central Library of the Whitby Public Library.\nRegist
 ration is required. (https://whitbylibrary.libcal.com/event/3739332)\n
X-ALT-DESC;FMTTYPE=text/html:<h1 class="media-heading">Art Talks with Olex — Part 1</h1><div id="s-lc-ev
 ent-desc"><p lang="EN-US" xmllang="EN-US">These popular art talks will expa
 nd your appreciation of art and culture with the perfect blend of scholarly
  information, academic influence, humour and approachability. Join Station 
 Gallery Curator Olex Wlasenko for this dynamic 5-part lecture series. </p><
 p lang="EN-US" xmllang="EN-US"><strong>Part 1: Synchronicities –</strong> <
 strong>Art &amp; Movies </strong></p><p lang="EN-US" xmllang="EN-US">A foll
 ow-up performance in an ever-expanding series exploring visual art and cine
 ma. Never has the intersection of art and film been as pronounced as today.
  In his latest edition, Wlasenko observes the influence of moving images on
  still imagery and vice versa.</p><p lang="EN-US" xmllang="EN-US">This prog
 ram is offered at the Central Library of the Whitby Public Library.</p><p l
 ang="EN-US" xmllang="EN-US"><a href="https://whitbylibrary.libcal.com/event
 /3739332">Registration is required.</a></p></div>
DTSTAMP:20260420T125814
DTSTART;TZID=America/Toronto:20240118T190000
DTEND;TZID=America/Toronto:20240118T200000
SEQUENCE:0
TRANSP:OPAQUE
END:VEVENT
END:VCALENDAR