BEGIN:VCALENDAR
VERSION:2.0
PRODID:-//jEvents 2.0 for Joomla//EN
CALSCALE:GREGORIAN
METHOD:PUBLISH
BEGIN:VTIMEZONE
TZID:America/Toronto
BEGIN:STANDARD
DTSTART:20221116T110000
RDATE:20230312T030000
TZOFFSETFROM:-0400
TZOFFSETTO:-0500
TZNAME:America/Toronto EST
END:STANDARD
BEGIN:STANDARD
DTSTART:20231105T010000
RDATE:20240310T030000
TZOFFSETFROM:-0400
TZOFFSETTO:-0500
TZNAME:America/Toronto EST
END:STANDARD
BEGIN:STANDARD
DTSTART:20241103T010000
RDATE:20250309T030000
TZOFFSETFROM:-0400
TZOFFSETTO:-0500
TZNAME:America/Toronto EST
END:STANDARD
BEGIN:STANDARD
DTSTART:20251102T010000
RDATE:20260308T030000
TZOFFSETFROM:-0400
TZOFFSETTO:-0500
TZNAME:America/Toronto EST
END:STANDARD
BEGIN:STANDARD
DTSTART:20261101T010000
RDATE:20270314T030000
TZOFFSETFROM:-0400
TZOFFSETTO:-0500
TZNAME:America/Toronto EST
END:STANDARD
BEGIN:STANDARD
DTSTART:20271107T010000
RDATE:20280312T030000
TZOFFSETFROM:-0400
TZOFFSETTO:-0500
TZNAME:America/Toronto EST
END:STANDARD
BEGIN:STANDARD
DTSTART:20281105T010000
RDATE:20290311T030000
TZOFFSETFROM:-0400
TZOFFSETTO:-0500
TZNAME:America/Toronto EST
END:STANDARD
BEGIN:STANDARD
DTSTART:20291104T010000
RDATE:20300310T030000
TZOFFSETFROM:-0400
TZOFFSETTO:-0500
TZNAME:America/Toronto EST
END:STANDARD
BEGIN:STANDARD
DTSTART:20301103T010000
RDATE:20310309T030000
TZOFFSETFROM:-0400
TZOFFSETTO:-0500
TZNAME:America/Toronto EST
END:STANDARD
BEGIN:STANDARD
DTSTART:20311102T010000
RDATE:20320314T030000
TZOFFSETFROM:-0400
TZOFFSETTO:-0500
TZNAME:America/Toronto EST
END:STANDARD
BEGIN:DAYLIGHT
DTSTART:20230312T030000
RDATE:20231105T010000
TZOFFSETFROM:-0500
TZOFFSETTO:-0400
TZNAME:America/Toronto EDT
END:DAYLIGHT
BEGIN:DAYLIGHT
DTSTART:20240310T030000
RDATE:20241103T010000
TZOFFSETFROM:-0500
TZOFFSETTO:-0400
TZNAME:America/Toronto EDT
END:DAYLIGHT
BEGIN:DAYLIGHT
DTSTART:20250309T030000
RDATE:20251102T010000
TZOFFSETFROM:-0500
TZOFFSETTO:-0400
TZNAME:America/Toronto EDT
END:DAYLIGHT
BEGIN:DAYLIGHT
DTSTART:20260308T030000
RDATE:20261101T010000
TZOFFSETFROM:-0500
TZOFFSETTO:-0400
TZNAME:America/Toronto EDT
END:DAYLIGHT
BEGIN:DAYLIGHT
DTSTART:20270314T030000
RDATE:20271107T010000
TZOFFSETFROM:-0500
TZOFFSETTO:-0400
TZNAME:America/Toronto EDT
END:DAYLIGHT
BEGIN:DAYLIGHT
DTSTART:20280312T030000
RDATE:20281105T010000
TZOFFSETFROM:-0500
TZOFFSETTO:-0400
TZNAME:America/Toronto EDT
END:DAYLIGHT
BEGIN:DAYLIGHT
DTSTART:20290311T030000
RDATE:20291104T010000
TZOFFSETFROM:-0500
TZOFFSETTO:-0400
TZNAME:America/Toronto EDT
END:DAYLIGHT
BEGIN:DAYLIGHT
DTSTART:20300310T030000
RDATE:20301103T010000
TZOFFSETFROM:-0500
TZOFFSETTO:-0400
TZNAME:America/Toronto EDT
END:DAYLIGHT
BEGIN:DAYLIGHT
DTSTART:20310309T030000
RDATE:20311102T010000
TZOFFSETFROM:-0500
TZOFFSETTO:-0400
TZNAME:America/Toronto EDT
END:DAYLIGHT
END:VTIMEZONE
BEGIN:VEVENT
UID:797b0f04515adff97e93320bd6fad733
CATEGORIES:Durham Events
CREATED:20231104T130811
SUMMARY:Healthy Living for Diabetes: Cooking Demo
LOCATION:200 Kenneth Hobbs Avenue
DESCRIPTION:YOU’RE INVITED TO A SERIES IN WELLNESS!\n \nSelf-care is always in season! 
 Join us at Amica Whitby, a senior lifestyles residence, for a wellness-focu
 sed events.\n \nCOOKING DEMO: HEALTHY EATING FOR DIABETES\nWatch our Red Se
 al chef prepare delicious, diabetic-friendly dishes.\nLearn, taste and ente
 r to win a private dinner party for four!\nFriday, November 17 | 11:00 AM –
  12:00 PM\nAt the event, we’ll offer a guided tour of our premium suites an
 d amenities.\nSpots are limited!\nPlease RSVP at least two days before each
  event to Katarina or Lynn at 905-665-6200.\nWe look forward to seeing you!
 \n
X-ALT-DESC;FMTTYPE=text/html:<p>YOU’RE INVITED TO A SERIES IN WELLNESS!</p><p> </p><p>Self-care is alway
 s in season! Join us at Amica Whitby, a senior lifestyles residence, for a 
 wellness-focused events.</p><p> </p><p>COOKING DEMO: HEALTHY EATING FOR DIA
 BETES</p><p>Watch our Red Seal chef prepare delicious, diabetic-friendly di
 shes.</p><p>Learn, taste and enter to win a private dinner party for four!<
 /p><p>Friday, November 17 | 11:00 AM – 12:00 PM</p><p>At the event, we’ll o
 ffer a guided tour of our premium suites and amenities.</p><p>Spots are lim
 ited!</p><p>Please RSVP at least two days before each event to Katarina or 
 Lynn at 905-665-6200.</p><p>We look forward to seeing you!</p>
CONTACT:Katarina or Lynn
X-EXTRAINFO:905-665-6200
DTSTAMP:20260421T041213
DTSTART;TZID=America/Toronto:20231117T110000
DTEND;TZID=America/Toronto:20231117T120000
SEQUENCE:0
TRANSP:OPAQUE
END:VEVENT
END:VCALENDAR