BEGIN:VCALENDAR
VERSION:2.0
PRODID:-//jEvents 2.0 for Joomla//EN
CALSCALE:GREGORIAN
METHOD:PUBLISH
BEGIN:VTIMEZONE
TZID:America/Toronto
BEGIN:STANDARD
DTSTART:20231105T010000
RDATE:20240310T030000
TZOFFSETFROM:-0400
TZOFFSETTO:-0500
TZNAME:America/Toronto EST
END:STANDARD
BEGIN:STANDARD
DTSTART:20241103T010000
RDATE:20250309T030000
TZOFFSETFROM:-0400
TZOFFSETTO:-0500
TZNAME:America/Toronto EST
END:STANDARD
BEGIN:STANDARD
DTSTART:20251102T010000
RDATE:20260308T030000
TZOFFSETFROM:-0400
TZOFFSETTO:-0500
TZNAME:America/Toronto EST
END:STANDARD
BEGIN:STANDARD
DTSTART:20261101T010000
RDATE:20270314T030000
TZOFFSETFROM:-0400
TZOFFSETTO:-0500
TZNAME:America/Toronto EST
END:STANDARD
BEGIN:STANDARD
DTSTART:20271107T010000
RDATE:20280312T030000
TZOFFSETFROM:-0400
TZOFFSETTO:-0500
TZNAME:America/Toronto EST
END:STANDARD
BEGIN:STANDARD
DTSTART:20281105T010000
RDATE:20290311T030000
TZOFFSETFROM:-0400
TZOFFSETTO:-0500
TZNAME:America/Toronto EST
END:STANDARD
BEGIN:STANDARD
DTSTART:20291104T010000
RDATE:20300310T030000
TZOFFSETFROM:-0400
TZOFFSETTO:-0500
TZNAME:America/Toronto EST
END:STANDARD
BEGIN:STANDARD
DTSTART:20301103T010000
RDATE:20310309T030000
TZOFFSETFROM:-0400
TZOFFSETTO:-0500
TZNAME:America/Toronto EST
END:STANDARD
BEGIN:STANDARD
DTSTART:20311102T010000
RDATE:20320314T030000
TZOFFSETFROM:-0400
TZOFFSETTO:-0500
TZNAME:America/Toronto EST
END:STANDARD
BEGIN:DAYLIGHT
DTSTART:20230413T180000
RDATE:20231105T010000
TZOFFSETFROM:-0500
TZOFFSETTO:-0400
TZNAME:America/Toronto EDT
END:DAYLIGHT
BEGIN:DAYLIGHT
DTSTART:20240310T030000
RDATE:20241103T010000
TZOFFSETFROM:-0500
TZOFFSETTO:-0400
TZNAME:America/Toronto EDT
END:DAYLIGHT
BEGIN:DAYLIGHT
DTSTART:20250309T030000
RDATE:20251102T010000
TZOFFSETFROM:-0500
TZOFFSETTO:-0400
TZNAME:America/Toronto EDT
END:DAYLIGHT
BEGIN:DAYLIGHT
DTSTART:20260308T030000
RDATE:20261101T010000
TZOFFSETFROM:-0500
TZOFFSETTO:-0400
TZNAME:America/Toronto EDT
END:DAYLIGHT
BEGIN:DAYLIGHT
DTSTART:20270314T030000
RDATE:20271107T010000
TZOFFSETFROM:-0500
TZOFFSETTO:-0400
TZNAME:America/Toronto EDT
END:DAYLIGHT
BEGIN:DAYLIGHT
DTSTART:20280312T030000
RDATE:20281105T010000
TZOFFSETFROM:-0500
TZOFFSETTO:-0400
TZNAME:America/Toronto EDT
END:DAYLIGHT
BEGIN:DAYLIGHT
DTSTART:20290311T030000
RDATE:20291104T010000
TZOFFSETFROM:-0500
TZOFFSETTO:-0400
TZNAME:America/Toronto EDT
END:DAYLIGHT
BEGIN:DAYLIGHT
DTSTART:20300310T030000
RDATE:20301103T010000
TZOFFSETFROM:-0500
TZOFFSETTO:-0400
TZNAME:America/Toronto EDT
END:DAYLIGHT
BEGIN:DAYLIGHT
DTSTART:20310309T030000
RDATE:20311102T010000
TZOFFSETFROM:-0500
TZOFFSETTO:-0400
TZNAME:America/Toronto EDT
END:DAYLIGHT
END:VTIMEZONE
BEGIN:VEVENT
UID:749c55903492029eb4e5ace4a86c2225
CATEGORIES:Durham Events
CREATED:20231102T140602
SUMMARY:Hearth Place Disco Ball
LOCATION:Ajax Convention Centre
DESCRIPTION:On Saturday April 13, 2024, approximately 250 guests will be participating 
 in Hearth Place Cancer Support Centre’s annual charity gala at the Ajax Con
 vention Centre.  Each attendee will enjoy a glamourous evening of delicious
  dining, a live band, silent auction and fun entertainment.  This year’s th
 eme is the Hearth Place Disco Ball! Those in attendance will represent an i
 mpressive list of prominent community members, patients, family and friends
 . Proceeds from the event support the programs and services offered at Hear
 th Place.\nWhy Support Hearth Place? Hearth Place is the only cancer suppor
 t centre in the Durham Region and provides support to anyone impacted by a 
 cancer diagnosis, including patients, caregivers, children and teens. Our s
 ervices are provided free of charge, ensuring that anyone who needs support
  is able to access it. Our support is needed now more than ever.\nTo purcha
 se tickets please contact Danielle Carroll by email This email address is b
 eing protected from spambots. You need JavaScript enabled to view it. or ph
 one 905-579-4833.\n
X-ALT-DESC;FMTTYPE=text/html:<p>On Saturday April 13, 2024, approximately 250 guests will be participati
 ng in Hearth Place Cancer Support Centre’s annual charity gala at the Ajax 
 Convention Centre.  Each attendee will enjoy a glamourous evening of delici
 ous dining, a live band, silent auction and fun entertainment.  This year’s
  theme is the <em>Hearth Place Disco Ball</em>! Those in attendance will re
 present an impressive list of prominent community members, patients, family
  and friends. Proceeds from the event support the programs and services off
 ered at Hearth Place.</p><p><strong><em>Why Support Hearth Place?</em></str
 ong> Hearth Place is the only cancer support centre in the Durham Region an
 d provides support to anyone impacted by a cancer diagnosis, including pati
 ents, caregivers, children and teens. Our services are provided free of cha
 rge, ensuring that anyone who needs support is able to access it. Our suppo
 rt is needed now more than ever.</p><p>To purchase tickets please contact D
 anielle Carroll by email <joomla-hidden-mail  is-link="1" is-email="1" firs
 t="ZGFuaWVsbGU=" last="aGVhcnRocGxhY2Uub3Jn" text="ZGFuaWVsbGVAaGVhcnRocGxh
 Y2Uub3Jn" base="" >This email address is being protected from spambots. You
  need JavaScript enabled to view it.</joomla-hidden-mail> or phone 905-579-
 4833.</p>
CONTACT:Danielle Carroll 
DTSTAMP:20260421T045104
DTSTART;TZID=America/Toronto:20240413T180000
SEQUENCE:0
TRANSP:OPAQUE
END:VEVENT
END:VCALENDAR