BEGIN:VCALENDAR
VERSION:2.0
PRODID:-//jEvents 2.0 for Joomla//EN
CALSCALE:GREGORIAN
METHOD:PUBLISH
BEGIN:VTIMEZONE
TZID:America/Toronto
BEGIN:STANDARD
DTSTART:20221117T090000
RDATE:20230312T030000
TZOFFSETFROM:-0400
TZOFFSETTO:-0500
TZNAME:America/Toronto EST
END:STANDARD
BEGIN:STANDARD
DTSTART:20231105T010000
RDATE:20240310T030000
TZOFFSETFROM:-0400
TZOFFSETTO:-0500
TZNAME:America/Toronto EST
END:STANDARD
BEGIN:STANDARD
DTSTART:20241103T010000
RDATE:20250309T030000
TZOFFSETFROM:-0400
TZOFFSETTO:-0500
TZNAME:America/Toronto EST
END:STANDARD
BEGIN:STANDARD
DTSTART:20251102T010000
RDATE:20260308T030000
TZOFFSETFROM:-0400
TZOFFSETTO:-0500
TZNAME:America/Toronto EST
END:STANDARD
BEGIN:STANDARD
DTSTART:20261101T010000
RDATE:20270314T030000
TZOFFSETFROM:-0400
TZOFFSETTO:-0500
TZNAME:America/Toronto EST
END:STANDARD
BEGIN:STANDARD
DTSTART:20271107T010000
RDATE:20280312T030000
TZOFFSETFROM:-0400
TZOFFSETTO:-0500
TZNAME:America/Toronto EST
END:STANDARD
BEGIN:STANDARD
DTSTART:20281105T010000
RDATE:20290311T030000
TZOFFSETFROM:-0400
TZOFFSETTO:-0500
TZNAME:America/Toronto EST
END:STANDARD
BEGIN:STANDARD
DTSTART:20291104T010000
RDATE:20300310T030000
TZOFFSETFROM:-0400
TZOFFSETTO:-0500
TZNAME:America/Toronto EST
END:STANDARD
BEGIN:STANDARD
DTSTART:20301103T010000
RDATE:20310309T030000
TZOFFSETFROM:-0400
TZOFFSETTO:-0500
TZNAME:America/Toronto EST
END:STANDARD
BEGIN:STANDARD
DTSTART:20311102T010000
RDATE:20320314T030000
TZOFFSETFROM:-0400
TZOFFSETTO:-0500
TZNAME:America/Toronto EST
END:STANDARD
BEGIN:DAYLIGHT
DTSTART:20230312T030000
RDATE:20231105T010000
TZOFFSETFROM:-0500
TZOFFSETTO:-0400
TZNAME:America/Toronto EDT
END:DAYLIGHT
BEGIN:DAYLIGHT
DTSTART:20240310T030000
RDATE:20241103T010000
TZOFFSETFROM:-0500
TZOFFSETTO:-0400
TZNAME:America/Toronto EDT
END:DAYLIGHT
BEGIN:DAYLIGHT
DTSTART:20250309T030000
RDATE:20251102T010000
TZOFFSETFROM:-0500
TZOFFSETTO:-0400
TZNAME:America/Toronto EDT
END:DAYLIGHT
BEGIN:DAYLIGHT
DTSTART:20260308T030000
RDATE:20261101T010000
TZOFFSETFROM:-0500
TZOFFSETTO:-0400
TZNAME:America/Toronto EDT
END:DAYLIGHT
BEGIN:DAYLIGHT
DTSTART:20270314T030000
RDATE:20271107T010000
TZOFFSETFROM:-0500
TZOFFSETTO:-0400
TZNAME:America/Toronto EDT
END:DAYLIGHT
BEGIN:DAYLIGHT
DTSTART:20280312T030000
RDATE:20281105T010000
TZOFFSETFROM:-0500
TZOFFSETTO:-0400
TZNAME:America/Toronto EDT
END:DAYLIGHT
BEGIN:DAYLIGHT
DTSTART:20290311T030000
RDATE:20291104T010000
TZOFFSETFROM:-0500
TZOFFSETTO:-0400
TZNAME:America/Toronto EDT
END:DAYLIGHT
BEGIN:DAYLIGHT
DTSTART:20300310T030000
RDATE:20301103T010000
TZOFFSETFROM:-0500
TZOFFSETTO:-0400
TZNAME:America/Toronto EDT
END:DAYLIGHT
BEGIN:DAYLIGHT
DTSTART:20310309T030000
RDATE:20311102T010000
TZOFFSETFROM:-0500
TZOFFSETTO:-0400
TZNAME:America/Toronto EDT
END:DAYLIGHT
END:VTIMEZONE
BEGIN:VEVENT
UID:44c8807dd5982932674841cbca756daf
CATEGORIES:Durham Events
CREATED:20231030T130806
SUMMARY:Hearth Place Cancer Support Centre Winter Market  
LOCATION:Hearth Place Cancer Support Centre\, 86 Colborne Street\, West\, Oshawa\, L
 1G 1L7
DESCRIPTION:Hearth Place Cancer Support Centre is hosting our first Annual Winter Marke
 t.  \nAdmission is $5.00 come shop local vendors and participate in our pro
 motional raffles.  See what Hearth Place Cancer Support has to offer to peo
 ple in the community who have been effected by cancer.   \nhttps://hearthpl
 ace.org/events/wintermarket/\n \n \n
X-ALT-DESC;FMTTYPE=text/html:<p>H<span style="font-size: 13.0pt; font-family: 'Arial',sans-serif; color:
  #08202b;">earth Place Cancer Support Centre is hosting our first Annual Wi
 nter Market.  </span></p><p style="font-variant-ligatures: normal; font-var
 iant-caps: normal; orphans: 2; widows: 2; -webkit-text-stroke-width: 0px; t
 ext-decoration-thickness: initial; text-decoration-style: initial; text-dec
 oration-color: initial; word-spacing: 0px; margin: 7.5pt 0in 7.5pt 0in;"><s
 pan style="font-size: 13.0pt; font-family: 'Arial',sans-serif; color: #0820
 2b;">Admission is $5.00 come shop local vendors and participate in our prom
 otional raffles.  See what Hearth Place Cancer Support has to offer to peop
 le in the community who have been effected by cancer.   </span></p><p style
 ="font-variant-ligatures: normal; font-variant-caps: normal; orphans: 2; wi
 dows: 2; -webkit-text-stroke-width: 0px; text-decoration-thickness: initial
 ; text-decoration-style: initial; text-decoration-color: initial; word-spac
 ing: 0px; margin: 7.5pt 0in 7.5pt 0in;"><span style="font-size: 13.0pt; fon
 t-family: 'Arial',sans-serif; color: #08202b;">https://hearthplace.org/even
 ts/wintermarket/</span></p><p> </p><p> </p>
CONTACT:Danielle Carroll This email address is being protected from spambots. You need JavaScript enabled to view it.
DTSTAMP:20260421T073146
DTSTART;TZID=America/Toronto:20231118T090000
DTEND;TZID=America/Toronto:20231118T150000
SEQUENCE:0
TRANSP:OPAQUE
END:VEVENT
END:VCALENDAR