BEGIN:VCALENDAR
VERSION:2.0
PRODID:-//jEvents 2.0 for Joomla//EN
CALSCALE:GREGORIAN
METHOD:PUBLISH
BEGIN:VTIMEZONE
TZID:America/Toronto
BEGIN:STANDARD
DTSTART:20221116T200000
RDATE:20230312T030000
TZOFFSETFROM:-0400
TZOFFSETTO:-0500
TZNAME:America/Toronto EST
END:STANDARD
BEGIN:STANDARD
DTSTART:20231105T010000
RDATE:20240310T030000
TZOFFSETFROM:-0400
TZOFFSETTO:-0500
TZNAME:America/Toronto EST
END:STANDARD
BEGIN:STANDARD
DTSTART:20241103T010000
RDATE:20250309T030000
TZOFFSETFROM:-0400
TZOFFSETTO:-0500
TZNAME:America/Toronto EST
END:STANDARD
BEGIN:STANDARD
DTSTART:20251102T010000
RDATE:20260308T030000
TZOFFSETFROM:-0400
TZOFFSETTO:-0500
TZNAME:America/Toronto EST
END:STANDARD
BEGIN:STANDARD
DTSTART:20261101T010000
RDATE:20270314T030000
TZOFFSETFROM:-0400
TZOFFSETTO:-0500
TZNAME:America/Toronto EST
END:STANDARD
BEGIN:STANDARD
DTSTART:20271107T010000
RDATE:20280312T030000
TZOFFSETFROM:-0400
TZOFFSETTO:-0500
TZNAME:America/Toronto EST
END:STANDARD
BEGIN:STANDARD
DTSTART:20281105T010000
RDATE:20290311T030000
TZOFFSETFROM:-0400
TZOFFSETTO:-0500
TZNAME:America/Toronto EST
END:STANDARD
BEGIN:STANDARD
DTSTART:20291104T010000
RDATE:20300310T030000
TZOFFSETFROM:-0400
TZOFFSETTO:-0500
TZNAME:America/Toronto EST
END:STANDARD
BEGIN:STANDARD
DTSTART:20301103T010000
RDATE:20310309T030000
TZOFFSETFROM:-0400
TZOFFSETTO:-0500
TZNAME:America/Toronto EST
END:STANDARD
BEGIN:STANDARD
DTSTART:20311102T010000
RDATE:20320314T030000
TZOFFSETFROM:-0400
TZOFFSETTO:-0500
TZNAME:America/Toronto EST
END:STANDARD
BEGIN:DAYLIGHT
DTSTART:20230312T030000
RDATE:20231105T010000
TZOFFSETFROM:-0500
TZOFFSETTO:-0400
TZNAME:America/Toronto EDT
END:DAYLIGHT
BEGIN:DAYLIGHT
DTSTART:20240310T030000
RDATE:20241103T010000
TZOFFSETFROM:-0500
TZOFFSETTO:-0400
TZNAME:America/Toronto EDT
END:DAYLIGHT
BEGIN:DAYLIGHT
DTSTART:20250309T030000
RDATE:20251102T010000
TZOFFSETFROM:-0500
TZOFFSETTO:-0400
TZNAME:America/Toronto EDT
END:DAYLIGHT
BEGIN:DAYLIGHT
DTSTART:20260308T030000
RDATE:20261101T010000
TZOFFSETFROM:-0500
TZOFFSETTO:-0400
TZNAME:America/Toronto EDT
END:DAYLIGHT
BEGIN:DAYLIGHT
DTSTART:20270314T030000
RDATE:20271107T010000
TZOFFSETFROM:-0500
TZOFFSETTO:-0400
TZNAME:America/Toronto EDT
END:DAYLIGHT
BEGIN:DAYLIGHT
DTSTART:20280312T030000
RDATE:20281105T010000
TZOFFSETFROM:-0500
TZOFFSETTO:-0400
TZNAME:America/Toronto EDT
END:DAYLIGHT
BEGIN:DAYLIGHT
DTSTART:20290311T030000
RDATE:20291104T010000
TZOFFSETFROM:-0500
TZOFFSETTO:-0400
TZNAME:America/Toronto EDT
END:DAYLIGHT
BEGIN:DAYLIGHT
DTSTART:20300310T030000
RDATE:20301103T010000
TZOFFSETFROM:-0500
TZOFFSETTO:-0400
TZNAME:America/Toronto EDT
END:DAYLIGHT
BEGIN:DAYLIGHT
DTSTART:20310309T030000
RDATE:20311102T010000
TZOFFSETFROM:-0500
TZOFFSETTO:-0400
TZNAME:America/Toronto EDT
END:DAYLIGHT
END:VTIMEZONE
BEGIN:VEVENT
UID:b089636d1a11d70dec1b16dc5e0f5b37
CATEGORIES:Durham Events
CREATED:20231025T143001
SUMMARY:Music Cares - a fundraiser for Oshawa Mental Health
LOCATION:Jubilee Pavilion\, Lakeview Park\, Oshawa
DESCRIPTION:A fundraising concert for Oshawa Mental Health and The Drive Foundation (a 
 charity founded by the music industry to support mental health initiatives)
 .\nHeadliner:  Jack deKeyzer\nBack up band:  Mark W and the Doctors of Musi
 c\nDate:  Friday, November 17\nLocation:  Jubilee Pavilion, 55 Lakeview Par
 k Ave, Oshawa\nTickets:  $25 (must be over 18 to attend)\nTickets are limit
 ed so, reserve now by contacting     This email address is being protected 
 from spambots. You need JavaScript enabled to view it.\n
X-ALT-DESC;FMTTYPE=text/html:<p>A fundraising concert for Oshawa Mental Health and The Drive Foundation 
 (a charity founded by the music industry to support mental health initiativ
 es).</p><p>Headliner:  Jack deKeyzer</p><p>Back up band:  Mark W and the Do
 ctors of Music</p><p>Date:  Friday, November 17</p><p>Location:  Jubilee Pa
 vilion, 55 Lakeview Park Ave, Oshawa</p><p>Tickets:  $25 (must be over 18 t
 o attend)</p><p>Tickets are limited so, reserve now by contacting     <joom
 la-hidden-mail  is-link="1" is-email="1" first="bXJ2ZXQx" last="aG90bWFpbC5
 jb20=" text="bXJ2ZXQxQGhvdG1haWwuY29t" base="" >This email address is being
  protected from spambots. You need JavaScript enabled to view it.</joomla-h
 idden-mail></p>
CONTACT:Mark    This email address is being protected from spambots. You need JavaScript enabled to view it.
DTSTAMP:20260421T054817
DTSTART;TZID=America/Toronto:20231117T200000
DTEND;TZID=America/Toronto:20231117T234500
SEQUENCE:0
TRANSP:OPAQUE
END:VEVENT
END:VCALENDAR