BEGIN:VCALENDAR
VERSION:2.0
PRODID:-//jEvents 2.0 for Joomla//EN
CALSCALE:GREGORIAN
METHOD:PUBLISH
BEGIN:VTIMEZONE
TZID:America/Toronto
BEGIN:STANDARD
DTSTART:20221109T190000
RDATE:20230312T030000
TZOFFSETFROM:-0400
TZOFFSETTO:-0500
TZNAME:America/Toronto EST
END:STANDARD
BEGIN:STANDARD
DTSTART:20231105T010000
RDATE:20240310T030000
TZOFFSETFROM:-0400
TZOFFSETTO:-0500
TZNAME:America/Toronto EST
END:STANDARD
BEGIN:STANDARD
DTSTART:20241103T010000
RDATE:20250309T030000
TZOFFSETFROM:-0400
TZOFFSETTO:-0500
TZNAME:America/Toronto EST
END:STANDARD
BEGIN:STANDARD
DTSTART:20251102T010000
RDATE:20260308T030000
TZOFFSETFROM:-0400
TZOFFSETTO:-0500
TZNAME:America/Toronto EST
END:STANDARD
BEGIN:STANDARD
DTSTART:20261101T010000
RDATE:20270314T030000
TZOFFSETFROM:-0400
TZOFFSETTO:-0500
TZNAME:America/Toronto EST
END:STANDARD
BEGIN:STANDARD
DTSTART:20271107T010000
RDATE:20280312T030000
TZOFFSETFROM:-0400
TZOFFSETTO:-0500
TZNAME:America/Toronto EST
END:STANDARD
BEGIN:STANDARD
DTSTART:20281105T010000
RDATE:20290311T030000
TZOFFSETFROM:-0400
TZOFFSETTO:-0500
TZNAME:America/Toronto EST
END:STANDARD
BEGIN:STANDARD
DTSTART:20291104T010000
RDATE:20300310T030000
TZOFFSETFROM:-0400
TZOFFSETTO:-0500
TZNAME:America/Toronto EST
END:STANDARD
BEGIN:STANDARD
DTSTART:20301103T010000
RDATE:20310309T030000
TZOFFSETFROM:-0400
TZOFFSETTO:-0500
TZNAME:America/Toronto EST
END:STANDARD
BEGIN:STANDARD
DTSTART:20311102T010000
RDATE:20320314T030000
TZOFFSETFROM:-0400
TZOFFSETTO:-0500
TZNAME:America/Toronto EST
END:STANDARD
BEGIN:DAYLIGHT
DTSTART:20230312T030000
RDATE:20231105T010000
TZOFFSETFROM:-0500
TZOFFSETTO:-0400
TZNAME:America/Toronto EDT
END:DAYLIGHT
BEGIN:DAYLIGHT
DTSTART:20240310T030000
RDATE:20241103T010000
TZOFFSETFROM:-0500
TZOFFSETTO:-0400
TZNAME:America/Toronto EDT
END:DAYLIGHT
BEGIN:DAYLIGHT
DTSTART:20250309T030000
RDATE:20251102T010000
TZOFFSETFROM:-0500
TZOFFSETTO:-0400
TZNAME:America/Toronto EDT
END:DAYLIGHT
BEGIN:DAYLIGHT
DTSTART:20260308T030000
RDATE:20261101T010000
TZOFFSETFROM:-0500
TZOFFSETTO:-0400
TZNAME:America/Toronto EDT
END:DAYLIGHT
BEGIN:DAYLIGHT
DTSTART:20270314T030000
RDATE:20271107T010000
TZOFFSETFROM:-0500
TZOFFSETTO:-0400
TZNAME:America/Toronto EDT
END:DAYLIGHT
BEGIN:DAYLIGHT
DTSTART:20280312T030000
RDATE:20281105T010000
TZOFFSETFROM:-0500
TZOFFSETTO:-0400
TZNAME:America/Toronto EDT
END:DAYLIGHT
BEGIN:DAYLIGHT
DTSTART:20290311T030000
RDATE:20291104T010000
TZOFFSETFROM:-0500
TZOFFSETTO:-0400
TZNAME:America/Toronto EDT
END:DAYLIGHT
BEGIN:DAYLIGHT
DTSTART:20300310T030000
RDATE:20301103T010000
TZOFFSETFROM:-0500
TZOFFSETTO:-0400
TZNAME:America/Toronto EDT
END:DAYLIGHT
BEGIN:DAYLIGHT
DTSTART:20310309T030000
RDATE:20311102T010000
TZOFFSETFROM:-0500
TZOFFSETTO:-0400
TZNAME:America/Toronto EDT
END:DAYLIGHT
END:VTIMEZONE
BEGIN:VEVENT
UID:bd8cc1ac1de7c0e9aced9931c2a8bc9a
CATEGORIES:Durham Events
CREATED:20231018T224921
SUMMARY:BGC Durham Diamond Gala
LOCATION:Dishplay Whitby
DESCRIPTION:For 60 years, BGC Durham has provided a safe, supportive place where childr
 en and youth experience new opportunities, overcome barriers, build positiv
 e relationships and develop confidence and skills for life.\nIn celebration
  of our 60-year anniversary, BGC Durham is excited to present our Diamond G
 ala on November 10, 2023. The Diamond Gala will be an incredible evening re
 cognizing BGC Durham's past and looking toward the future alongside members
  of our community. The Gala is taking place at the beautiful Dish Play even
 t venue and will feature a custom menu curated by Celebrity Chef Andrea Nic
 holson.\nJoin us to commemorate this milestone and look forward to fantasti
 c food, exciting auction items, stellar entertainment and valuable communit
 y connection. Tickets for this event are only $60 and can be purchased onli
 ne here: https://www.bgcdurham.com/events/diamond-gala (https://www.bgcdurh
 am.com/events/diamond-gala)\n \n
X-ALT-DESC;FMTTYPE=text/html:<p>For 60 years, BGC Durham has provided a safe, supportive place where chi
 ldren and youth experience new opportunities, overcome barriers, build posi
 tive relationships and develop confidence and skills for life.</p><p>In cel
 ebration of our 60-year anniversary, BGC Durham is excited to present our D
 iamond Gala on November 10, 2023. The Diamond Gala will be an incredible ev
 ening recognizing BGC Durham's past and looking toward the future alongside
  members of our community. The Gala is taking place at the beautiful Dish P
 lay event venue and will feature a custom menu curated by Celebrity Chef An
 drea Nicholson.</p><p>Join us to commemorate this milestone and look forwar
 d to fantastic food, exciting auction items, stellar entertainment and valu
 able community connection. Tickets for this event are only $60 and can be p
 urchased online here: <a href="https://www.bgcdurham.com/events/diamond-gal
 a">https://www.bgcdurham.com/events/diamond-gala</a></p><p> </p>
CONTACT:BGC Durham, 905-728-5121 xt. 0
X-EXTRAINFO:Questions about the Gala can also be directed to PePP Services - This email
  address is being protected from spambots. You need JavaScript enabled to v
 iew it.
DTSTAMP:20260420T224059
DTSTART;TZID=America/Toronto:20231110T190000
DTEND;TZID=America/Toronto:20231110T230000
SEQUENCE:0
TRANSP:OPAQUE
END:VEVENT
END:VCALENDAR