BEGIN:VCALENDAR
VERSION:2.0
PRODID:-//jEvents 2.0 for Joomla//EN
CALSCALE:GREGORIAN
METHOD:PUBLISH
BEGIN:VTIMEZONE
TZID:America/Toronto
BEGIN:STANDARD
DTSTART:20221111T090000
RDATE:20230312T030000
TZOFFSETFROM:-0400
TZOFFSETTO:-0500
TZNAME:America/Toronto EST
END:STANDARD
BEGIN:STANDARD
DTSTART:20231105T010000
RDATE:20240310T030000
TZOFFSETFROM:-0400
TZOFFSETTO:-0500
TZNAME:America/Toronto EST
END:STANDARD
BEGIN:STANDARD
DTSTART:20241103T010000
RDATE:20250309T030000
TZOFFSETFROM:-0400
TZOFFSETTO:-0500
TZNAME:America/Toronto EST
END:STANDARD
BEGIN:STANDARD
DTSTART:20251102T010000
RDATE:20260308T030000
TZOFFSETFROM:-0400
TZOFFSETTO:-0500
TZNAME:America/Toronto EST
END:STANDARD
BEGIN:STANDARD
DTSTART:20261101T010000
RDATE:20270314T030000
TZOFFSETFROM:-0400
TZOFFSETTO:-0500
TZNAME:America/Toronto EST
END:STANDARD
BEGIN:STANDARD
DTSTART:20271107T010000
RDATE:20280312T030000
TZOFFSETFROM:-0400
TZOFFSETTO:-0500
TZNAME:America/Toronto EST
END:STANDARD
BEGIN:STANDARD
DTSTART:20281105T010000
RDATE:20290311T030000
TZOFFSETFROM:-0400
TZOFFSETTO:-0500
TZNAME:America/Toronto EST
END:STANDARD
BEGIN:STANDARD
DTSTART:20291104T010000
RDATE:20300310T030000
TZOFFSETFROM:-0400
TZOFFSETTO:-0500
TZNAME:America/Toronto EST
END:STANDARD
BEGIN:STANDARD
DTSTART:20301103T010000
RDATE:20310309T030000
TZOFFSETFROM:-0400
TZOFFSETTO:-0500
TZNAME:America/Toronto EST
END:STANDARD
BEGIN:STANDARD
DTSTART:20311102T010000
RDATE:20320314T030000
TZOFFSETFROM:-0400
TZOFFSETTO:-0500
TZNAME:America/Toronto EST
END:STANDARD
BEGIN:DAYLIGHT
DTSTART:20230312T030000
RDATE:20231105T010000
TZOFFSETFROM:-0500
TZOFFSETTO:-0400
TZNAME:America/Toronto EDT
END:DAYLIGHT
BEGIN:DAYLIGHT
DTSTART:20240310T030000
RDATE:20241103T010000
TZOFFSETFROM:-0500
TZOFFSETTO:-0400
TZNAME:America/Toronto EDT
END:DAYLIGHT
BEGIN:DAYLIGHT
DTSTART:20250309T030000
RDATE:20251102T010000
TZOFFSETFROM:-0500
TZOFFSETTO:-0400
TZNAME:America/Toronto EDT
END:DAYLIGHT
BEGIN:DAYLIGHT
DTSTART:20260308T030000
RDATE:20261101T010000
TZOFFSETFROM:-0500
TZOFFSETTO:-0400
TZNAME:America/Toronto EDT
END:DAYLIGHT
BEGIN:DAYLIGHT
DTSTART:20270314T030000
RDATE:20271107T010000
TZOFFSETFROM:-0500
TZOFFSETTO:-0400
TZNAME:America/Toronto EDT
END:DAYLIGHT
BEGIN:DAYLIGHT
DTSTART:20280312T030000
RDATE:20281105T010000
TZOFFSETFROM:-0500
TZOFFSETTO:-0400
TZNAME:America/Toronto EDT
END:DAYLIGHT
BEGIN:DAYLIGHT
DTSTART:20290311T030000
RDATE:20291104T010000
TZOFFSETFROM:-0500
TZOFFSETTO:-0400
TZNAME:America/Toronto EDT
END:DAYLIGHT
BEGIN:DAYLIGHT
DTSTART:20300310T030000
RDATE:20301103T010000
TZOFFSETFROM:-0500
TZOFFSETTO:-0400
TZNAME:America/Toronto EDT
END:DAYLIGHT
BEGIN:DAYLIGHT
DTSTART:20310309T030000
RDATE:20311102T010000
TZOFFSETFROM:-0500
TZOFFSETTO:-0400
TZNAME:America/Toronto EDT
END:DAYLIGHT
END:VTIMEZONE
BEGIN:VEVENT
UID:48889fff2a96068d2dc5ce651afb3ec8
CATEGORIES:Durham Events
CREATED:20230913T144510
SUMMARY:Catholic Women's League Annual Christmas Bazaar
LOCATION:373 Simcoe St. S. Oshawa
DESCRIPTION:Bazaar Events: White Elephant Table, Tea Room, Penny Table, Used Toys and u
 sed books, Wool Crafter and Novelties Table 50/50 DrawWhen: Sunday November
  12, 2023 9:00 am to 2:00 pmWhere: Holy Cross Church Basement, 373 Simcoe S
 t. S. OshawaArea Olive Avenue and Simcoe St. S.Funds raised go to local cha
 ritiesHosted by the Catholic Women's League of Holy Cross Church.Should you
  require further informationThis email address is being protected from spam
 bots. You need JavaScript enabled to view it. 
X-ALT-DESC;FMTTYPE=text/html:<div dir="ltr" data-setdir="false">Bazaar Events: White Elephant Table, Tea
  Room, Penny Table, Used Toys and used books, Wool Crafter and Novelties Ta
 ble 50/50 Draw</div><div dir="ltr" data-setdir="false"><br aria-hidden="tru
 e" /></div><div dir="ltr" data-setdir="false">When: Sunday November 12, 202
 3 9:00 am to 2:00 pm</div><div dir="ltr" data-setdir="false"><br aria-hidde
 n="true" /></div><div dir="ltr" data-setdir="false">Where: Holy Cross Churc
 h Basement, 373 Simcoe St. S. Oshawa</div><div dir="ltr" data-setdir="false
 ">Area Olive Avenue and Simcoe St. S.</div><div dir="ltr" data-setdir="fals
 e"><br aria-hidden="true" /></div><div dir="ltr" data-setdir="false">Funds 
 raised go to local charities</div><div dir="ltr" data-setdir="false"><br ar
 ia-hidden="true" /></div><div dir="ltr" data-setdir="false">Hosted by the C
 atholic Women's League of Holy Cross Church.</div><div dir="ltr" data-setdi
 r="false"><br aria-hidden="true" /></div><div dir="ltr" data-setdir="false"
 >Should you require further information</div><div dir="ltr" data-setdir="fa
 lse"><joomla-hidden-mail  is-link="1" is-email="1" first="YWRlbGVwZWxsZWdya
 W5v" last="cm9nZXJzLmNvbQ==" text="YWRlbGVwZWxsZWdyaW5vQHJvZ2Vycy5jb20=" ba
 se="" >This email address is being protected from spambots. You need JavaSc
 ript enabled to view it.</joomla-hidden-mail></div><div dir="ltr" data-setd
 ir="false">&nbsp;</div>
CONTACT:Adele Pellegrino - This email address is being protected from spambots. You need JavaScript enabled to view it.
DTSTAMP:20260421T002630
DTSTART;TZID=America/Toronto:20231112T090000
DTEND;TZID=America/Toronto:20231112T140000
SEQUENCE:0
TRANSP:OPAQUE
END:VEVENT
END:VCALENDAR