BEGIN:VCALENDAR
VERSION:2.0
PRODID:-//jEvents 2.0 for Joomla//EN
CALSCALE:GREGORIAN
METHOD:PUBLISH
BEGIN:VTIMEZONE
TZID:America/Toronto
BEGIN:STANDARD
DTSTART:20221106T010000
RDATE:20230312T030000
TZOFFSETFROM:-0400
TZOFFSETTO:-0500
TZNAME:America/Toronto EST
END:STANDARD
BEGIN:STANDARD
DTSTART:20231105T010000
RDATE:20240310T030000
TZOFFSETFROM:-0400
TZOFFSETTO:-0500
TZNAME:America/Toronto EST
END:STANDARD
BEGIN:STANDARD
DTSTART:20241103T010000
RDATE:20250309T030000
TZOFFSETFROM:-0400
TZOFFSETTO:-0500
TZNAME:America/Toronto EST
END:STANDARD
BEGIN:STANDARD
DTSTART:20251102T010000
RDATE:20260308T030000
TZOFFSETFROM:-0400
TZOFFSETTO:-0500
TZNAME:America/Toronto EST
END:STANDARD
BEGIN:STANDARD
DTSTART:20261101T010000
RDATE:20270314T030000
TZOFFSETFROM:-0400
TZOFFSETTO:-0500
TZNAME:America/Toronto EST
END:STANDARD
BEGIN:STANDARD
DTSTART:20271107T010000
RDATE:20280312T030000
TZOFFSETFROM:-0400
TZOFFSETTO:-0500
TZNAME:America/Toronto EST
END:STANDARD
BEGIN:STANDARD
DTSTART:20281105T010000
RDATE:20290311T030000
TZOFFSETFROM:-0400
TZOFFSETTO:-0500
TZNAME:America/Toronto EST
END:STANDARD
BEGIN:STANDARD
DTSTART:20291104T010000
RDATE:20300310T030000
TZOFFSETFROM:-0400
TZOFFSETTO:-0500
TZNAME:America/Toronto EST
END:STANDARD
BEGIN:STANDARD
DTSTART:20301103T010000
RDATE:20310309T030000
TZOFFSETFROM:-0400
TZOFFSETTO:-0500
TZNAME:America/Toronto EST
END:STANDARD
BEGIN:STANDARD
DTSTART:20311102T010000
RDATE:20320314T030000
TZOFFSETFROM:-0400
TZOFFSETTO:-0500
TZNAME:America/Toronto EST
END:STANDARD
BEGIN:DAYLIGHT
DTSTART:20220909T110000
RDATE:20221106T010000
TZOFFSETFROM:-0500
TZOFFSETTO:-0400
TZNAME:America/Toronto EDT
END:DAYLIGHT
BEGIN:DAYLIGHT
DTSTART:20230312T030000
RDATE:20231105T010000
TZOFFSETFROM:-0500
TZOFFSETTO:-0400
TZNAME:America/Toronto EDT
END:DAYLIGHT
BEGIN:DAYLIGHT
DTSTART:20240310T030000
RDATE:20241103T010000
TZOFFSETFROM:-0500
TZOFFSETTO:-0400
TZNAME:America/Toronto EDT
END:DAYLIGHT
BEGIN:DAYLIGHT
DTSTART:20250309T030000
RDATE:20251102T010000
TZOFFSETFROM:-0500
TZOFFSETTO:-0400
TZNAME:America/Toronto EDT
END:DAYLIGHT
BEGIN:DAYLIGHT
DTSTART:20260308T030000
RDATE:20261101T010000
TZOFFSETFROM:-0500
TZOFFSETTO:-0400
TZNAME:America/Toronto EDT
END:DAYLIGHT
BEGIN:DAYLIGHT
DTSTART:20270314T030000
RDATE:20271107T010000
TZOFFSETFROM:-0500
TZOFFSETTO:-0400
TZNAME:America/Toronto EDT
END:DAYLIGHT
BEGIN:DAYLIGHT
DTSTART:20280312T030000
RDATE:20281105T010000
TZOFFSETFROM:-0500
TZOFFSETTO:-0400
TZNAME:America/Toronto EDT
END:DAYLIGHT
BEGIN:DAYLIGHT
DTSTART:20290311T030000
RDATE:20291104T010000
TZOFFSETFROM:-0500
TZOFFSETTO:-0400
TZNAME:America/Toronto EDT
END:DAYLIGHT
BEGIN:DAYLIGHT
DTSTART:20300310T030000
RDATE:20301103T010000
TZOFFSETFROM:-0500
TZOFFSETTO:-0400
TZNAME:America/Toronto EDT
END:DAYLIGHT
BEGIN:DAYLIGHT
DTSTART:20310309T030000
RDATE:20311102T010000
TZOFFSETFROM:-0500
TZOFFSETTO:-0400
TZNAME:America/Toronto EDT
END:DAYLIGHT
END:VTIMEZONE
BEGIN:VEVENT
UID:6bd2decc1e8abd4a7c397c9f1a1ec9f6
CATEGORIES:Durham Events
CREATED:20230905T173405
SUMMARY:4th Durham Region Children's Business Fair
LOCATION:Kids Safety Village of Durham Region
DESCRIPTION:Does your child love to make or collect things? If so, he or she can visit 
 us at our upcoming Children's Business Fair, to be held on Sunday September
  10th 2023 from 11 am to 2 pm EST at the Kids Safety Village of Durham Regi
 on (Whitby). If your child is interested in selling her toys, crafts, or a 
 good ol' cup of lemonade, then this is the best event to be at to learn how
  other kidpreneurs do it. During this great event, our mini-vendors will le
 arn great business skills to use in the real world. Here is the link to app
 ly as a mini-vendor: https://www.childrensbusinessfair.org/whitby (https://
 www.childrensbusinessfair.org/whitby?fbclid=IwAR1FrEagbYK4w5RBN6v3-6zZMGbY_
 01oj4p9hI7llnq8l645BSW1iMlF3-s) This event is free for visitors! Come and s
 ee what amazing things our little kidpreneurs can do. If you want to volunt
 eer, mentor or sponsor our mini-vendors, send us a direct message and we wi
 ll be happy to work together to make this a great event.
X-ALT-DESC;FMTTYPE=text/html:<div class="xdj266r x11i5rnm xat24cr x1mh8g0r x1vvkbs">Does your child love
  to make or collect things? If so, he or she can visit us at our upcoming C
 hildren's Business Fair, to be held on Sunday September 10th 2023 from 11 a
 m to 2 pm EST at the Kids Safety Village of Durham Region (Whitby).</div><d
 iv class="xdj266r x11i5rnm xat24cr x1mh8g0r x1vvkbs"> </div><div class="x11
 i5rnm xat24cr x1mh8g0r x1vvkbs xtlvy1s">If your child is interested in sell
 ing her toys, crafts, or a good ol' cup of lemonade, then this is the best 
 event to be at to learn how other kidpreneurs do it. During this great even
 t, our mini-vendors will learn great business skills to use in the real wor
 ld. Here is the link to apply as a mini-vendor: <a class="x1i10hfl xjbqb8w 
 x6umtig x1b1mbwd xaqea5y xav7gou x9f619 x1ypdohk xt0psk2 xe8uvvx xdj266r x1
 1i5rnm xat24cr x1mh8g0r xexx8yu x4uap5 x18d9i69 xkhd6sd x16tdsg8 x1hl2dhg x
 ggy1nq x1a2a7pz xt0b8zv x1fey0fg" tabindex="0" href="https://www.childrensb
 usinessfair.org/whitby?fbclid=IwAR1FrEagbYK4w5RBN6v3-6zZMGbY_01oj4p9hI7llnq
 8l645BSW1iMlF3-s" target="_blank" rel="nofollow noopener noreferrer">https:
 //www.childrensbusinessfair.org/whitby</a></div><div class="x11i5rnm xat24c
 r x1mh8g0r x1vvkbs xtlvy1s"> </div><div class="x11i5rnm xat24cr x1mh8g0r x1
 vvkbs xtlvy1s">This event is free for visitors! Come and see what amazing t
 hings our little kidpreneurs can do.</div><div class="x11i5rnm xat24cr x1mh
 8g0r x1vvkbs xtlvy1s"> </div><div class="x11i5rnm xat24cr x1mh8g0r x1vvkbs 
 xtlvy1s">If you want to volunteer, mentor or sponsor our mini-vendors, send
  us a direct message and we will be happy to work together to make this a g
 reat event.</div>
CONTACT:Durham Region Children's Business Fair
X-EXTRAINFO:This email address is being protected from spambots. You need JavaScript en
 abled to view it.
DTSTAMP:20260420T213624
DTSTART;TZID=America/Toronto:20230910T110000
DTEND;TZID=America/Toronto:20230910T140000
SEQUENCE:0
TRANSP:OPAQUE
END:VEVENT
END:VCALENDAR