BEGIN:VCALENDAR
VERSION:2.0
PRODID:-//jEvents 2.0 for Joomla//EN
CALSCALE:GREGORIAN
METHOD:PUBLISH
BEGIN:VTIMEZONE
TZID:America/Toronto
BEGIN:STANDARD
DTSTART:20221106T010000
RDATE:20230312T030000
TZOFFSETFROM:-0400
TZOFFSETTO:-0500
TZNAME:America/Toronto EST
END:STANDARD
BEGIN:STANDARD
DTSTART:20231105T010000
RDATE:20240310T030000
TZOFFSETFROM:-0400
TZOFFSETTO:-0500
TZNAME:America/Toronto EST
END:STANDARD
BEGIN:STANDARD
DTSTART:20241103T010000
RDATE:20250309T030000
TZOFFSETFROM:-0400
TZOFFSETTO:-0500
TZNAME:America/Toronto EST
END:STANDARD
BEGIN:STANDARD
DTSTART:20251102T010000
RDATE:20260308T030000
TZOFFSETFROM:-0400
TZOFFSETTO:-0500
TZNAME:America/Toronto EST
END:STANDARD
BEGIN:STANDARD
DTSTART:20261101T010000
RDATE:20270314T030000
TZOFFSETFROM:-0400
TZOFFSETTO:-0500
TZNAME:America/Toronto EST
END:STANDARD
BEGIN:STANDARD
DTSTART:20271107T010000
RDATE:20280312T030000
TZOFFSETFROM:-0400
TZOFFSETTO:-0500
TZNAME:America/Toronto EST
END:STANDARD
BEGIN:STANDARD
DTSTART:20281105T010000
RDATE:20290311T030000
TZOFFSETFROM:-0400
TZOFFSETTO:-0500
TZNAME:America/Toronto EST
END:STANDARD
BEGIN:STANDARD
DTSTART:20291104T010000
RDATE:20300310T030000
TZOFFSETFROM:-0400
TZOFFSETTO:-0500
TZNAME:America/Toronto EST
END:STANDARD
BEGIN:STANDARD
DTSTART:20301103T010000
RDATE:20310309T030000
TZOFFSETFROM:-0400
TZOFFSETTO:-0500
TZNAME:America/Toronto EST
END:STANDARD
BEGIN:STANDARD
DTSTART:20311102T010000
RDATE:20320314T030000
TZOFFSETFROM:-0400
TZOFFSETTO:-0500
TZNAME:America/Toronto EST
END:STANDARD
BEGIN:DAYLIGHT
DTSTART:20220920T100000
RDATE:20221106T010000
TZOFFSETFROM:-0500
TZOFFSETTO:-0400
TZNAME:America/Toronto EDT
END:DAYLIGHT
BEGIN:DAYLIGHT
DTSTART:20230312T030000
RDATE:20231105T010000
TZOFFSETFROM:-0500
TZOFFSETTO:-0400
TZNAME:America/Toronto EDT
END:DAYLIGHT
BEGIN:DAYLIGHT
DTSTART:20240310T030000
RDATE:20241103T010000
TZOFFSETFROM:-0500
TZOFFSETTO:-0400
TZNAME:America/Toronto EDT
END:DAYLIGHT
BEGIN:DAYLIGHT
DTSTART:20250309T030000
RDATE:20251102T010000
TZOFFSETFROM:-0500
TZOFFSETTO:-0400
TZNAME:America/Toronto EDT
END:DAYLIGHT
BEGIN:DAYLIGHT
DTSTART:20260308T030000
RDATE:20261101T010000
TZOFFSETFROM:-0500
TZOFFSETTO:-0400
TZNAME:America/Toronto EDT
END:DAYLIGHT
BEGIN:DAYLIGHT
DTSTART:20270314T030000
RDATE:20271107T010000
TZOFFSETFROM:-0500
TZOFFSETTO:-0400
TZNAME:America/Toronto EDT
END:DAYLIGHT
BEGIN:DAYLIGHT
DTSTART:20280312T030000
RDATE:20281105T010000
TZOFFSETFROM:-0500
TZOFFSETTO:-0400
TZNAME:America/Toronto EDT
END:DAYLIGHT
BEGIN:DAYLIGHT
DTSTART:20290311T030000
RDATE:20291104T010000
TZOFFSETFROM:-0500
TZOFFSETTO:-0400
TZNAME:America/Toronto EDT
END:DAYLIGHT
BEGIN:DAYLIGHT
DTSTART:20300310T030000
RDATE:20301103T010000
TZOFFSETFROM:-0500
TZOFFSETTO:-0400
TZNAME:America/Toronto EDT
END:DAYLIGHT
BEGIN:DAYLIGHT
DTSTART:20310309T030000
RDATE:20311102T010000
TZOFFSETFROM:-0500
TZOFFSETTO:-0400
TZNAME:America/Toronto EDT
END:DAYLIGHT
END:VTIMEZONE
BEGIN:VEVENT
UID:742140005a08c3ed5289420b224a5f99
CATEGORIES:Durham Events
CREATED:20230829T230755
SUMMARY:Durham Region Volunteer Fair
LOCATION:Delpark Homes Centre
DESCRIPTION:Join us on Thursday, September 21 at the first ever Durham Region Volunteer
  Fair!\nCommunity Care Durham and DRAVA (Durham Region Assoc. for Volunteer
  Administration) have partnered together to host this Volunteer Fair.  The 
 event will take place from 10am to 2pm on Sept. 21 at the Delpark Homes Cen
 tre (1611 Harmony Rd. N.) in north Oshawa.  So many non-profit and communit
 y groups will be there including Community Care Durham, Community Living, A
 lzheimer Society of Durham, Ontario Shores, Windreach Farms, to name a few.
   Come meet these representatives and many more to find the perfect volunte
 er opportunity for you.\nVolunteering is a rewarding experience!  Here's yo
 ur chance to earn volunteer hours, get involved and connect with your commu
 nity. To learn more, please send an email to This email address is being pr
 otected from spambots. You need JavaScript enabled to view it.\nWe look for
 ward to seeing you at the Durham Region Volunteer Fair\n
X-ALT-DESC;FMTTYPE=text/html:<p>Join us on Thursday, September 21 at the <strong>first ever</strong> Dur
 ham Region Volunteer Fair!</p><p>Community Care Durham and DRAVA (Durham Re
 gion Assoc. for Volunteer Administration) have partnered together to host t
 his Volunteer Fair.  The event will take place from 10am to 2pm on Sept. 21
  at the Delpark Homes Centre (1611 Harmony Rd. N.) in north Oshawa.  So man
 y non-profit and community groups will be there including Community Care Du
 rham, Community Living, Alzheimer Society of Durham, Ontario Shores, Windre
 ach Farms, to name a few.  Come meet these representatives and many more to
  find the perfect volunteer opportunity for you.</p><p>Volunteering is a re
 warding experience!  Here's your chance to earn volunteer hours, get involv
 ed and connect with your community. To learn more, please send an email to 
 <joomla-hidden-mail  is-link="1" is-email="1" first="bW1hcmNodWs=" last="Y2
 9tbXVuaXR5Y2FyZWR1cmhhbS5vbi5jYQ==" text="bW1hcmNodWtAY29tbXVuaXR5Y2FyZWR1c
 mhhbS5vbi5jYQ==" base="" >This email address is being protected from spambo
 ts. You need JavaScript enabled to view it.</joomla-hidden-mail></p><p>We l
 ook forward to seeing you at the Durham Region Volunteer Fair</p>
CONTACT:Marcy Marchuk
X-EXTRAINFO:This is a free event. 
DTSTAMP:20260421T030916
DTSTART;TZID=America/Toronto:20230921T100000
DTEND;TZID=America/Toronto:20230921T140000
SEQUENCE:0
TRANSP:OPAQUE
END:VEVENT
END:VCALENDAR