BEGIN:VCALENDAR
VERSION:2.0
PRODID:-//jEvents 2.0 for Joomla//EN
CALSCALE:GREGORIAN
METHOD:PUBLISH
BEGIN:VTIMEZONE
TZID:America/Toronto
BEGIN:STANDARD
DTSTART:20221106T010000
RDATE:20230312T030000
TZOFFSETFROM:-0400
TZOFFSETTO:-0500
TZNAME:America/Toronto EST
END:STANDARD
BEGIN:STANDARD
DTSTART:20231105T010000
RDATE:20240310T030000
TZOFFSETFROM:-0400
TZOFFSETTO:-0500
TZNAME:America/Toronto EST
END:STANDARD
BEGIN:STANDARD
DTSTART:20241103T010000
RDATE:20250309T030000
TZOFFSETFROM:-0400
TZOFFSETTO:-0500
TZNAME:America/Toronto EST
END:STANDARD
BEGIN:STANDARD
DTSTART:20251102T010000
RDATE:20260308T030000
TZOFFSETFROM:-0400
TZOFFSETTO:-0500
TZNAME:America/Toronto EST
END:STANDARD
BEGIN:STANDARD
DTSTART:20261101T010000
RDATE:20270314T030000
TZOFFSETFROM:-0400
TZOFFSETTO:-0500
TZNAME:America/Toronto EST
END:STANDARD
BEGIN:STANDARD
DTSTART:20271107T010000
RDATE:20280312T030000
TZOFFSETFROM:-0400
TZOFFSETTO:-0500
TZNAME:America/Toronto EST
END:STANDARD
BEGIN:STANDARD
DTSTART:20281105T010000
RDATE:20290311T030000
TZOFFSETFROM:-0400
TZOFFSETTO:-0500
TZNAME:America/Toronto EST
END:STANDARD
BEGIN:STANDARD
DTSTART:20291104T010000
RDATE:20300310T030000
TZOFFSETFROM:-0400
TZOFFSETTO:-0500
TZNAME:America/Toronto EST
END:STANDARD
BEGIN:STANDARD
DTSTART:20301103T010000
RDATE:20310309T030000
TZOFFSETFROM:-0400
TZOFFSETTO:-0500
TZNAME:America/Toronto EST
END:STANDARD
BEGIN:STANDARD
DTSTART:20311102T010000
RDATE:20320314T030000
TZOFFSETFROM:-0400
TZOFFSETTO:-0500
TZNAME:America/Toronto EST
END:STANDARD
BEGIN:DAYLIGHT
DTSTART:20220908T080000
RDATE:20221106T010000
TZOFFSETFROM:-0500
TZOFFSETTO:-0400
TZNAME:America/Toronto EDT
END:DAYLIGHT
BEGIN:DAYLIGHT
DTSTART:20230312T030000
RDATE:20231105T010000
TZOFFSETFROM:-0500
TZOFFSETTO:-0400
TZNAME:America/Toronto EDT
END:DAYLIGHT
BEGIN:DAYLIGHT
DTSTART:20240310T030000
RDATE:20241103T010000
TZOFFSETFROM:-0500
TZOFFSETTO:-0400
TZNAME:America/Toronto EDT
END:DAYLIGHT
BEGIN:DAYLIGHT
DTSTART:20250309T030000
RDATE:20251102T010000
TZOFFSETFROM:-0500
TZOFFSETTO:-0400
TZNAME:America/Toronto EDT
END:DAYLIGHT
BEGIN:DAYLIGHT
DTSTART:20260308T030000
RDATE:20261101T010000
TZOFFSETFROM:-0500
TZOFFSETTO:-0400
TZNAME:America/Toronto EDT
END:DAYLIGHT
BEGIN:DAYLIGHT
DTSTART:20270314T030000
RDATE:20271107T010000
TZOFFSETFROM:-0500
TZOFFSETTO:-0400
TZNAME:America/Toronto EDT
END:DAYLIGHT
BEGIN:DAYLIGHT
DTSTART:20280312T030000
RDATE:20281105T010000
TZOFFSETFROM:-0500
TZOFFSETTO:-0400
TZNAME:America/Toronto EDT
END:DAYLIGHT
BEGIN:DAYLIGHT
DTSTART:20290311T030000
RDATE:20291104T010000
TZOFFSETFROM:-0500
TZOFFSETTO:-0400
TZNAME:America/Toronto EDT
END:DAYLIGHT
BEGIN:DAYLIGHT
DTSTART:20300310T030000
RDATE:20301103T010000
TZOFFSETFROM:-0500
TZOFFSETTO:-0400
TZNAME:America/Toronto EDT
END:DAYLIGHT
BEGIN:DAYLIGHT
DTSTART:20310309T030000
RDATE:20311102T010000
TZOFFSETFROM:-0500
TZOFFSETTO:-0400
TZNAME:America/Toronto EDT
END:DAYLIGHT
END:VTIMEZONE
BEGIN:VEVENT
UID:bfb0930fbd556c3f975058d38e0fb1dd
CATEGORIES:Durham Events
CREATED:19691231T190000
SUMMARY:TEE OFF FOR TAGS
LOCATION:NEWCASTLE
DESCRIPTION:TEE OFF FOR TAGS CHARITY GOLF TOURNAMENT  \nTHE ANIMAL GUARDIAN SOCIETY (TA
 GS) IS HOLDING ITS FIRST ANNUAL GOLF TOURNAMENT. PROCEEDS FOR THIS EVENT WI
 LL BE USED FOR HE CARE OF ANIMALS IN OUR PROGRAM.  \nENJOY A DAY ON THE GRE
 EN WHILE SUPPORTING ANIMALS IN NEED.  GREEN FEES, GOLF CART, WELOME GOODY B
 AG. CONTESTS, SILENT AUCTION AND LUNCH AND DINNER.  FOR FURTHER INFORMATION
  PLEASE TO OUR FACEBOOK PAGE OR OUR WEBSITE ANIMALGUARDIAN.ORG  QUESTIONS P
 LEASE EMAIL AT TAGSINFO@YAHOO.CA\n
X-ALT-DESC;FMTTYPE=text/html:<p style="text-align: left;">TEE OFF FOR TAGS CHARITY GOLF TOURNAMENT  </p>
 <p style="text-align: left;">THE ANIMAL GUARDIAN SOCIETY (TAGS) IS HOLDING 
 ITS FIRST ANNUAL GOLF TOURNAMENT. PROCEEDS FOR THIS EVENT WILL BE USED FOR 
 HE CARE OF ANIMALS IN OUR PROGRAM.  </p><p style="text-align: left;">ENJOY 
 A DAY ON THE GREEN WHILE SUPPORTING ANIMALS IN NEED.  GREEN FEES, GOLF CART
 , WELOME GOODY BAG. CONTESTS, SILENT AUCTION AND LUNCH AND DINNER.  FOR FUR
 THER INFORMATION PLEASE TO OUR FACEBOOK PAGE OR OUR WEBSITE ANIMALGUARDIAN.
 ORG  QUESTIONS PLEASE EMAIL AT TAGSINFO@YAHOO.CA</p>
CONTACT:KATHY ASLING
X-EXTRAINFO:TAGSINFO@YAHOO.CA
DTSTAMP:20260420T213533
DTSTART;TZID=America/Toronto:20230909T080000
DTEND;TZID=America/Toronto:20230909T200000
SEQUENCE:0
RRULE:FREQ=DAILY;COUNT=3;INTERVAL=3
TRANSP:OPAQUE
END:VEVENT
END:VCALENDAR