BEGIN:VCALENDAR
VERSION:2.0
PRODID:-//jEvents 2.0 for Joomla//EN
CALSCALE:GREGORIAN
METHOD:PUBLISH
BEGIN:VTIMEZONE
TZID:America/Toronto
BEGIN:STANDARD
DTSTART:20221106T010000
RDATE:20230312T030000
TZOFFSETFROM:-0400
TZOFFSETTO:-0500
TZNAME:America/Toronto EST
END:STANDARD
BEGIN:STANDARD
DTSTART:20231105T010000
RDATE:20240310T030000
TZOFFSETFROM:-0400
TZOFFSETTO:-0500
TZNAME:America/Toronto EST
END:STANDARD
BEGIN:STANDARD
DTSTART:20241103T010000
RDATE:20250309T030000
TZOFFSETFROM:-0400
TZOFFSETTO:-0500
TZNAME:America/Toronto EST
END:STANDARD
BEGIN:STANDARD
DTSTART:20251102T010000
RDATE:20260308T030000
TZOFFSETFROM:-0400
TZOFFSETTO:-0500
TZNAME:America/Toronto EST
END:STANDARD
BEGIN:STANDARD
DTSTART:20261101T010000
RDATE:20270314T030000
TZOFFSETFROM:-0400
TZOFFSETTO:-0500
TZNAME:America/Toronto EST
END:STANDARD
BEGIN:STANDARD
DTSTART:20271107T010000
RDATE:20280312T030000
TZOFFSETFROM:-0400
TZOFFSETTO:-0500
TZNAME:America/Toronto EST
END:STANDARD
BEGIN:STANDARD
DTSTART:20281105T010000
RDATE:20290311T030000
TZOFFSETFROM:-0400
TZOFFSETTO:-0500
TZNAME:America/Toronto EST
END:STANDARD
BEGIN:STANDARD
DTSTART:20291104T010000
RDATE:20300310T030000
TZOFFSETFROM:-0400
TZOFFSETTO:-0500
TZNAME:America/Toronto EST
END:STANDARD
BEGIN:STANDARD
DTSTART:20301103T010000
RDATE:20310309T030000
TZOFFSETFROM:-0400
TZOFFSETTO:-0500
TZNAME:America/Toronto EST
END:STANDARD
BEGIN:STANDARD
DTSTART:20311102T010000
RDATE:20320314T030000
TZOFFSETFROM:-0400
TZOFFSETTO:-0500
TZNAME:America/Toronto EST
END:STANDARD
BEGIN:DAYLIGHT
DTSTART:20220819T130000
RDATE:20221106T010000
TZOFFSETFROM:-0500
TZOFFSETTO:-0400
TZNAME:America/Toronto EDT
END:DAYLIGHT
BEGIN:DAYLIGHT
DTSTART:20230312T030000
RDATE:20231105T010000
TZOFFSETFROM:-0500
TZOFFSETTO:-0400
TZNAME:America/Toronto EDT
END:DAYLIGHT
BEGIN:DAYLIGHT
DTSTART:20240310T030000
RDATE:20241103T010000
TZOFFSETFROM:-0500
TZOFFSETTO:-0400
TZNAME:America/Toronto EDT
END:DAYLIGHT
BEGIN:DAYLIGHT
DTSTART:20250309T030000
RDATE:20251102T010000
TZOFFSETFROM:-0500
TZOFFSETTO:-0400
TZNAME:America/Toronto EDT
END:DAYLIGHT
BEGIN:DAYLIGHT
DTSTART:20260308T030000
RDATE:20261101T010000
TZOFFSETFROM:-0500
TZOFFSETTO:-0400
TZNAME:America/Toronto EDT
END:DAYLIGHT
BEGIN:DAYLIGHT
DTSTART:20270314T030000
RDATE:20271107T010000
TZOFFSETFROM:-0500
TZOFFSETTO:-0400
TZNAME:America/Toronto EDT
END:DAYLIGHT
BEGIN:DAYLIGHT
DTSTART:20280312T030000
RDATE:20281105T010000
TZOFFSETFROM:-0500
TZOFFSETTO:-0400
TZNAME:America/Toronto EDT
END:DAYLIGHT
BEGIN:DAYLIGHT
DTSTART:20290311T030000
RDATE:20291104T010000
TZOFFSETFROM:-0500
TZOFFSETTO:-0400
TZNAME:America/Toronto EDT
END:DAYLIGHT
BEGIN:DAYLIGHT
DTSTART:20300310T030000
RDATE:20301103T010000
TZOFFSETFROM:-0500
TZOFFSETTO:-0400
TZNAME:America/Toronto EDT
END:DAYLIGHT
BEGIN:DAYLIGHT
DTSTART:20310309T030000
RDATE:20311102T010000
TZOFFSETFROM:-0500
TZOFFSETTO:-0400
TZNAME:America/Toronto EDT
END:DAYLIGHT
END:VTIMEZONE
BEGIN:VEVENT
UID:98e68c32e7f356080fd1fd1b91677406
CATEGORIES:Durham Events
CREATED:20230703T210608
SUMMARY:The Art of Afternoon Tea Workshop & Tea Party
LOCATION:Lynde House Museum\, 900 Brock St. S. Whitby
DESCRIPTION:THE ART OF AFTERNOON TEAEtiquette Workshop &amp; Garden PartyDiscover the i
 ntricacies of a proper Victorian Afternoon Tea, while enjoying refreshments
  in the park behind Lynde House.\nDressing up is not required, but you are 
 very welcome to wear your fanciest Garden Party, Victorian or Steampunk att
 ire!\nRegistration includes workshop, tea, sandwiches, scones &amp; sweets.
 \nThis event is part of Victorian Workshop Sunday – Register for all 3 even
 ts and save $15!\nREGISTER ONLINE (https://warren-general-store.square.site
 /product/aug-20-the-art-of-afternoon-tea-workshop-tea-party/2054)\nREGISTER
  BY PHONE: 905-665-3131\n
X-ALT-DESC;FMTTYPE=text/html:<h3><strong>THE ART OF AFTERNOON TEA</strong></h3><h4><strong>Etiquette Wor
 kshop &amp; Garden Party</strong></h4><p>Discover the intricacies of a prop
 er Victorian Afternoon Tea, while enjoying refreshments in the park behind 
 Lynde House.</p><p>Dressing up is not required, but you are very welcome to
  wear your fanciest Garden Party, Victorian or Steampunk attire!</p><p><em>
 Registration includes workshop, tea, sandwiches, scones &amp; sweets.</em><
 /p><p><strong>This event is part of Victorian Workshop Sunday – Register fo
 r all 3 events and save $15!</strong></p><p><a href="https://warren-general
 -store.square.site/product/aug-20-the-art-of-afternoon-tea-workshop-tea-par
 ty/2054">REGISTER ONLINE</a><br />REGISTER BY PHONE: 905-665-3131</p>
CONTACT:This email address is being protected from spambots. You need JavaScript enabled to view it.
X-EXTRAINFO:Please Pre-register
DTSTAMP:20260421T102612
DTSTART;TZID=America/Toronto:20230820T130000
DTEND;TZID=America/Toronto:20230820T143000
SEQUENCE:0
TRANSP:OPAQUE
END:VEVENT
END:VCALENDAR