BEGIN:VCALENDAR
VERSION:2.0
PRODID:-//jEvents 2.0 for Joomla//EN
CALSCALE:GREGORIAN
METHOD:PUBLISH
BEGIN:VTIMEZONE
TZID:America/Toronto
BEGIN:STANDARD
DTSTART:20221106T010000
RDATE:20230312T030000
TZOFFSETFROM:-0400
TZOFFSETTO:-0500
TZNAME:America/Toronto EST
END:STANDARD
BEGIN:STANDARD
DTSTART:20231105T010000
RDATE:20240310T030000
TZOFFSETFROM:-0400
TZOFFSETTO:-0500
TZNAME:America/Toronto EST
END:STANDARD
BEGIN:STANDARD
DTSTART:20241103T010000
RDATE:20250309T030000
TZOFFSETFROM:-0400
TZOFFSETTO:-0500
TZNAME:America/Toronto EST
END:STANDARD
BEGIN:STANDARD
DTSTART:20251102T010000
RDATE:20260308T030000
TZOFFSETFROM:-0400
TZOFFSETTO:-0500
TZNAME:America/Toronto EST
END:STANDARD
BEGIN:STANDARD
DTSTART:20261101T010000
RDATE:20270314T030000
TZOFFSETFROM:-0400
TZOFFSETTO:-0500
TZNAME:America/Toronto EST
END:STANDARD
BEGIN:STANDARD
DTSTART:20271107T010000
RDATE:20280312T030000
TZOFFSETFROM:-0400
TZOFFSETTO:-0500
TZNAME:America/Toronto EST
END:STANDARD
BEGIN:STANDARD
DTSTART:20281105T010000
RDATE:20290311T030000
TZOFFSETFROM:-0400
TZOFFSETTO:-0500
TZNAME:America/Toronto EST
END:STANDARD
BEGIN:STANDARD
DTSTART:20291104T010000
RDATE:20300310T030000
TZOFFSETFROM:-0400
TZOFFSETTO:-0500
TZNAME:America/Toronto EST
END:STANDARD
BEGIN:STANDARD
DTSTART:20301103T010000
RDATE:20310309T030000
TZOFFSETFROM:-0400
TZOFFSETTO:-0500
TZNAME:America/Toronto EST
END:STANDARD
BEGIN:STANDARD
DTSTART:20311102T010000
RDATE:20320314T030000
TZOFFSETFROM:-0400
TZOFFSETTO:-0500
TZNAME:America/Toronto EST
END:STANDARD
BEGIN:DAYLIGHT
DTSTART:20220521T150000
RDATE:20221106T010000
TZOFFSETFROM:-0500
TZOFFSETTO:-0400
TZNAME:America/Toronto EDT
END:DAYLIGHT
BEGIN:DAYLIGHT
DTSTART:20230312T030000
RDATE:20231105T010000
TZOFFSETFROM:-0500
TZOFFSETTO:-0400
TZNAME:America/Toronto EDT
END:DAYLIGHT
BEGIN:DAYLIGHT
DTSTART:20240310T030000
RDATE:20241103T010000
TZOFFSETFROM:-0500
TZOFFSETTO:-0400
TZNAME:America/Toronto EDT
END:DAYLIGHT
BEGIN:DAYLIGHT
DTSTART:20250309T030000
RDATE:20251102T010000
TZOFFSETFROM:-0500
TZOFFSETTO:-0400
TZNAME:America/Toronto EDT
END:DAYLIGHT
BEGIN:DAYLIGHT
DTSTART:20260308T030000
RDATE:20261101T010000
TZOFFSETFROM:-0500
TZOFFSETTO:-0400
TZNAME:America/Toronto EDT
END:DAYLIGHT
BEGIN:DAYLIGHT
DTSTART:20270314T030000
RDATE:20271107T010000
TZOFFSETFROM:-0500
TZOFFSETTO:-0400
TZNAME:America/Toronto EDT
END:DAYLIGHT
BEGIN:DAYLIGHT
DTSTART:20280312T030000
RDATE:20281105T010000
TZOFFSETFROM:-0500
TZOFFSETTO:-0400
TZNAME:America/Toronto EDT
END:DAYLIGHT
BEGIN:DAYLIGHT
DTSTART:20290311T030000
RDATE:20291104T010000
TZOFFSETFROM:-0500
TZOFFSETTO:-0400
TZNAME:America/Toronto EDT
END:DAYLIGHT
BEGIN:DAYLIGHT
DTSTART:20300310T030000
RDATE:20301103T010000
TZOFFSETFROM:-0500
TZOFFSETTO:-0400
TZNAME:America/Toronto EDT
END:DAYLIGHT
BEGIN:DAYLIGHT
DTSTART:20310309T030000
RDATE:20311102T010000
TZOFFSETFROM:-0500
TZOFFSETTO:-0400
TZNAME:America/Toronto EDT
END:DAYLIGHT
END:VTIMEZONE
BEGIN:VEVENT
UID:1db08b0025638e09e2863dbf584d7905
CATEGORIES:Durham Events
CREATED:20230510T142301
SUMMARY:Oshawa Centre - Victoria Day Long Weekend
LOCATION:1304 Harmony Road North\, Oshawa
DESCRIPTION:Canadian Blood Services needs more than 100,000 new donors this year to joi
 n and help strengthen Canada’s Lifeline to ensure patients’ needs will cont
 inue to be met.\nThe Oshawa donor centre located at 1304 Harmony Road North
  (SW Corner of Harmony and Taunton) will be open Friday 9-1PM, Saturday 8-2
 pm and Monday 3-7pm this Victoria Day long weekend. Donors are needed! Plea
 se book your appointment by visiting www.blood.ca (http://www.blood.ca)\nIn
 terested in bringing a group? Email This email address is being protected f
 rom spambots. You need JavaScript enabled to view it. \n
X-ALT-DESC;FMTTYPE=text/html:<p>Canadian Blood Services needs more than 100,000 new donors this year to 
 join and help strengthen Canada’s Lifeline to ensure patients’ needs will c
 ontinue to be met.</p><p>The Oshawa donor centre located at 1304 Harmony Ro
 ad North (SW Corner of Harmony and Taunton) will be open Friday 9-1PM, Satu
 rday 8-2pm and Monday 3-7pm this Victoria Day long weekend. Donors are need
 ed! Please book your appointment by visiting <a href="http://www.blood.ca">
 www.blood.ca</a></p><p>Interested in bringing a group? Email <joomla-hidden
 -mail  is-link="1" is-email="1" first="bGF1cmEuamV3ZWxs" last="Ymxvb2QuY2E=
 " text="bGF1cmEuamV3ZWxsQGJsb29kLmNh" base="" >This email address is being 
 protected from spambots. You need JavaScript enabled to view it.</joomla-hi
 dden-mail> </p>
CONTACT:Canadian Blood Services
X-EXTRAINFO:Book your appointment at www.blood.ca or download the GiveBlood app. 
DTSTAMP:20260421T220607
DTSTART;TZID=America/Toronto:20230522T150000
DTEND;TZID=America/Toronto:20230522T190000
SEQUENCE:0
TRANSP:OPAQUE
END:VEVENT
END:VCALENDAR