BEGIN:VCALENDAR
VERSION:2.0
PRODID:-//jEvents 2.0 for Joomla//EN
CALSCALE:GREGORIAN
METHOD:PUBLISH
BEGIN:VTIMEZONE
TZID:America/Toronto
BEGIN:STANDARD
DTSTART:20221106T010000
RDATE:20230312T030000
TZOFFSETFROM:-0400
TZOFFSETTO:-0500
TZNAME:America/Toronto EST
END:STANDARD
BEGIN:STANDARD
DTSTART:20231105T010000
RDATE:20240310T030000
TZOFFSETFROM:-0400
TZOFFSETTO:-0500
TZNAME:America/Toronto EST
END:STANDARD
BEGIN:STANDARD
DTSTART:20241103T010000
RDATE:20250309T030000
TZOFFSETFROM:-0400
TZOFFSETTO:-0500
TZNAME:America/Toronto EST
END:STANDARD
BEGIN:STANDARD
DTSTART:20251102T010000
RDATE:20260308T030000
TZOFFSETFROM:-0400
TZOFFSETTO:-0500
TZNAME:America/Toronto EST
END:STANDARD
BEGIN:STANDARD
DTSTART:20261101T010000
RDATE:20270314T030000
TZOFFSETFROM:-0400
TZOFFSETTO:-0500
TZNAME:America/Toronto EST
END:STANDARD
BEGIN:STANDARD
DTSTART:20271107T010000
RDATE:20280312T030000
TZOFFSETFROM:-0400
TZOFFSETTO:-0500
TZNAME:America/Toronto EST
END:STANDARD
BEGIN:STANDARD
DTSTART:20281105T010000
RDATE:20290311T030000
TZOFFSETFROM:-0400
TZOFFSETTO:-0500
TZNAME:America/Toronto EST
END:STANDARD
BEGIN:STANDARD
DTSTART:20291104T010000
RDATE:20300310T030000
TZOFFSETFROM:-0400
TZOFFSETTO:-0500
TZNAME:America/Toronto EST
END:STANDARD
BEGIN:STANDARD
DTSTART:20301103T010000
RDATE:20310309T030000
TZOFFSETFROM:-0400
TZOFFSETTO:-0500
TZNAME:America/Toronto EST
END:STANDARD
BEGIN:STANDARD
DTSTART:20311102T010000
RDATE:20320314T030000
TZOFFSETFROM:-0400
TZOFFSETTO:-0500
TZNAME:America/Toronto EST
END:STANDARD
BEGIN:DAYLIGHT
DTSTART:20220915T100000
RDATE:20221106T010000
TZOFFSETFROM:-0500
TZOFFSETTO:-0400
TZNAME:America/Toronto EDT
END:DAYLIGHT
BEGIN:DAYLIGHT
DTSTART:20230312T030000
RDATE:20231105T010000
TZOFFSETFROM:-0500
TZOFFSETTO:-0400
TZNAME:America/Toronto EDT
END:DAYLIGHT
BEGIN:DAYLIGHT
DTSTART:20240310T030000
RDATE:20241103T010000
TZOFFSETFROM:-0500
TZOFFSETTO:-0400
TZNAME:America/Toronto EDT
END:DAYLIGHT
BEGIN:DAYLIGHT
DTSTART:20250309T030000
RDATE:20251102T010000
TZOFFSETFROM:-0500
TZOFFSETTO:-0400
TZNAME:America/Toronto EDT
END:DAYLIGHT
BEGIN:DAYLIGHT
DTSTART:20260308T030000
RDATE:20261101T010000
TZOFFSETFROM:-0500
TZOFFSETTO:-0400
TZNAME:America/Toronto EDT
END:DAYLIGHT
BEGIN:DAYLIGHT
DTSTART:20270314T030000
RDATE:20271107T010000
TZOFFSETFROM:-0500
TZOFFSETTO:-0400
TZNAME:America/Toronto EDT
END:DAYLIGHT
BEGIN:DAYLIGHT
DTSTART:20280312T030000
RDATE:20281105T010000
TZOFFSETFROM:-0500
TZOFFSETTO:-0400
TZNAME:America/Toronto EDT
END:DAYLIGHT
BEGIN:DAYLIGHT
DTSTART:20290311T030000
RDATE:20291104T010000
TZOFFSETFROM:-0500
TZOFFSETTO:-0400
TZNAME:America/Toronto EDT
END:DAYLIGHT
BEGIN:DAYLIGHT
DTSTART:20300310T030000
RDATE:20301103T010000
TZOFFSETFROM:-0500
TZOFFSETTO:-0400
TZNAME:America/Toronto EDT
END:DAYLIGHT
BEGIN:DAYLIGHT
DTSTART:20310309T030000
RDATE:20311102T010000
TZOFFSETFROM:-0500
TZOFFSETTO:-0400
TZNAME:America/Toronto EDT
END:DAYLIGHT
END:VTIMEZONE
BEGIN:VEVENT
UID:e7ccc30355df2d371efe4c30ed6f1dff
CATEGORIES:Durham Events
CREATED:19691231T190000
SUMMARY:Uxbridge Art on the Fringe Festival
LOCATION:Uxbridge Museum Grounds
DESCRIPTION:The Festival features emerging and established artists displaying their art
 work … paintings, ceramics, fibre arts, jewelry, furniture.\nVisit the Frin
 ge Art Festival at the Museum Historical Centre, just north of the Brock St
 reet West roundabout where you can:·      Browse and shop at more than 30 E
 xhibitors·      Eat lunch and snacks·      Listen to live music provided by
  local Musicians… plus Exhibits and Washrooms are all accessible.While you 
 are visiting Art on the Fringe don’t forget to see the many Museum Centre b
 uildings and farm equipment from yesteryear.  This is truly a great locatio
 n high on a hill overlooking Uxbridge. A large parking lot is on the south 
 side for those arriving by car or you can get your exercise by walking the 
 trail to the venue.  Paved accessible parking is available closer to the bu
 ildings.\n
X-ALT-DESC;FMTTYPE=text/html:<p style="font-weight: 400;">The Festival features emerging and established
  artists displaying their artwork … paintings, ceramics, fibre arts, jewelr
 y, furniture.</p><h3>Visit the Fringe Art Festival at the Museum Historical
  Centre, just north of the Brock Street West roundabout where you can:</h3>
 <h3>·      Browse and shop at more than 30 Exhibitors</h3><h3>·      Eat lu
 nch and snacks</h3><h3><strong>·      </strong>Listen to live music provide
 d by local Musicians</h3><h3>… plus Exhibits and Washrooms are all accessib
 le.</h3><p><span style="font-weight: 400;">While you are visiting Art on th
 e Fringe don’t forget to see the many Museum Centre buildings and farm equi
 pment from yesteryear.  This is truly a great location high on a hill overl
 ooking Uxbridge. A large parking lot is on the south side for those arrivin
 g by car or you can get your exercise by walking the trail to the venue.  P
 aved accessible parking is available closer to the buildings.</span></p>
CONTACT:Artists of Uxbridge
X-EXTRAINFO:https://artistsofuxbridge.com/art-on-the-fringe/\n
DTSTAMP:20260421T012519
DTSTART;TZID=America/Toronto:20230916T100000
DTEND;TZID=America/Toronto:20230916T170000
SEQUENCE:0
RRULE:FREQ=DAILY;UNTIL=20230918T000000Z;INTERVAL=1
TRANSP:OPAQUE
END:VEVENT
END:VCALENDAR