BEGIN:VCALENDAR
VERSION:2.0
PRODID:-//jEvents 2.0 for Joomla//EN
CALSCALE:GREGORIAN
METHOD:PUBLISH
BEGIN:VTIMEZONE
TZID:America/Toronto
BEGIN:STANDARD
DTSTART:20221106T010000
RDATE:20230312T030000
TZOFFSETFROM:-0400
TZOFFSETTO:-0500
TZNAME:America/Toronto EST
END:STANDARD
BEGIN:STANDARD
DTSTART:20231105T010000
RDATE:20240310T030000
TZOFFSETFROM:-0400
TZOFFSETTO:-0500
TZNAME:America/Toronto EST
END:STANDARD
BEGIN:STANDARD
DTSTART:20241103T010000
RDATE:20250309T030000
TZOFFSETFROM:-0400
TZOFFSETTO:-0500
TZNAME:America/Toronto EST
END:STANDARD
BEGIN:STANDARD
DTSTART:20251102T010000
RDATE:20260308T030000
TZOFFSETFROM:-0400
TZOFFSETTO:-0500
TZNAME:America/Toronto EST
END:STANDARD
BEGIN:STANDARD
DTSTART:20261101T010000
RDATE:20270314T030000
TZOFFSETFROM:-0400
TZOFFSETTO:-0500
TZNAME:America/Toronto EST
END:STANDARD
BEGIN:STANDARD
DTSTART:20271107T010000
RDATE:20280312T030000
TZOFFSETFROM:-0400
TZOFFSETTO:-0500
TZNAME:America/Toronto EST
END:STANDARD
BEGIN:STANDARD
DTSTART:20281105T010000
RDATE:20290311T030000
TZOFFSETFROM:-0400
TZOFFSETTO:-0500
TZNAME:America/Toronto EST
END:STANDARD
BEGIN:STANDARD
DTSTART:20291104T010000
RDATE:20300310T030000
TZOFFSETFROM:-0400
TZOFFSETTO:-0500
TZNAME:America/Toronto EST
END:STANDARD
BEGIN:STANDARD
DTSTART:20301103T010000
RDATE:20310309T030000
TZOFFSETFROM:-0400
TZOFFSETTO:-0500
TZNAME:America/Toronto EST
END:STANDARD
BEGIN:STANDARD
DTSTART:20311102T010000
RDATE:20320314T030000
TZOFFSETFROM:-0400
TZOFFSETTO:-0500
TZNAME:America/Toronto EST
END:STANDARD
BEGIN:DAYLIGHT
DTSTART:20220421T090000
RDATE:20221106T010000
TZOFFSETFROM:-0500
TZOFFSETTO:-0400
TZNAME:America/Toronto EDT
END:DAYLIGHT
BEGIN:DAYLIGHT
DTSTART:20230312T030000
RDATE:20231105T010000
TZOFFSETFROM:-0500
TZOFFSETTO:-0400
TZNAME:America/Toronto EDT
END:DAYLIGHT
BEGIN:DAYLIGHT
DTSTART:20240310T030000
RDATE:20241103T010000
TZOFFSETFROM:-0500
TZOFFSETTO:-0400
TZNAME:America/Toronto EDT
END:DAYLIGHT
BEGIN:DAYLIGHT
DTSTART:20250309T030000
RDATE:20251102T010000
TZOFFSETFROM:-0500
TZOFFSETTO:-0400
TZNAME:America/Toronto EDT
END:DAYLIGHT
BEGIN:DAYLIGHT
DTSTART:20260308T030000
RDATE:20261101T010000
TZOFFSETFROM:-0500
TZOFFSETTO:-0400
TZNAME:America/Toronto EDT
END:DAYLIGHT
BEGIN:DAYLIGHT
DTSTART:20270314T030000
RDATE:20271107T010000
TZOFFSETFROM:-0500
TZOFFSETTO:-0400
TZNAME:America/Toronto EDT
END:DAYLIGHT
BEGIN:DAYLIGHT
DTSTART:20280312T030000
RDATE:20281105T010000
TZOFFSETFROM:-0500
TZOFFSETTO:-0400
TZNAME:America/Toronto EDT
END:DAYLIGHT
BEGIN:DAYLIGHT
DTSTART:20290311T030000
RDATE:20291104T010000
TZOFFSETFROM:-0500
TZOFFSETTO:-0400
TZNAME:America/Toronto EDT
END:DAYLIGHT
BEGIN:DAYLIGHT
DTSTART:20300310T030000
RDATE:20301103T010000
TZOFFSETFROM:-0500
TZOFFSETTO:-0400
TZNAME:America/Toronto EDT
END:DAYLIGHT
BEGIN:DAYLIGHT
DTSTART:20310309T030000
RDATE:20311102T010000
TZOFFSETFROM:-0500
TZOFFSETTO:-0400
TZNAME:America/Toronto EDT
END:DAYLIGHT
END:VTIMEZONE
BEGIN:VEVENT
UID:823e2eed5cd39667ee66eaa644db8bd3
CATEGORIES:Durham Events
CREATED:20230418T213652
SUMMARY:Car Rally at Durham Deaf Services
LOCATION:900 King St E\, Oshawa
DESCRIPTION:Durham Deaf Services Car Rally EventOshawa, ON - Durham Deaf Services (DDS)
  is hosting their first major independent fundraising event in more than th
 ree years. The first-ever DDS Car Rally event is set to take place on April
  22, 2023, at 9:30 a.m. \nIn this event, participants will engage in a car-
 based scavenger hunt (similar to the amazing race) throughout the city of O
 shawa to discover iconic landmarks, solve puzzles and win prizes. Extra poi
 nts will be rewarded for creatively team costumes! The event will also feat
 ure a silent auction, free food, coffee, and refreshments. The Silent Aucti
 on does not require registration and is open to the public.\nThe Car Rally 
 takes place at the DDS office, located at 900 King Street East, Oshawa, Ont
 ario. Doors open at 9 a.m., and the first car will launch at 9:30. \nTeams 
 will register by car, and tickets are $45 per team. Registration is online 
 at durhamdeaf.org/event/dds-car-rally/ (http://durhamdeaf.org/event/dds-car
 -rally/). Ticket subsidy is available: Email This email address is being pr
 otected from spambots. You need JavaScript enabled to view it..\nPrizes and
  sponsors\nSome of the prizes available to the event winners include: A Wee
 kend family pass to the Canadian Tire Victoria Day Speedfest, Free Car Wash
 es &amp; Detailing, Car Care Kits, Concert Tickets, Children's prizes, Dini
 ng Cards, Gift Baskets, Smart Gadgets, And More!\nWe are incredibly gratefu
 l to our sponsors: Residents of Harmony Ridge Gardens, ReMax Jazz, TLC Cont
 racting, Port Perry Print, Aartech Canada, Pizza Pizza , Paramount Pallet\n
 About Durham Deaf Services Durham Deaf Services has been serving the commun
 ity for more than 40 years. DDS aims to promote independence and autonomy f
 or all in the Deaf, deafened, and hard-of-hearing community by eliminating 
 barriers to participation and preserving Deaf culture, language, and herita
 ge.\nRegister for the DDS Car Rally at: durhamdeaf.org/event/dds-car-rally/
  (http://durhamdeaf.org/event/dds-car-rally/)\n 
X-ALT-DESC;FMTTYPE=text/html:<div><h2>Durham Deaf Services Car Rally Event</h2><p>Oshawa, ON - Durham De
 af Services (DDS) is hosting their first major independent fundraising even
 t in more than three years. The first-ever DDS Car Rally event is set to ta
 ke place on April 22, 2023, at 9:30 a.m. </p><p>In this event, participants
  will engage in a car-based scavenger hunt (similar to the amazing race) th
 roughout the city of Oshawa to discover iconic landmarks, solve puzzles and
  win prizes. Extra points will be rewarded for creatively team costumes! Th
 e event will also feature a silent auction, free food, coffee, and refreshm
 ents. <span style="text-decoration: underline;"><em>The Silent Auction does
  not require registration and is open to the public.</em></span></p><p>The 
 Car Rally takes place at the DDS office, located at 900 King Street East, O
 shawa, Ontario. Doors open at 9 a.m., and the first car will launch at 9:30
 . </p><p>Teams will register by car, and tickets are $45 per team. Registra
 tion is online at <a href="http://durhamdeaf.org/event/dds-car-rally/" targ
 et="_blank" rel="noopener noreferrer" data-saferedirecturl="https://www.goo
 gle.com/url?q=http://durhamdeaf.org/event/dds-car-rally/&amp;source=gmail&a
 mp;ust=1681954321543000&amp;usg=AOvVaw2s5PpAkipRVhbtRscBrP5M">durhamdeaf.or
 g/event/dds-<wbr />car-rally/</a>. Ticket subsidy is available: Email <joom
 la-hidden-mail  is-link="1" is-email="1" first="aW5mbw==" last="ZHVyaGFtZGV
 hZi5vcmc=" text="aW5mb0BkdXJoYW1kZWFmLm9yZw==" base=""  target="_blank" rel
 ="noopener noreferrer">This email address is being protected from spambots.
  You need JavaScript enabled to view it.</joomla-hidden-mail>.</p><p><stron
 g>Prizes and sponsors</strong></p><p>Some of the prizes available to the ev
 ent winners include: A Weekend family pass to the Canadian Tire Victoria Da
 y Speedfest, Free Car Washes &amp; Detailing, Car Care Kits, Concert Ticket
 s, Children's prizes, Dining Cards, Gift Baskets, Smart Gadgets, And More!<
 /p><p><span style="text-decoration: underline;">We are incredibly grateful 
 to our sponsors:</span> Residents of Harmony Ridge Gardens, ReMax Jazz, TLC
  Contracting, Port Perry Print, Aartech Canada, Pizza Pizza , Paramount Pal
 let</p><h2><strong>About Durham Deaf Services </strong></h2><p>Durham Deaf 
 Services has been serving the community for more than 40 years. DDS aims to
  promote independence and autonomy for all in the Deaf, deafened, and hard-
 of-hearing community by eliminating barriers to participation and preservin
 g Deaf culture, language, and heritage.</p><p><strong>Register for the DDS 
 Car Rally at: <a href="http://durhamdeaf.org/event/dds-car-rally/" target="
 _blank" rel="noopener noreferrer" data-saferedirecturl="https://www.google.
 com/url?q=http://durhamdeaf.org/event/dds-car-rally/&amp;source=gmail&amp;u
 st=1681954321543000&amp;usg=AOvVaw2s5PpAkipRVhbtRscBrP5M">durhamdeaf.org/ev
 ent/dds-<wbr />car-rally/</a></strong></p></div><div class="yj6qo ajU"> </d
 iv>
CONTACT:905-579-3328
DTSTAMP:20260421T012556
DTSTART;TZID=America/Toronto:20230422T090000
DTEND;TZID=America/Toronto:20230422T140000
SEQUENCE:0
TRANSP:OPAQUE
END:VEVENT
END:VCALENDAR