BEGIN:VCALENDAR
VERSION:2.0
PRODID:-//jEvents 2.0 for Joomla//EN
CALSCALE:GREGORIAN
METHOD:PUBLISH
BEGIN:VTIMEZONE
TZID:America/Toronto
BEGIN:STANDARD
DTSTART:20221106T010000
RDATE:20230312T030000
TZOFFSETFROM:-0400
TZOFFSETTO:-0500
TZNAME:America/Toronto EST
END:STANDARD
BEGIN:STANDARD
DTSTART:20231105T010000
RDATE:20240310T030000
TZOFFSETFROM:-0400
TZOFFSETTO:-0500
TZNAME:America/Toronto EST
END:STANDARD
BEGIN:STANDARD
DTSTART:20241103T010000
RDATE:20250309T030000
TZOFFSETFROM:-0400
TZOFFSETTO:-0500
TZNAME:America/Toronto EST
END:STANDARD
BEGIN:STANDARD
DTSTART:20251102T010000
RDATE:20260308T030000
TZOFFSETFROM:-0400
TZOFFSETTO:-0500
TZNAME:America/Toronto EST
END:STANDARD
BEGIN:STANDARD
DTSTART:20261101T010000
RDATE:20270314T030000
TZOFFSETFROM:-0400
TZOFFSETTO:-0500
TZNAME:America/Toronto EST
END:STANDARD
BEGIN:STANDARD
DTSTART:20271107T010000
RDATE:20280312T030000
TZOFFSETFROM:-0400
TZOFFSETTO:-0500
TZNAME:America/Toronto EST
END:STANDARD
BEGIN:STANDARD
DTSTART:20281105T010000
RDATE:20290311T030000
TZOFFSETFROM:-0400
TZOFFSETTO:-0500
TZNAME:America/Toronto EST
END:STANDARD
BEGIN:STANDARD
DTSTART:20291104T010000
RDATE:20300310T030000
TZOFFSETFROM:-0400
TZOFFSETTO:-0500
TZNAME:America/Toronto EST
END:STANDARD
BEGIN:STANDARD
DTSTART:20301103T010000
RDATE:20310309T030000
TZOFFSETFROM:-0400
TZOFFSETTO:-0500
TZNAME:America/Toronto EST
END:STANDARD
BEGIN:STANDARD
DTSTART:20311102T010000
RDATE:20320314T030000
TZOFFSETFROM:-0400
TZOFFSETTO:-0500
TZNAME:America/Toronto EST
END:STANDARD
BEGIN:DAYLIGHT
DTSTART:20220426T183000
RDATE:20221106T010000
TZOFFSETFROM:-0500
TZOFFSETTO:-0400
TZNAME:America/Toronto EDT
END:DAYLIGHT
BEGIN:DAYLIGHT
DTSTART:20230312T030000
RDATE:20231105T010000
TZOFFSETFROM:-0500
TZOFFSETTO:-0400
TZNAME:America/Toronto EDT
END:DAYLIGHT
BEGIN:DAYLIGHT
DTSTART:20240310T030000
RDATE:20241103T010000
TZOFFSETFROM:-0500
TZOFFSETTO:-0400
TZNAME:America/Toronto EDT
END:DAYLIGHT
BEGIN:DAYLIGHT
DTSTART:20250309T030000
RDATE:20251102T010000
TZOFFSETFROM:-0500
TZOFFSETTO:-0400
TZNAME:America/Toronto EDT
END:DAYLIGHT
BEGIN:DAYLIGHT
DTSTART:20260308T030000
RDATE:20261101T010000
TZOFFSETFROM:-0500
TZOFFSETTO:-0400
TZNAME:America/Toronto EDT
END:DAYLIGHT
BEGIN:DAYLIGHT
DTSTART:20270314T030000
RDATE:20271107T010000
TZOFFSETFROM:-0500
TZOFFSETTO:-0400
TZNAME:America/Toronto EDT
END:DAYLIGHT
BEGIN:DAYLIGHT
DTSTART:20280312T030000
RDATE:20281105T010000
TZOFFSETFROM:-0500
TZOFFSETTO:-0400
TZNAME:America/Toronto EDT
END:DAYLIGHT
BEGIN:DAYLIGHT
DTSTART:20290311T030000
RDATE:20291104T010000
TZOFFSETFROM:-0500
TZOFFSETTO:-0400
TZNAME:America/Toronto EDT
END:DAYLIGHT
BEGIN:DAYLIGHT
DTSTART:20300310T030000
RDATE:20301103T010000
TZOFFSETFROM:-0500
TZOFFSETTO:-0400
TZNAME:America/Toronto EDT
END:DAYLIGHT
BEGIN:DAYLIGHT
DTSTART:20310309T030000
RDATE:20311102T010000
TZOFFSETFROM:-0500
TZOFFSETTO:-0400
TZNAME:America/Toronto EDT
END:DAYLIGHT
END:VTIMEZONE
BEGIN:VEVENT
UID:2815f2377c5b3d638edee1c5ef92a673
CATEGORIES:Durham Events
CREATED:20230416T190400
SUMMARY:Whitby History Keepers- Brian Winter
LOCATION:Whityby Public Library - Central Branch
DESCRIPTION:Video PresentationDISCOVER THE STORIES BEHIND THE STORIES\nIn this presenta
 tion of the Whitby Historical Society’s documentary video series, we go bac
 k to the earliest days of local historian &amp; archivist Brian Winter’s ad
 ventures in uncovering our past. From exploring abandoned buildings as a ch
 ild, to creating Whitby’s first archive in a closet at the Centennial Build
 ing, Brian has been instrumental in ensuring that Whitby’s history is prese
 rved for future generations. Join us to hear him share his favourite storie
 s and memories. Followed by a Q &amp; A.\nThis event will take place at the
  Central Branch of the Whitby Public Library.\nAdmission by Donation\nREGIS
 TER ONLINE (https://warren-general-store.square.site/product/whitby%E2%80%9
 9s-history-keepers-brian-winter---archivist-author/2028)\nREGISTER BY PHONE
  – 905-665-3131\nIn accordance with current Public Health recommendations, 
 the Whitby Historical Society requires that all attendees wear masks while 
 inside the meeting room. Thank you.\n
X-ALT-DESC;FMTTYPE=text/html:<h4>Video Presentation</h4><p><strong>DISCOVER THE STORIES BEHIND THE STORI
 ES<br /></strong>In this presentation of the Whitby Historical Society’s do
 cumentary video series, we go back to the earliest days of local historian 
 &amp; archivist Brian Winter’s adventures in uncovering our past. From expl
 oring abandoned buildings as a child, to creating Whitby’s first archive in
  a closet at the Centennial Building, Brian has been instrumental in ensuri
 ng that Whitby’s history is preserved for future generations. Join us to he
 ar him share his favourite stories and memories. Followed by a Q &amp; A.</
 p><p>This event will take place at the Central Branch of the Whitby Public 
 Library.</p><p>Admission by Donation</p><p><a href="https://warren-general-
 store.square.site/product/whitby%E2%80%99s-history-keepers-brian-winter---a
 rchivist-author/2028">REGISTER ONLINE</a></p><p>REGISTER BY PHONE – 905-665
 -3131</p><p><em>In accordance with current Public Health recommendations, t
 he Whitby Historical Society requires that all attendees wear masks while i
 nside the meeting room. Thank you.</em></p>
CONTACT:This email address is being protected from spambots. You need JavaScript enabled to view it.
DTSTAMP:20260421T071054
DTSTART;TZID=America/Toronto:20230427T183000
DTEND;TZID=America/Toronto:20230427T210000
SEQUENCE:0
TRANSP:OPAQUE
END:VEVENT
END:VCALENDAR