BEGIN:VCALENDAR
VERSION:2.0
PRODID:-//jEvents 2.0 for Joomla//EN
CALSCALE:GREGORIAN
METHOD:PUBLISH
BEGIN:VTIMEZONE
TZID:America/Toronto
BEGIN:STANDARD
DTSTART:20221106T010000
RDATE:20230312T030000
TZOFFSETFROM:-0400
TZOFFSETTO:-0500
TZNAME:America/Toronto EST
END:STANDARD
BEGIN:STANDARD
DTSTART:20231105T010000
RDATE:20240310T030000
TZOFFSETFROM:-0400
TZOFFSETTO:-0500
TZNAME:America/Toronto EST
END:STANDARD
BEGIN:STANDARD
DTSTART:20241103T010000
RDATE:20250309T030000
TZOFFSETFROM:-0400
TZOFFSETTO:-0500
TZNAME:America/Toronto EST
END:STANDARD
BEGIN:STANDARD
DTSTART:20251102T010000
RDATE:20260308T030000
TZOFFSETFROM:-0400
TZOFFSETTO:-0500
TZNAME:America/Toronto EST
END:STANDARD
BEGIN:STANDARD
DTSTART:20261101T010000
RDATE:20270314T030000
TZOFFSETFROM:-0400
TZOFFSETTO:-0500
TZNAME:America/Toronto EST
END:STANDARD
BEGIN:STANDARD
DTSTART:20271107T010000
RDATE:20280312T030000
TZOFFSETFROM:-0400
TZOFFSETTO:-0500
TZNAME:America/Toronto EST
END:STANDARD
BEGIN:STANDARD
DTSTART:20281105T010000
RDATE:20290311T030000
TZOFFSETFROM:-0400
TZOFFSETTO:-0500
TZNAME:America/Toronto EST
END:STANDARD
BEGIN:STANDARD
DTSTART:20291104T010000
RDATE:20300310T030000
TZOFFSETFROM:-0400
TZOFFSETTO:-0500
TZNAME:America/Toronto EST
END:STANDARD
BEGIN:STANDARD
DTSTART:20301103T010000
RDATE:20310309T030000
TZOFFSETFROM:-0400
TZOFFSETTO:-0500
TZNAME:America/Toronto EST
END:STANDARD
BEGIN:STANDARD
DTSTART:20311102T010000
RDATE:20320314T030000
TZOFFSETFROM:-0400
TZOFFSETTO:-0500
TZNAME:America/Toronto EST
END:STANDARD
BEGIN:DAYLIGHT
DTSTART:20220421T080000
RDATE:20221106T010000
TZOFFSETFROM:-0500
TZOFFSETTO:-0400
TZNAME:America/Toronto EDT
END:DAYLIGHT
BEGIN:DAYLIGHT
DTSTART:20230312T030000
RDATE:20231105T010000
TZOFFSETFROM:-0500
TZOFFSETTO:-0400
TZNAME:America/Toronto EDT
END:DAYLIGHT
BEGIN:DAYLIGHT
DTSTART:20240310T030000
RDATE:20241103T010000
TZOFFSETFROM:-0500
TZOFFSETTO:-0400
TZNAME:America/Toronto EDT
END:DAYLIGHT
BEGIN:DAYLIGHT
DTSTART:20250309T030000
RDATE:20251102T010000
TZOFFSETFROM:-0500
TZOFFSETTO:-0400
TZNAME:America/Toronto EDT
END:DAYLIGHT
BEGIN:DAYLIGHT
DTSTART:20260308T030000
RDATE:20261101T010000
TZOFFSETFROM:-0500
TZOFFSETTO:-0400
TZNAME:America/Toronto EDT
END:DAYLIGHT
BEGIN:DAYLIGHT
DTSTART:20270314T030000
RDATE:20271107T010000
TZOFFSETFROM:-0500
TZOFFSETTO:-0400
TZNAME:America/Toronto EDT
END:DAYLIGHT
BEGIN:DAYLIGHT
DTSTART:20280312T030000
RDATE:20281105T010000
TZOFFSETFROM:-0500
TZOFFSETTO:-0400
TZNAME:America/Toronto EDT
END:DAYLIGHT
BEGIN:DAYLIGHT
DTSTART:20290311T030000
RDATE:20291104T010000
TZOFFSETFROM:-0500
TZOFFSETTO:-0400
TZNAME:America/Toronto EDT
END:DAYLIGHT
BEGIN:DAYLIGHT
DTSTART:20300310T030000
RDATE:20301103T010000
TZOFFSETFROM:-0500
TZOFFSETTO:-0400
TZNAME:America/Toronto EDT
END:DAYLIGHT
BEGIN:DAYLIGHT
DTSTART:20310309T030000
RDATE:20311102T010000
TZOFFSETFROM:-0500
TZOFFSETTO:-0400
TZNAME:America/Toronto EDT
END:DAYLIGHT
END:VTIMEZONE
BEGIN:VEVENT
UID:16bc9af82a191c5279a8eb3e463bb422
CATEGORIES:Durham Events
CREATED:20230329T115231
SUMMARY:Americana Duo, Over the Moon
LOCATION:Greenbank Centennial Hall\, Greenbank (Hwy 12\, 30 mins north of Whitby).
DESCRIPTION:Greenbank, March 29, 2023 – Fans of Americana music are looking forward to 
 Greenbank's next concert featuring 2022 Juno Award Nominee for "Best Tradit
 ional Album" and 2023 "Ensemble Of The Year" nominee for The Canadian Folk 
 Music Awards, Over the Moon. Ottawa alternative-folk musician, Rory Taillon
 , will open for the duo. Doors open: 7:30 PM. Showtime: 8 PM.\nCanadian roo
 ts/swing duo, Over The Moon, live and breathe real cowboy country. Living o
 n a ranch in the foothills of Alberta’s Rocky Mountains, it’s inevitable th
 ere will be a strong sense of place - and the rhythms of the land - when yo
 u pick up an instrument and start to make music. When the couple released t
 heir debut album, the resonances were there for all to hear, reflecting the
  pulse of life in a territory that is both dirt-hard rugged and stunningly 
 beautiful. It was a wild ride that took in styles from 40’s western swing a
 nd Appalachian old-time, to cowboy blues. Simple and sweet, all of the mate
 rial they play has a common thread that speaks of the Canadian west and on 
 its UK release, the reviews were glowing. Now recording for the Borealis la
 bel, their latest studio work, Chinook Waltz, oozes meant-to-be closeness a
 nd harmony – to each other and everything around them\nOttawa-based singer/
 songwriter Rory Taillon is a road warrior, touring across the country and b
 ack again. He has the soul of the East coast but the sound of the West in h
 is songs with a voice to match the majesty of the Rockies. Greenbank Folk M
 usic Society, Greenbank Centennial Hall, Greenbank (Hwy 12, 30 mins north o
 f Whitby).\nTickets are $ 35 each and available at: - Blue Heron Books, 62 
 Brock St West, in Uxbridge, 905-852-4282 - P O E Design, 146 Queen St, in P
 ort Perry, 905-985-0060 - or Phone 905-985-8351 for reserved tickets and in
 formation. Check out our web site and watch for future concerts at: http://
 www.greenbankfolkmusic.ca/and on Facebook. -30- Contact: Cathy Galberg - 90
 5-985-8351 E-mail: &lt;This email address is being protected from spambots.
  You need JavaScript enabled to view it.&gt;\n
X-ALT-DESC;FMTTYPE=text/html:<p>Greenbank, March 29, 2023 – Fans of Americana music are looking forward 
 to Greenbank's next concert featuring 2022 Juno Award Nominee for "Best Tra
 ditional Album" and 2023 "Ensemble Of The Year" nominee for The Canadian Fo
 lk Music Awards, Over the Moon. Ottawa alternative-folk musician, Rory Tail
 lon, will open for the duo. Doors open: 7:30 PM. Showtime: 8 PM.</p><p>Cana
 dian roots/swing duo, Over The Moon, live and breathe real cowboy country. 
 Living on a ranch in the foothills of Alberta’s Rocky Mountains, it’s inevi
 table there will be a strong sense of place - and the rhythms of the land -
  when you pick up an instrument and start to make music. When the couple re
 leased their debut album, the resonances were there for all to hear, reflec
 ting the pulse of life in a territory that is both dirt-hard rugged and stu
 nningly beautiful. It was a wild ride that took in styles from 40’s western
  swing and Appalachian old-time, to cowboy blues. Simple and sweet, all of 
 the material they play has a common thread that speaks of the Canadian west
  and on its UK release, the reviews were glowing. Now recording for the Bor
 ealis label, their latest studio work, Chinook Waltz, oozes meant-to-be clo
 seness and harmony – to each other and everything around them</p><p>Ottawa-
 based singer/songwriter Rory Taillon is a road warrior, touring across the 
 country and back again. He has the soul of the East coast but the sound of 
 the West in his songs with a voice to match the majesty of the Rockies. Gre
 enbank Folk Music Society, Greenbank Centennial Hall, Greenbank (Hwy 12, 30
  mins north of Whitby).</p><p>Tickets are $ 35 each and available at: - Blu
 e Heron Books, 62 Brock St West, in Uxbridge, 905-852-4282 - P O E Design, 
 146 Queen St, in Port Perry, 905-985-0060 - or Phone 905-985-8351 for reser
 ved tickets and information. Check out our web site and watch for future co
 ncerts at: http://www.greenbankfolkmusic.ca/and on Facebook. -30- Contact: 
 Cathy Galberg - 905-985-8351 E-mail: &lt;<joomla-hidden-mail  is-link="1" i
 s-email="1" first="Y2F0aHlnYWxiZXJn" last="Z21haWwuY29t" text="Y2F0aHlnYWxi
 ZXJnQGdtYWlsLmNvbQ==" base="" >This email address is being protected from s
 pambots. You need JavaScript enabled to view it.</joomla-hidden-mail>&gt;</
 p>
CONTACT:Cathy Galberg - 905-985-8351 E-mail:  
DTSTAMP:20260421T012809
DTSTART;TZID=America/Toronto:20230422T080000
DTEND;TZID=America/Toronto:20230422T113000
SEQUENCE:0
TRANSP:OPAQUE
END:VEVENT
END:VCALENDAR