BEGIN:VCALENDAR
VERSION:2.0
PRODID:-//jEvents 2.0 for Joomla//EN
CALSCALE:GREGORIAN
METHOD:PUBLISH
BEGIN:VTIMEZONE
TZID:America/Toronto
BEGIN:STANDARD
DTSTART:20221106T010000
RDATE:20230312T030000
TZOFFSETFROM:-0400
TZOFFSETTO:-0500
TZNAME:America/Toronto EST
END:STANDARD
BEGIN:STANDARD
DTSTART:20231105T010000
RDATE:20240310T030000
TZOFFSETFROM:-0400
TZOFFSETTO:-0500
TZNAME:America/Toronto EST
END:STANDARD
BEGIN:STANDARD
DTSTART:20241103T010000
RDATE:20250309T030000
TZOFFSETFROM:-0400
TZOFFSETTO:-0500
TZNAME:America/Toronto EST
END:STANDARD
BEGIN:STANDARD
DTSTART:20251102T010000
RDATE:20260308T030000
TZOFFSETFROM:-0400
TZOFFSETTO:-0500
TZNAME:America/Toronto EST
END:STANDARD
BEGIN:STANDARD
DTSTART:20261101T010000
RDATE:20270314T030000
TZOFFSETFROM:-0400
TZOFFSETTO:-0500
TZNAME:America/Toronto EST
END:STANDARD
BEGIN:STANDARD
DTSTART:20271107T010000
RDATE:20280312T030000
TZOFFSETFROM:-0400
TZOFFSETTO:-0500
TZNAME:America/Toronto EST
END:STANDARD
BEGIN:STANDARD
DTSTART:20281105T010000
RDATE:20290311T030000
TZOFFSETFROM:-0400
TZOFFSETTO:-0500
TZNAME:America/Toronto EST
END:STANDARD
BEGIN:STANDARD
DTSTART:20291104T010000
RDATE:20300310T030000
TZOFFSETFROM:-0400
TZOFFSETTO:-0500
TZNAME:America/Toronto EST
END:STANDARD
BEGIN:STANDARD
DTSTART:20301103T010000
RDATE:20310309T030000
TZOFFSETFROM:-0400
TZOFFSETTO:-0500
TZNAME:America/Toronto EST
END:STANDARD
BEGIN:STANDARD
DTSTART:20311102T010000
RDATE:20320314T030000
TZOFFSETFROM:-0400
TZOFFSETTO:-0500
TZNAME:America/Toronto EST
END:STANDARD
BEGIN:DAYLIGHT
DTSTART:20220315T190000
RDATE:20221106T010000
TZOFFSETFROM:-0500
TZOFFSETTO:-0400
TZNAME:America/Toronto EDT
END:DAYLIGHT
BEGIN:DAYLIGHT
DTSTART:20230312T030000
RDATE:20231105T010000
TZOFFSETFROM:-0500
TZOFFSETTO:-0400
TZNAME:America/Toronto EDT
END:DAYLIGHT
BEGIN:DAYLIGHT
DTSTART:20240310T030000
RDATE:20241103T010000
TZOFFSETFROM:-0500
TZOFFSETTO:-0400
TZNAME:America/Toronto EDT
END:DAYLIGHT
BEGIN:DAYLIGHT
DTSTART:20250309T030000
RDATE:20251102T010000
TZOFFSETFROM:-0500
TZOFFSETTO:-0400
TZNAME:America/Toronto EDT
END:DAYLIGHT
BEGIN:DAYLIGHT
DTSTART:20260308T030000
RDATE:20261101T010000
TZOFFSETFROM:-0500
TZOFFSETTO:-0400
TZNAME:America/Toronto EDT
END:DAYLIGHT
BEGIN:DAYLIGHT
DTSTART:20270314T030000
RDATE:20271107T010000
TZOFFSETFROM:-0500
TZOFFSETTO:-0400
TZNAME:America/Toronto EDT
END:DAYLIGHT
BEGIN:DAYLIGHT
DTSTART:20280312T030000
RDATE:20281105T010000
TZOFFSETFROM:-0500
TZOFFSETTO:-0400
TZNAME:America/Toronto EDT
END:DAYLIGHT
BEGIN:DAYLIGHT
DTSTART:20290311T030000
RDATE:20291104T010000
TZOFFSETFROM:-0500
TZOFFSETTO:-0400
TZNAME:America/Toronto EDT
END:DAYLIGHT
BEGIN:DAYLIGHT
DTSTART:20300310T030000
RDATE:20301103T010000
TZOFFSETFROM:-0500
TZOFFSETTO:-0400
TZNAME:America/Toronto EDT
END:DAYLIGHT
BEGIN:DAYLIGHT
DTSTART:20310309T030000
RDATE:20311102T010000
TZOFFSETFROM:-0500
TZOFFSETTO:-0400
TZNAME:America/Toronto EDT
END:DAYLIGHT
END:VTIMEZONE
BEGIN:VEVENT
UID:5f01419594d88381d5fb9b7806fdb57b
CATEGORIES:Durham Events
CREATED:20230314T132846
SUMMARY:Kids Rock For Kids inaugural Canadian Event
LOCATION:Oshawa's Biltmore Theatre
DESCRIPTION:“Kids Rock For Kids puts young talented musicians at center stage… showing\
 noff their skills, all to raise money for a good cause” 90.7WFUV\nThe Kids 
 Rock For Kids organization aims to help young bands (and solo artists) give
 \nback to their communities local and global by donating their time and tal
 ents for\nfundraising initiatives. Kids rocking out to help other kids.\n\n
 Kids Rock for Kids has received remarkable success and support including\na
 ppearances on TVs Kelly Clarkson Show, NBC News and in The New York\nTimes.
 \n\nThis show will benefit locally, the excellent work at Feed The Need Dur
 ham and globally,\nKidsave, a charity that helps children affected by war i
 n the Ukraine.\nThis all ages event will take place on Thursday March 16th 
 featuring young\nartists and bands from Canada and the US including: NERiMA
 , Undefeated, The\nOnly Bay, BELLO and Life of Exile.\nTickets are availabl
 e at\nhttps://www.tickets.biltmoretheatre.com/krfk (https://www.tickets.bil
 tmoretheatre.com/krfk)\nFOR INFO &amp; TO DONATE: visit www.kidsrockforkids
 .com (https://www.kidsrockforkids.com)\nTO LEARN ABOUT THE CHARITIES:\nLOCA
 L: Feed The Need in Durham - www.feedtheneedindurham.ca/ (https://www.feedt
 heneedindurham.ca/)\n\nGLOBAL: Kidsave - www.kidsave.org/ukraine/ (https://
 www.kidsave.org/ukraine/)\n \n \n
X-ALT-DESC;FMTTYPE=text/html:<p>“Kids Rock For Kids puts young talented musicians at center stage… showi
 ng<br />off their skills, all to raise money for a good cause” 90.7WFUV</p>
 <p>The Kids Rock For Kids organization aims to help young bands (and solo a
 rtists) give<br />back to their communities local and global by donating th
 eir time and talents for<br />fundraising initiatives. Kids rocking out to 
 help other kids.</p><p><br />Kids Rock for Kids has received remarkable suc
 cess and support including<br />appearances on TVs Kelly Clarkson Show, NBC
  News and in The New York<br />Times.</p><p><br />This show will benefit lo
 cally, the excellent work at Feed The Need Durham and globally,<br />Kidsav
 e, a charity that helps children affected by war in the Ukraine.<br />This 
 all ages event will take place on Thursday March 16th featuring young<br />
 artists and bands from Canada and the US including: NERiMA, Undefeated, The
 <br />Only Bay, BELLO and Life of Exile.</p><p>Tickets are available at<br 
 /><a href="https://www.tickets.biltmoretheatre.com/krfk">https://www.ticket
 s.biltmoretheatre.com/krfk</a></p><p>FOR INFO &amp; TO DONATE: visit <a hre
 f="https://www.kidsrockforkids.com">www.kidsrockforkids.com</a></p><p>TO LE
 ARN ABOUT THE CHARITIES:</p><p>LOCAL: Feed The Need in Durham - <a href="ht
 tps://www.feedtheneedindurham.ca/">www.feedtheneedindurham.ca/</a></p><p><b
 r />GLOBAL: Kidsave - <a href="https://www.kidsave.org/ukraine/">www.kidsav
 e.org/ukraine/</a></p><p>&nbsp;</p><p>&nbsp;</p>
DTSTAMP:20260421T031022
DTSTART;TZID=America/Toronto:20230316T190000
SEQUENCE:0
TRANSP:OPAQUE
END:VEVENT
END:VCALENDAR