BEGIN:VCALENDAR
VERSION:2.0
PRODID:-//jEvents 2.0 for Joomla//EN
CALSCALE:GREGORIAN
METHOD:PUBLISH
BEGIN:VTIMEZONE
TZID:America/Toronto
BEGIN:STANDARD
DTSTART:20221106T010000
RDATE:20230312T030000
TZOFFSETFROM:-0400
TZOFFSETTO:-0500
TZNAME:America/Toronto EST
END:STANDARD
BEGIN:STANDARD
DTSTART:20231105T010000
RDATE:20240310T030000
TZOFFSETFROM:-0400
TZOFFSETTO:-0500
TZNAME:America/Toronto EST
END:STANDARD
BEGIN:STANDARD
DTSTART:20241103T010000
RDATE:20250309T030000
TZOFFSETFROM:-0400
TZOFFSETTO:-0500
TZNAME:America/Toronto EST
END:STANDARD
BEGIN:STANDARD
DTSTART:20251102T010000
RDATE:20260308T030000
TZOFFSETFROM:-0400
TZOFFSETTO:-0500
TZNAME:America/Toronto EST
END:STANDARD
BEGIN:STANDARD
DTSTART:20261101T010000
RDATE:20270314T030000
TZOFFSETFROM:-0400
TZOFFSETTO:-0500
TZNAME:America/Toronto EST
END:STANDARD
BEGIN:STANDARD
DTSTART:20271107T010000
RDATE:20280312T030000
TZOFFSETFROM:-0400
TZOFFSETTO:-0500
TZNAME:America/Toronto EST
END:STANDARD
BEGIN:STANDARD
DTSTART:20281105T010000
RDATE:20290311T030000
TZOFFSETFROM:-0400
TZOFFSETTO:-0500
TZNAME:America/Toronto EST
END:STANDARD
BEGIN:STANDARD
DTSTART:20291104T010000
RDATE:20300310T030000
TZOFFSETFROM:-0400
TZOFFSETTO:-0500
TZNAME:America/Toronto EST
END:STANDARD
BEGIN:STANDARD
DTSTART:20301103T010000
RDATE:20310309T030000
TZOFFSETFROM:-0400
TZOFFSETTO:-0500
TZNAME:America/Toronto EST
END:STANDARD
BEGIN:STANDARD
DTSTART:20311102T010000
RDATE:20320314T030000
TZOFFSETFROM:-0400
TZOFFSETTO:-0500
TZNAME:America/Toronto EST
END:STANDARD
BEGIN:DAYLIGHT
DTSTART:20220422T120000
RDATE:20221106T010000
TZOFFSETFROM:-0500
TZOFFSETTO:-0400
TZNAME:America/Toronto EDT
END:DAYLIGHT
BEGIN:DAYLIGHT
DTSTART:20230312T030000
RDATE:20231105T010000
TZOFFSETFROM:-0500
TZOFFSETTO:-0400
TZNAME:America/Toronto EDT
END:DAYLIGHT
BEGIN:DAYLIGHT
DTSTART:20240310T030000
RDATE:20241103T010000
TZOFFSETFROM:-0500
TZOFFSETTO:-0400
TZNAME:America/Toronto EDT
END:DAYLIGHT
BEGIN:DAYLIGHT
DTSTART:20250309T030000
RDATE:20251102T010000
TZOFFSETFROM:-0500
TZOFFSETTO:-0400
TZNAME:America/Toronto EDT
END:DAYLIGHT
BEGIN:DAYLIGHT
DTSTART:20260308T030000
RDATE:20261101T010000
TZOFFSETFROM:-0500
TZOFFSETTO:-0400
TZNAME:America/Toronto EDT
END:DAYLIGHT
BEGIN:DAYLIGHT
DTSTART:20270314T030000
RDATE:20271107T010000
TZOFFSETFROM:-0500
TZOFFSETTO:-0400
TZNAME:America/Toronto EDT
END:DAYLIGHT
BEGIN:DAYLIGHT
DTSTART:20280312T030000
RDATE:20281105T010000
TZOFFSETFROM:-0500
TZOFFSETTO:-0400
TZNAME:America/Toronto EDT
END:DAYLIGHT
BEGIN:DAYLIGHT
DTSTART:20290311T030000
RDATE:20291104T010000
TZOFFSETFROM:-0500
TZOFFSETTO:-0400
TZNAME:America/Toronto EDT
END:DAYLIGHT
BEGIN:DAYLIGHT
DTSTART:20300310T030000
RDATE:20301103T010000
TZOFFSETFROM:-0500
TZOFFSETTO:-0400
TZNAME:America/Toronto EDT
END:DAYLIGHT
BEGIN:DAYLIGHT
DTSTART:20310309T030000
RDATE:20311102T010000
TZOFFSETFROM:-0500
TZOFFSETTO:-0400
TZNAME:America/Toronto EDT
END:DAYLIGHT
END:VTIMEZONE
BEGIN:VEVENT
UID:7fc9e3099735ddf213b835d0779868d8
CATEGORIES:Durham Events
CREATED:20230304T145745
SUMMARY:Outrun CF Durham 5K Walk/Run
LOCATION:Ajax Rotary Park Pavilion
DESCRIPTION:On Sunday, April 23, friends and family will come together for the 13th Ann
 ual Outrun CF Durham 5K Walk/Run to remember and support Canadians Cystic F
 ibrosis! This year’s event will be run in a hybrid format. In PersonApril 2
 3, 2023 - 12 noonMeet at Ajax Rotary Park Pavilion (Note new location) Virt
 uallyApril 23 - April 30, 2023Complete your walk, from anywhere, your way, 
 on your own time! To register please visit https://changemakers.crowdchange
 .ca/28011. Registration is fast and easy! Follow us on social media for upd
 ates on the event and to find out how your support has advanced cystic fibr
 osis research and care that has more than doubled life expectancy for Canad
 ians living with cystic fibrosis! Facebook - https://www.facebook.com/Outru
 n-CF-Durham-1562147394104001Instagram – outruncfdurham
X-ALT-DESC;FMTTYPE=text/html:<div class="x11i5rnm xat24cr x1mh8g0r x1vvkbs xtlvy1s x126k92a"><div dir="a
 uto">On Sunday, April 23, friends and family will come together for the 13t
 h Annual Outrun CF Durham 5K Walk/Run to remember and support Canadians Cys
 tic Fibrosis!</div><div dir="auto"> </div><div dir="auto">This year’s event
  will be run in a hybrid format.</div></div><div class="x11i5rnm xat24cr x1
 mh8g0r x1vvkbs xtlvy1s x126k92a"><div dir="auto"> </div><div dir="auto"><st
 rong>In Person</strong></div><div dir="auto">April 23, 2023 - 12 noon</div>
 <div dir="auto">Meet at Ajax Rotary Park Pavilion (Note new location)</div>
 </div><div class="x11i5rnm xat24cr x1mh8g0r x1vvkbs xtlvy1s x126k92a"><div 
 dir="auto"> </div><div dir="auto"><strong>Virtually</strong></div><div dir=
 "auto">April 23 - April 30, 2023</div><div dir="auto">Complete your walk, f
 rom anywhere, your way, on your own time!</div></div><div class="x11i5rnm x
 at24cr x1mh8g0r x1vvkbs xtlvy1s x126k92a"><div dir="auto"> </div><div dir="
 auto">To register please visit <a class="x1i10hfl xjbqb8w x6umtig x1b1mbwd 
 xaqea5y xav7gou x9f619 x1ypdohk xt0psk2 xe8uvvx xdj266r x11i5rnm xat24cr x1
 mh8g0r xexx8yu x4uap5 x18d9i69 xkhd6sd x16tdsg8 x1hl2dhg xggy1nq x1a2a7pz x
 t0b8zv x1fey0fg" tabindex="0" href="https://changemakers.crowdchange.ca/280
 11?fbclid=IwAR33-ciLyGyDnjOPrW8Rwon0e8VCPxnGmk6qlo_DbXcyRB9Ep3su2It3x-A" ta
 rget="_blank" rel="nofollow noopener noreferrer">https://changemakers.crowd
 change.ca/28011</a>. Registration is fast and easy!</div></div><div class="
 x11i5rnm xat24cr x1mh8g0r x1vvkbs xtlvy1s x126k92a"><div dir="auto"> </div>
 <div dir="auto">Follow us on social media for updates on the event and to f
 ind out how your support has advanced cystic fibrosis research and care tha
 t has more than doubled life expectancy for Canadians living with cystic fi
 brosis!</div><div dir="auto"> </div></div><div class="x11i5rnm xat24cr x1mh
 8g0r x1vvkbs xtlvy1s x126k92a"><div dir="auto">Facebook - <a class="x1i10hf
 l xjbqb8w x6umtig x1b1mbwd xaqea5y xav7gou x9f619 x1ypdohk xt0psk2 xe8uvvx 
 xdj266r x11i5rnm xat24cr x1mh8g0r xexx8yu x4uap5 x18d9i69 xkhd6sd x16tdsg8 
 x1hl2dhg xggy1nq x1a2a7pz xt0b8zv xzsf02u x1s688f" tabindex="0" href="https
 ://www.facebook.com/Outrun-CF-Durham-1562147394104001?__cft__[0]=AZXjRE82To
 q_QPgWq9AomP0Q75Ynub4CDO7xLG8zGno6McriwKpcrJ97NZf1drAdnfyBBvlO3B_DIByE9WiPe
 gsYtdFlVgrV7i9wsQgfhMO24cBdAAZA-AnO1hr47hAWhHmZsj5rqreuJlUrToSzdOcLy0zVmf0o
 _tGo5H_xpZ0h3lVcRx9Nx9YbuPztS-_f1gQ&amp;__tn__=-UK-R">https://www.facebook.
 com/Outrun-CF-Durham-1562147394104001</a></div><div dir="auto">Instagram – 
 outruncfdurham</div></div>
CONTACT:This email address is being protected from spambots. You need JavaScript enabled to view it.
DTSTAMP:20260421T052015
DTSTART;TZID=America/Toronto:20230423T120000
DTEND;TZID=America/Toronto:20230423T150000
SEQUENCE:0
TRANSP:OPAQUE
END:VEVENT
END:VCALENDAR