BEGIN:VCALENDAR
VERSION:2.0
PRODID:-//jEvents 2.0 for Joomla//EN
CALSCALE:GREGORIAN
METHOD:PUBLISH
BEGIN:VTIMEZONE
TZID:America/Toronto
BEGIN:STANDARD
DTSTART:20220307T190000
RDATE:20220313T030000
TZOFFSETFROM:-0400
TZOFFSETTO:-0500
TZNAME:America/Toronto EST
END:STANDARD
BEGIN:STANDARD
DTSTART:20221106T010000
RDATE:20230312T030000
TZOFFSETFROM:-0400
TZOFFSETTO:-0500
TZNAME:America/Toronto EST
END:STANDARD
BEGIN:STANDARD
DTSTART:20231105T010000
RDATE:20240310T030000
TZOFFSETFROM:-0400
TZOFFSETTO:-0500
TZNAME:America/Toronto EST
END:STANDARD
BEGIN:STANDARD
DTSTART:20241103T010000
RDATE:20250309T030000
TZOFFSETFROM:-0400
TZOFFSETTO:-0500
TZNAME:America/Toronto EST
END:STANDARD
BEGIN:STANDARD
DTSTART:20251102T010000
RDATE:20260308T030000
TZOFFSETFROM:-0400
TZOFFSETTO:-0500
TZNAME:America/Toronto EST
END:STANDARD
BEGIN:STANDARD
DTSTART:20261101T010000
RDATE:20270314T030000
TZOFFSETFROM:-0400
TZOFFSETTO:-0500
TZNAME:America/Toronto EST
END:STANDARD
BEGIN:STANDARD
DTSTART:20271107T010000
RDATE:20280312T030000
TZOFFSETFROM:-0400
TZOFFSETTO:-0500
TZNAME:America/Toronto EST
END:STANDARD
BEGIN:STANDARD
DTSTART:20281105T010000
RDATE:20290311T030000
TZOFFSETFROM:-0400
TZOFFSETTO:-0500
TZNAME:America/Toronto EST
END:STANDARD
BEGIN:STANDARD
DTSTART:20291104T010000
RDATE:20300310T030000
TZOFFSETFROM:-0400
TZOFFSETTO:-0500
TZNAME:America/Toronto EST
END:STANDARD
BEGIN:STANDARD
DTSTART:20301103T010000
RDATE:20310309T030000
TZOFFSETFROM:-0400
TZOFFSETTO:-0500
TZNAME:America/Toronto EST
END:STANDARD
BEGIN:STANDARD
DTSTART:20311102T010000
RDATE:20320314T030000
TZOFFSETFROM:-0400
TZOFFSETTO:-0500
TZNAME:America/Toronto EST
END:STANDARD
BEGIN:DAYLIGHT
DTSTART:20220313T030000
RDATE:20221106T010000
TZOFFSETFROM:-0500
TZOFFSETTO:-0400
TZNAME:America/Toronto EDT
END:DAYLIGHT
BEGIN:DAYLIGHT
DTSTART:20230312T030000
RDATE:20231105T010000
TZOFFSETFROM:-0500
TZOFFSETTO:-0400
TZNAME:America/Toronto EDT
END:DAYLIGHT
BEGIN:DAYLIGHT
DTSTART:20240310T030000
RDATE:20241103T010000
TZOFFSETFROM:-0500
TZOFFSETTO:-0400
TZNAME:America/Toronto EDT
END:DAYLIGHT
BEGIN:DAYLIGHT
DTSTART:20250309T030000
RDATE:20251102T010000
TZOFFSETFROM:-0500
TZOFFSETTO:-0400
TZNAME:America/Toronto EDT
END:DAYLIGHT
BEGIN:DAYLIGHT
DTSTART:20260308T030000
RDATE:20261101T010000
TZOFFSETFROM:-0500
TZOFFSETTO:-0400
TZNAME:America/Toronto EDT
END:DAYLIGHT
BEGIN:DAYLIGHT
DTSTART:20270314T030000
RDATE:20271107T010000
TZOFFSETFROM:-0500
TZOFFSETTO:-0400
TZNAME:America/Toronto EDT
END:DAYLIGHT
BEGIN:DAYLIGHT
DTSTART:20280312T030000
RDATE:20281105T010000
TZOFFSETFROM:-0500
TZOFFSETTO:-0400
TZNAME:America/Toronto EDT
END:DAYLIGHT
BEGIN:DAYLIGHT
DTSTART:20290311T030000
RDATE:20291104T010000
TZOFFSETFROM:-0500
TZOFFSETTO:-0400
TZNAME:America/Toronto EDT
END:DAYLIGHT
BEGIN:DAYLIGHT
DTSTART:20300310T030000
RDATE:20301103T010000
TZOFFSETFROM:-0500
TZOFFSETTO:-0400
TZNAME:America/Toronto EDT
END:DAYLIGHT
BEGIN:DAYLIGHT
DTSTART:20310309T030000
RDATE:20311102T010000
TZOFFSETFROM:-0500
TZOFFSETTO:-0400
TZNAME:America/Toronto EDT
END:DAYLIGHT
END:VTIMEZONE
BEGIN:VEVENT
UID:5a38947f696f19e025e7d47b18068b18
CATEGORIES:Durham Events
CREATED:20230228T151330
SUMMARY:Meet the Author: Margaret Rodgers
LOCATION:405 Dundas Street West\, Whitby\, ON\, L1N 6A1
DESCRIPTION:Bobby Sox and Bicycles with Margaret RodgersIn celebration of International
  Women's Day (https://www.internationalwomensday.com/), author Margaret Rod
 gers will read from her book-in-progress, "Maple Park" - a coming-of-age ch
 ronicle about her life in a 1950s subdivision. Artwork and original photogr
 aphs will accompany the reading.\nMargaret is an artist, writer, and curato
 r. Her works have been published in numerous publications and she’s been a 
 leader in the contemporary art community of Durham Region since the 1990s.\
 nShe is the founder of The IRIS Group Women Artists Collective, has taught 
 at Durham and Centennial Colleges, and was Director/Curator at the Visual A
 rts Centre of Clarington. In June 2022 she was the recipient of the Oshawa 
 Culture Counts Professional Artist Award.  \nRegister today at https://whit
 bylibrary.libcal.com/event/3704861\nThis event is made possible due to the 
 financial assistance of the Canada Council for the Arts (https://canadacoun
 cil.ca/) through The Writers’ Union of Canada (https://www.writersunion.ca/
 ).\n
X-ALT-DESC;FMTTYPE=text/html:<h3 class="media-heading">Bobby Sox and Bicycles with Margaret Rodgers</h3>
 <div id="s-lc-event-desc"><p>In celebration of <a href="https://www.interna
 tionalwomensday.com/">International Women's Day</a>, author Margaret Rodger
 s will read from her book-in-progress, "Maple Park" - a coming-of-age chron
 icle about her life in a 1950s subdivision. Artwork and original photograph
 s will accompany the reading.</p><p>Margaret is an artist, writer, and cura
 tor. Her works have been published in numerous publications and she’s been 
 a leader in the contemporary art community of Durham Region since the 1990s
 .</p><p>She is the founder of The IRIS Group Women Artists Collective, has 
 taught at Durham and Centennial Colleges, and was Director/Curator at the V
 isual Arts Centre of Clarington. In June 2022 she was the recipient of the 
 Oshawa Culture Counts Professional Artist Award.  </p><p><strong>Register t
 oday at https://whitbylibrary.libcal.com/event/3704861</strong></p><p>This 
 event is made possible due to the financial assistance of the <a href="http
 s://canadacouncil.ca/">Canada Council for the Arts</a> through <a href="htt
 ps://www.writersunion.ca/">The Writers’ Union of Canada</a>.</p></div>
DTSTAMP:20260421T012654
DTSTART;TZID=America/Toronto:20230308T190000
DTEND;TZID=America/Toronto:20230308T200000
SEQUENCE:0
TRANSP:OPAQUE
END:VEVENT
END:VCALENDAR