BEGIN:VCALENDAR
VERSION:2.0
PRODID:-//jEvents 2.0 for Joomla//EN
CALSCALE:GREGORIAN
METHOD:PUBLISH
BEGIN:VTIMEZONE
TZID:America/Toronto
BEGIN:STANDARD
DTSTART:20221106T010000
RDATE:20230312T030000
TZOFFSETFROM:-0400
TZOFFSETTO:-0500
TZNAME:America/Toronto EST
END:STANDARD
BEGIN:STANDARD
DTSTART:20231105T010000
RDATE:20240310T030000
TZOFFSETFROM:-0400
TZOFFSETTO:-0500
TZNAME:America/Toronto EST
END:STANDARD
BEGIN:STANDARD
DTSTART:20241103T010000
RDATE:20250309T030000
TZOFFSETFROM:-0400
TZOFFSETTO:-0500
TZNAME:America/Toronto EST
END:STANDARD
BEGIN:STANDARD
DTSTART:20251102T010000
RDATE:20260308T030000
TZOFFSETFROM:-0400
TZOFFSETTO:-0500
TZNAME:America/Toronto EST
END:STANDARD
BEGIN:STANDARD
DTSTART:20261101T010000
RDATE:20270314T030000
TZOFFSETFROM:-0400
TZOFFSETTO:-0500
TZNAME:America/Toronto EST
END:STANDARD
BEGIN:STANDARD
DTSTART:20271107T010000
RDATE:20280312T030000
TZOFFSETFROM:-0400
TZOFFSETTO:-0500
TZNAME:America/Toronto EST
END:STANDARD
BEGIN:STANDARD
DTSTART:20281105T010000
RDATE:20290311T030000
TZOFFSETFROM:-0400
TZOFFSETTO:-0500
TZNAME:America/Toronto EST
END:STANDARD
BEGIN:STANDARD
DTSTART:20291104T010000
RDATE:20300310T030000
TZOFFSETFROM:-0400
TZOFFSETTO:-0500
TZNAME:America/Toronto EST
END:STANDARD
BEGIN:STANDARD
DTSTART:20301103T010000
RDATE:20310309T030000
TZOFFSETFROM:-0400
TZOFFSETTO:-0500
TZNAME:America/Toronto EST
END:STANDARD
BEGIN:STANDARD
DTSTART:20311102T010000
RDATE:20320314T030000
TZOFFSETFROM:-0400
TZOFFSETTO:-0500
TZNAME:America/Toronto EST
END:STANDARD
BEGIN:DAYLIGHT
DTSTART:20220316T093000
RDATE:20221106T010000
TZOFFSETFROM:-0500
TZOFFSETTO:-0400
TZNAME:America/Toronto EDT
END:DAYLIGHT
BEGIN:DAYLIGHT
DTSTART:20230312T030000
RDATE:20231105T010000
TZOFFSETFROM:-0500
TZOFFSETTO:-0400
TZNAME:America/Toronto EDT
END:DAYLIGHT
BEGIN:DAYLIGHT
DTSTART:20240310T030000
RDATE:20241103T010000
TZOFFSETFROM:-0500
TZOFFSETTO:-0400
TZNAME:America/Toronto EDT
END:DAYLIGHT
BEGIN:DAYLIGHT
DTSTART:20250309T030000
RDATE:20251102T010000
TZOFFSETFROM:-0500
TZOFFSETTO:-0400
TZNAME:America/Toronto EDT
END:DAYLIGHT
BEGIN:DAYLIGHT
DTSTART:20260308T030000
RDATE:20261101T010000
TZOFFSETFROM:-0500
TZOFFSETTO:-0400
TZNAME:America/Toronto EDT
END:DAYLIGHT
BEGIN:DAYLIGHT
DTSTART:20270314T030000
RDATE:20271107T010000
TZOFFSETFROM:-0500
TZOFFSETTO:-0400
TZNAME:America/Toronto EDT
END:DAYLIGHT
BEGIN:DAYLIGHT
DTSTART:20280312T030000
RDATE:20281105T010000
TZOFFSETFROM:-0500
TZOFFSETTO:-0400
TZNAME:America/Toronto EDT
END:DAYLIGHT
BEGIN:DAYLIGHT
DTSTART:20290311T030000
RDATE:20291104T010000
TZOFFSETFROM:-0500
TZOFFSETTO:-0400
TZNAME:America/Toronto EDT
END:DAYLIGHT
BEGIN:DAYLIGHT
DTSTART:20300310T030000
RDATE:20301103T010000
TZOFFSETFROM:-0500
TZOFFSETTO:-0400
TZNAME:America/Toronto EDT
END:DAYLIGHT
BEGIN:DAYLIGHT
DTSTART:20310309T030000
RDATE:20311102T010000
TZOFFSETFROM:-0500
TZOFFSETTO:-0400
TZNAME:America/Toronto EDT
END:DAYLIGHT
END:VTIMEZONE
BEGIN:VEVENT
UID:7540dd126c32c5c7cd526b563cb0328d
CATEGORIES:Durham Events
CREATED:20230222T123013
SUMMARY:Black Girls Empowered Workshop
LOCATION:Ajax Public Library\, Main Branch\, 55 Harwood Avenue South\, Ajax
DESCRIPTION:<div class="clearfix text-formatted field field--name-field-mt-evn-body fie
 ld--type-text-with-summary field--label-hidden field__item"><p><strong>Inte
 nded for girls who self-identify as Black, grades 6 - 9 (ages 11 - 15). <br
  />Hosted at Main Branch.<br />Advanced registration required. <br />Free. 
 </strong></p><p><span lang="EN-CA" xmllang="EN-CA">This upbeat, fun worksho
 p will explore, embrace, and value what it is to be a Black preteen and tee
 n. There will be presentations and break-out sessions that will include han
 ds-on activities and chats with a self empowerment focus.</span></p><p><spa
 n lang="EN-CA" xmllang="EN-CA">Presented by the Congress of Black Women of 
 Canada, Ajax/Pickering Chapter.</span></p><p><u><strong><a class="ext" href
 ="https://docs.google.com/forms/d/e/1FAIpQLSchEb9fqPiNyNkhOY28kDFffpYgxwtVh
 HL7ZORl_FSYW7xx-w/viewform" target="_blank" rel="noopener noreferrer" data-
 extlink="">Register online</a></strong></u>, visit the <u><a class="ext" hr
 ef="https://ajax-pickering.cbwc-ontario.org/upcoming-events/" target="_blan
 k" rel="noopener noreferrer" data-extlink="">Congress of Black Women of Can
 ada website</a></u> for more information, o<span lang="EN-CA" xmllang="EN-C
 A">r email <a class="mailto" href="mailto:cbwc.ajaxpickering@gmail.com" dat
 a-extlink=""><u><joomla-hidden-mail  is-link="1" is-email="1" first="Y2J3Yy
 5hamF4cGlja2VyaW5n" last="Z21haWwuY29t" text="Y2J3Yy5hamF4cGlja2VyaW5nQGdtY
 WlsLmNvbQ==" base="" >This email address is being protected from spambots. 
 You need JavaScript enabled to view it.</joomla-hidden-mail></u></a>.</span
 ></p></div><div class="field field--name-field-mt-evn-branch field--type-en
 tity-reference field--label-hidden field--entity-reference-target-type-taxo
 nomy-term clearfix field__item"> </div>
CONTACT:This email address is being protected from spambots. You need JavaScript enabled to view it.
DTSTAMP:20260421T031533
DTSTART;TZID=America/Toronto:20230317T093000
DTEND;TZID=America/Toronto:20230317T160000
SEQUENCE:0
TRANSP:OPAQUE
END:VEVENT
END:VCALENDAR