BEGIN:VCALENDAR
VERSION:2.0
PRODID:-//jEvents 2.0 for Joomla//EN
CALSCALE:GREGORIAN
METHOD:PUBLISH
BEGIN:VTIMEZONE
TZID:America/Toronto
BEGIN:STANDARD
DTSTART:20220219T090000
RDATE:20220313T030000
TZOFFSETFROM:-0400
TZOFFSETTO:-0500
TZNAME:America/Toronto EST
END:STANDARD
BEGIN:STANDARD
DTSTART:20221106T010000
RDATE:20230312T030000
TZOFFSETFROM:-0400
TZOFFSETTO:-0500
TZNAME:America/Toronto EST
END:STANDARD
BEGIN:STANDARD
DTSTART:20231105T010000
RDATE:20240310T030000
TZOFFSETFROM:-0400
TZOFFSETTO:-0500
TZNAME:America/Toronto EST
END:STANDARD
BEGIN:STANDARD
DTSTART:20241103T010000
RDATE:20250309T030000
TZOFFSETFROM:-0400
TZOFFSETTO:-0500
TZNAME:America/Toronto EST
END:STANDARD
BEGIN:STANDARD
DTSTART:20251102T010000
RDATE:20260308T030000
TZOFFSETFROM:-0400
TZOFFSETTO:-0500
TZNAME:America/Toronto EST
END:STANDARD
BEGIN:STANDARD
DTSTART:20261101T010000
RDATE:20270314T030000
TZOFFSETFROM:-0400
TZOFFSETTO:-0500
TZNAME:America/Toronto EST
END:STANDARD
BEGIN:STANDARD
DTSTART:20271107T010000
RDATE:20280312T030000
TZOFFSETFROM:-0400
TZOFFSETTO:-0500
TZNAME:America/Toronto EST
END:STANDARD
BEGIN:STANDARD
DTSTART:20281105T010000
RDATE:20290311T030000
TZOFFSETFROM:-0400
TZOFFSETTO:-0500
TZNAME:America/Toronto EST
END:STANDARD
BEGIN:STANDARD
DTSTART:20291104T010000
RDATE:20300310T030000
TZOFFSETFROM:-0400
TZOFFSETTO:-0500
TZNAME:America/Toronto EST
END:STANDARD
BEGIN:STANDARD
DTSTART:20301103T010000
RDATE:20310309T030000
TZOFFSETFROM:-0400
TZOFFSETTO:-0500
TZNAME:America/Toronto EST
END:STANDARD
BEGIN:STANDARD
DTSTART:20311102T010000
RDATE:20320314T030000
TZOFFSETFROM:-0400
TZOFFSETTO:-0500
TZNAME:America/Toronto EST
END:STANDARD
BEGIN:DAYLIGHT
DTSTART:20220313T030000
RDATE:20221106T010000
TZOFFSETFROM:-0500
TZOFFSETTO:-0400
TZNAME:America/Toronto EDT
END:DAYLIGHT
BEGIN:DAYLIGHT
DTSTART:20230312T030000
RDATE:20231105T010000
TZOFFSETFROM:-0500
TZOFFSETTO:-0400
TZNAME:America/Toronto EDT
END:DAYLIGHT
BEGIN:DAYLIGHT
DTSTART:20240310T030000
RDATE:20241103T010000
TZOFFSETFROM:-0500
TZOFFSETTO:-0400
TZNAME:America/Toronto EDT
END:DAYLIGHT
BEGIN:DAYLIGHT
DTSTART:20250309T030000
RDATE:20251102T010000
TZOFFSETFROM:-0500
TZOFFSETTO:-0400
TZNAME:America/Toronto EDT
END:DAYLIGHT
BEGIN:DAYLIGHT
DTSTART:20260308T030000
RDATE:20261101T010000
TZOFFSETFROM:-0500
TZOFFSETTO:-0400
TZNAME:America/Toronto EDT
END:DAYLIGHT
BEGIN:DAYLIGHT
DTSTART:20270314T030000
RDATE:20271107T010000
TZOFFSETFROM:-0500
TZOFFSETTO:-0400
TZNAME:America/Toronto EDT
END:DAYLIGHT
BEGIN:DAYLIGHT
DTSTART:20280312T030000
RDATE:20281105T010000
TZOFFSETFROM:-0500
TZOFFSETTO:-0400
TZNAME:America/Toronto EDT
END:DAYLIGHT
BEGIN:DAYLIGHT
DTSTART:20290311T030000
RDATE:20291104T010000
TZOFFSETFROM:-0500
TZOFFSETTO:-0400
TZNAME:America/Toronto EDT
END:DAYLIGHT
BEGIN:DAYLIGHT
DTSTART:20300310T030000
RDATE:20301103T010000
TZOFFSETFROM:-0500
TZOFFSETTO:-0400
TZNAME:America/Toronto EDT
END:DAYLIGHT
BEGIN:DAYLIGHT
DTSTART:20310309T030000
RDATE:20311102T010000
TZOFFSETFROM:-0500
TZOFFSETTO:-0400
TZNAME:America/Toronto EDT
END:DAYLIGHT
END:VTIMEZONE
BEGIN:VEVENT
UID:030833ba550d291d45265d5d079bc5f5
CATEGORIES:Durham Events
CREATED:20230216T111647
SUMMARY:Family Day Scavenger Hunt
LOCATION:99 SIMCOE Street South Oshawa 
DESCRIPTION:Come see some Disney this Family Day ! KIDS 5 AND UNDER ALWAYS FREE WITH PA
 RENT !Join us Family Day, Monday February 20th, for a day full of special a
 ctivities! Look forward to...⭐️ A prize-filled scavenger hunt (while supply
  lasts)⭐️ 3D paper model cars⭐️ Balloon animals by Balloons With A Twist (1
 0am-3pm)  Over 50 cars on display from Buick to Bugatti over 20 000 square 
 feet on two floors99 SIMCOE Street South Oshawa All proceeds support the Ca
 nadian Automotive Museum which is a not for profit charity You can purchase
  your tickets online or at the door
X-ALT-DESC;FMTTYPE=text/html:<div dir="auto">Come see some Disney this Family Day !&nbsp;<br aria-hidden
 ="true" /></div><div dir="auto"><br aria-hidden="true" /></div><div dir="au
 to">KIDS 5 AND UNDER ALWAYS FREE WITH PARENT !</div><div dir="auto"><br ari
 a-hidden="true" /></div><div dir="auto">Join us Family Day, Monday February
  20th, for a day full of special activities! Look forward to...</div><div d
 ir="auto"><br aria-hidden="true" /></div><div dir="auto">⭐️ A prize-filled 
 scavenger hunt (while supply lasts)</div><div dir="auto">⭐️ 3D paper model 
 cars</div><div dir="auto">⭐️ Balloon animals by Balloons With A Twist (10am
 -3pm)&nbsp;&nbsp;</div><div dir="auto"><br aria-hidden="true" /></div><div 
 dir="auto">Over 50 cars on display from Buick to Bugatti over 20 000 square
  feet on two floors</div><div dir="auto"><br aria-hidden="true" /></div><di
 v dir="auto">99 SIMCOE Street South Oshawa&nbsp;</div><div dir="auto"><br a
 ria-hidden="true" /></div><div dir="auto">All proceeds support the Canadian
  Automotive Museum which is a not for profit charity&nbsp;</div><div dir="a
 uto"><br aria-hidden="true" /></div><div dir="auto">You can purchase your t
 ickets online or at the door</div>
DTSTAMP:20260421T010916
DTSTART;TZID=America/Toronto:20230220T090000
DTEND;TZID=America/Toronto:20230220T170000
SEQUENCE:0
TRANSP:OPAQUE
END:VEVENT
END:VCALENDAR