BEGIN:VCALENDAR
VERSION:2.0
PRODID:-//jEvents 2.0 for Joomla//EN
CALSCALE:GREGORIAN
METHOD:PUBLISH
BEGIN:VTIMEZONE
TZID:America/Toronto
BEGIN:STANDARD
DTSTART:20220215T150000
RDATE:20220313T030000
TZOFFSETFROM:-0400
TZOFFSETTO:-0500
TZNAME:America/Toronto EST
END:STANDARD
BEGIN:STANDARD
DTSTART:20221106T010000
RDATE:20230312T030000
TZOFFSETFROM:-0400
TZOFFSETTO:-0500
TZNAME:America/Toronto EST
END:STANDARD
BEGIN:STANDARD
DTSTART:20231105T010000
RDATE:20240310T030000
TZOFFSETFROM:-0400
TZOFFSETTO:-0500
TZNAME:America/Toronto EST
END:STANDARD
BEGIN:STANDARD
DTSTART:20241103T010000
RDATE:20250309T030000
TZOFFSETFROM:-0400
TZOFFSETTO:-0500
TZNAME:America/Toronto EST
END:STANDARD
BEGIN:STANDARD
DTSTART:20251102T010000
RDATE:20260308T030000
TZOFFSETFROM:-0400
TZOFFSETTO:-0500
TZNAME:America/Toronto EST
END:STANDARD
BEGIN:STANDARD
DTSTART:20261101T010000
RDATE:20270314T030000
TZOFFSETFROM:-0400
TZOFFSETTO:-0500
TZNAME:America/Toronto EST
END:STANDARD
BEGIN:STANDARD
DTSTART:20271107T010000
RDATE:20280312T030000
TZOFFSETFROM:-0400
TZOFFSETTO:-0500
TZNAME:America/Toronto EST
END:STANDARD
BEGIN:STANDARD
DTSTART:20281105T010000
RDATE:20290311T030000
TZOFFSETFROM:-0400
TZOFFSETTO:-0500
TZNAME:America/Toronto EST
END:STANDARD
BEGIN:STANDARD
DTSTART:20291104T010000
RDATE:20300310T030000
TZOFFSETFROM:-0400
TZOFFSETTO:-0500
TZNAME:America/Toronto EST
END:STANDARD
BEGIN:STANDARD
DTSTART:20301103T010000
RDATE:20310309T030000
TZOFFSETFROM:-0400
TZOFFSETTO:-0500
TZNAME:America/Toronto EST
END:STANDARD
BEGIN:STANDARD
DTSTART:20311102T010000
RDATE:20320314T030000
TZOFFSETFROM:-0400
TZOFFSETTO:-0500
TZNAME:America/Toronto EST
END:STANDARD
BEGIN:DAYLIGHT
DTSTART:20220313T030000
RDATE:20221106T010000
TZOFFSETFROM:-0500
TZOFFSETTO:-0400
TZNAME:America/Toronto EDT
END:DAYLIGHT
BEGIN:DAYLIGHT
DTSTART:20230312T030000
RDATE:20231105T010000
TZOFFSETFROM:-0500
TZOFFSETTO:-0400
TZNAME:America/Toronto EDT
END:DAYLIGHT
BEGIN:DAYLIGHT
DTSTART:20240310T030000
RDATE:20241103T010000
TZOFFSETFROM:-0500
TZOFFSETTO:-0400
TZNAME:America/Toronto EDT
END:DAYLIGHT
BEGIN:DAYLIGHT
DTSTART:20250309T030000
RDATE:20251102T010000
TZOFFSETFROM:-0500
TZOFFSETTO:-0400
TZNAME:America/Toronto EDT
END:DAYLIGHT
BEGIN:DAYLIGHT
DTSTART:20260308T030000
RDATE:20261101T010000
TZOFFSETFROM:-0500
TZOFFSETTO:-0400
TZNAME:America/Toronto EDT
END:DAYLIGHT
BEGIN:DAYLIGHT
DTSTART:20270314T030000
RDATE:20271107T010000
TZOFFSETFROM:-0500
TZOFFSETTO:-0400
TZNAME:America/Toronto EDT
END:DAYLIGHT
BEGIN:DAYLIGHT
DTSTART:20280312T030000
RDATE:20281105T010000
TZOFFSETFROM:-0500
TZOFFSETTO:-0400
TZNAME:America/Toronto EDT
END:DAYLIGHT
BEGIN:DAYLIGHT
DTSTART:20290311T030000
RDATE:20291104T010000
TZOFFSETFROM:-0500
TZOFFSETTO:-0400
TZNAME:America/Toronto EDT
END:DAYLIGHT
BEGIN:DAYLIGHT
DTSTART:20300310T030000
RDATE:20301103T010000
TZOFFSETFROM:-0500
TZOFFSETTO:-0400
TZNAME:America/Toronto EDT
END:DAYLIGHT
BEGIN:DAYLIGHT
DTSTART:20310309T030000
RDATE:20311102T010000
TZOFFSETFROM:-0500
TZOFFSETTO:-0400
TZNAME:America/Toronto EDT
END:DAYLIGHT
END:VTIMEZONE
BEGIN:VEVENT
UID:df18ff3df5580f4366f879a6666cda99RR36435
CATEGORIES:Durham Events
CREATED:19691231T190000
SUMMARY:Teen Advisory Group (Courtice)
LOCATION:2950 Courtice Road\, Courtice\, ON L1E 2H8
DESCRIPTION:[Grades 7-12; Ages 12-18]\n\nCourtice Branch\nThird Thursday of each month 
 (Feb 16, March 16, April 20, May 18, June 15)\n3:00 to 4:00 p.m.\n\nDrop in
 ; no registration required.\n\nEarn volunteer hours at the library! We are 
 looking for enthusiastic youth in grades 7-12 to join our new Teen Advisory
  Groups (TAG). TAG members will have a say in library programs and services
  for teens, assist with children's programs, learn leadership skills, and m
 ore!\n\nStudents who attend TAG meetings will receive additional volunteer 
 opportunities throughout the year!\n\nMore info: www.clarington-library.on.
 ca/node/3680 (https://www.clarington-library.on.ca/node/3680)\n
X-ALT-DESC;FMTTYPE=text/html:<p>[Grades 7-12; Ages 12-18]<br /><br /><strong>Courtice Branch</strong><br
  /><strong>Third Thursday of each month (Feb 16, March 16, April 20, May 18
 , June 15)</strong><br /><strong>3:00 to 4:00 p.m.</strong><br /><br /><str
 ong>Drop in; no registration required.</strong><br /><br />Earn volunteer h
 ours at the library! We are looking for enthusiastic youth in grades 7-12 t
 o join our new Teen Advisory Groups (TAG). TAG members will have a say in l
 ibrary programs and services for teens, assist with children's programs, le
 arn leadership skills, and more!<br /><br />Students who attend TAG meeting
 s will receive additional volunteer opportunities throughout the year!<br /
 ><br />More info: <a href="https://www.clarington-library.on.ca/node/3680" 
 target="_blank" rel="noopener noreferrer">www.clarington-library.on.ca/node
 /3680</a></p>
CONTACT:Clarington Public Library, Museums, and Archives
X-EXTRAINFO:905-623-7322 \ninfo@clarington-library.on.ca \nwww.clarington-library.on.ca
  
DTSTAMP:20260421T005535
DTSTART;TZID=America/Toronto:20230216T150000
DTEND;TZID=America/Toronto:20230216T160000
SEQUENCE:0
TRANSP:OPAQUE
END:VEVENT
END:VCALENDAR