BEGIN:VCALENDAR
VERSION:2.0
PRODID:-//jEvents 2.0 for Joomla//EN
CALSCALE:GREGORIAN
METHOD:PUBLISH
BEGIN:VTIMEZONE
TZID:America/Toronto
BEGIN:STANDARD
DTSTART:20220216T100000
RDATE:20220313T030000
TZOFFSETFROM:-0400
TZOFFSETTO:-0500
TZNAME:America/Toronto EST
END:STANDARD
BEGIN:STANDARD
DTSTART:20221106T010000
RDATE:20230312T030000
TZOFFSETFROM:-0400
TZOFFSETTO:-0500
TZNAME:America/Toronto EST
END:STANDARD
BEGIN:STANDARD
DTSTART:20231105T010000
RDATE:20240310T030000
TZOFFSETFROM:-0400
TZOFFSETTO:-0500
TZNAME:America/Toronto EST
END:STANDARD
BEGIN:STANDARD
DTSTART:20241103T010000
RDATE:20250309T030000
TZOFFSETFROM:-0400
TZOFFSETTO:-0500
TZNAME:America/Toronto EST
END:STANDARD
BEGIN:STANDARD
DTSTART:20251102T010000
RDATE:20260308T030000
TZOFFSETFROM:-0400
TZOFFSETTO:-0500
TZNAME:America/Toronto EST
END:STANDARD
BEGIN:STANDARD
DTSTART:20261101T010000
RDATE:20270314T030000
TZOFFSETFROM:-0400
TZOFFSETTO:-0500
TZNAME:America/Toronto EST
END:STANDARD
BEGIN:STANDARD
DTSTART:20271107T010000
RDATE:20280312T030000
TZOFFSETFROM:-0400
TZOFFSETTO:-0500
TZNAME:America/Toronto EST
END:STANDARD
BEGIN:STANDARD
DTSTART:20281105T010000
RDATE:20290311T030000
TZOFFSETFROM:-0400
TZOFFSETTO:-0500
TZNAME:America/Toronto EST
END:STANDARD
BEGIN:STANDARD
DTSTART:20291104T010000
RDATE:20300310T030000
TZOFFSETFROM:-0400
TZOFFSETTO:-0500
TZNAME:America/Toronto EST
END:STANDARD
BEGIN:STANDARD
DTSTART:20301103T010000
RDATE:20310309T030000
TZOFFSETFROM:-0400
TZOFFSETTO:-0500
TZNAME:America/Toronto EST
END:STANDARD
BEGIN:STANDARD
DTSTART:20311102T010000
RDATE:20320314T030000
TZOFFSETFROM:-0400
TZOFFSETTO:-0500
TZNAME:America/Toronto EST
END:STANDARD
BEGIN:DAYLIGHT
DTSTART:20220313T030000
RDATE:20221106T010000
TZOFFSETFROM:-0500
TZOFFSETTO:-0400
TZNAME:America/Toronto EDT
END:DAYLIGHT
BEGIN:DAYLIGHT
DTSTART:20230312T030000
RDATE:20231105T010000
TZOFFSETFROM:-0500
TZOFFSETTO:-0400
TZNAME:America/Toronto EDT
END:DAYLIGHT
BEGIN:DAYLIGHT
DTSTART:20240310T030000
RDATE:20241103T010000
TZOFFSETFROM:-0500
TZOFFSETTO:-0400
TZNAME:America/Toronto EDT
END:DAYLIGHT
BEGIN:DAYLIGHT
DTSTART:20250309T030000
RDATE:20251102T010000
TZOFFSETFROM:-0500
TZOFFSETTO:-0400
TZNAME:America/Toronto EDT
END:DAYLIGHT
BEGIN:DAYLIGHT
DTSTART:20260308T030000
RDATE:20261101T010000
TZOFFSETFROM:-0500
TZOFFSETTO:-0400
TZNAME:America/Toronto EDT
END:DAYLIGHT
BEGIN:DAYLIGHT
DTSTART:20270314T030000
RDATE:20271107T010000
TZOFFSETFROM:-0500
TZOFFSETTO:-0400
TZNAME:America/Toronto EDT
END:DAYLIGHT
BEGIN:DAYLIGHT
DTSTART:20280312T030000
RDATE:20281105T010000
TZOFFSETFROM:-0500
TZOFFSETTO:-0400
TZNAME:America/Toronto EDT
END:DAYLIGHT
BEGIN:DAYLIGHT
DTSTART:20290311T030000
RDATE:20291104T010000
TZOFFSETFROM:-0500
TZOFFSETTO:-0400
TZNAME:America/Toronto EDT
END:DAYLIGHT
BEGIN:DAYLIGHT
DTSTART:20300310T030000
RDATE:20301103T010000
TZOFFSETFROM:-0500
TZOFFSETTO:-0400
TZNAME:America/Toronto EDT
END:DAYLIGHT
BEGIN:DAYLIGHT
DTSTART:20310309T030000
RDATE:20311102T010000
TZOFFSETFROM:-0500
TZOFFSETTO:-0400
TZNAME:America/Toronto EDT
END:DAYLIGHT
END:VTIMEZONE
BEGIN:VEVENT
UID:fd5581c0ad7bc70fb980bcaea7b0c338
CATEGORIES:Durham Events
CREATED:20230213T124047
SUMMARY:Winter WonderLearn Festival
LOCATION:Clarington Public Library\, Museums\, and Archives\, all locations 
DESCRIPTION:<p>Family Day Weekend<br />Friday, February 17 to Monday, February 20, 2023
 <br />All locations<br /><br />Enjoy free family fun with the award-winning
  festival designed to get you active, learn something new, and enjoy time t
 ogether! We're excited to present the 20th annual Winter WonderLearn festiv
 al with in-person elements this year, generously sponsored by Ontario Power
  Generation!</p><p>Come in for a mix of registered and drop-in programs, fo
 r a weekend of fun! Check out the full schedule at<a href="Check out the fu
 ll schedule at www.clarington-library.on.ca/wwl2023" target="_blank" rel="n
 oopener noreferrer"> www.clarington-library.on.ca/wwl2023</a>!</p><p> </p>
X-ALT-DESC;FMTTYPE=text/html:<p>Family Day Weekend<br />Friday, February 17 to Monday, February 20, 2023
 <br />All locations<br /><br />Enjoy free family fun with the award-winning
  festival designed to get you active, learn something new, and enjoy time t
 ogether! We're excited to present the 20th annual Winter WonderLearn festiv
 al with in-person elements this year, generously sponsored by Ontario Power
  Generation!</p><p>Come in for a mix of registered and drop-in programs, fo
 r a weekend of fun! Check out the full schedule at<a href="https://www.durh
 amradioevents.com/Check out the full schedule at www.clarington-library.on.
 ca/wwl2023" target="_blank" rel="noopener noreferrer"> www.clarington-libra
 ry.on.ca/wwl2023</a>!</p><p> </p>
CONTACT:905-623-7322
X-EXTRAINFO:This email address is being protected from spambots. You need JavaScript en
 abled to view it.\nwww.clarington-library.on.ca\n
DTSTAMP:20260420T212927
DTSTART;TZID=America/Toronto:20230217T100000
DTEND;TZID=America/Toronto:20230217T170000
SEQUENCE:0
TRANSP:OPAQUE
END:VEVENT
END:VCALENDAR