BEGIN:VCALENDAR
VERSION:2.0
PRODID:-//jEvents 2.0 for Joomla//EN
CALSCALE:GREGORIAN
METHOD:PUBLISH
BEGIN:VTIMEZONE
TZID:America/Toronto
BEGIN:STANDARD
DTSTART:20221106T010000
RDATE:20230312T030000
TZOFFSETFROM:-0400
TZOFFSETTO:-0500
TZNAME:America/Toronto EST
END:STANDARD
BEGIN:STANDARD
DTSTART:20231105T010000
RDATE:20240310T030000
TZOFFSETFROM:-0400
TZOFFSETTO:-0500
TZNAME:America/Toronto EST
END:STANDARD
BEGIN:STANDARD
DTSTART:20241103T010000
RDATE:20250309T030000
TZOFFSETFROM:-0400
TZOFFSETTO:-0500
TZNAME:America/Toronto EST
END:STANDARD
BEGIN:STANDARD
DTSTART:20251102T010000
RDATE:20260308T030000
TZOFFSETFROM:-0400
TZOFFSETTO:-0500
TZNAME:America/Toronto EST
END:STANDARD
BEGIN:STANDARD
DTSTART:20261101T010000
RDATE:20270314T030000
TZOFFSETFROM:-0400
TZOFFSETTO:-0500
TZNAME:America/Toronto EST
END:STANDARD
BEGIN:STANDARD
DTSTART:20271107T010000
RDATE:20280312T030000
TZOFFSETFROM:-0400
TZOFFSETTO:-0500
TZNAME:America/Toronto EST
END:STANDARD
BEGIN:STANDARD
DTSTART:20281105T010000
RDATE:20290311T030000
TZOFFSETFROM:-0400
TZOFFSETTO:-0500
TZNAME:America/Toronto EST
END:STANDARD
BEGIN:STANDARD
DTSTART:20291104T010000
RDATE:20300310T030000
TZOFFSETFROM:-0400
TZOFFSETTO:-0500
TZNAME:America/Toronto EST
END:STANDARD
BEGIN:STANDARD
DTSTART:20301103T010000
RDATE:20310309T030000
TZOFFSETFROM:-0400
TZOFFSETTO:-0500
TZNAME:America/Toronto EST
END:STANDARD
BEGIN:STANDARD
DTSTART:20311102T010000
RDATE:20320314T030000
TZOFFSETFROM:-0400
TZOFFSETTO:-0500
TZNAME:America/Toronto EST
END:STANDARD
BEGIN:DAYLIGHT
DTSTART:20220401T110000
RDATE:20221106T010000
TZOFFSETFROM:-0500
TZOFFSETTO:-0400
TZNAME:America/Toronto EDT
END:DAYLIGHT
BEGIN:DAYLIGHT
DTSTART:20230312T030000
RDATE:20231105T010000
TZOFFSETFROM:-0500
TZOFFSETTO:-0400
TZNAME:America/Toronto EDT
END:DAYLIGHT
BEGIN:DAYLIGHT
DTSTART:20240310T030000
RDATE:20241103T010000
TZOFFSETFROM:-0500
TZOFFSETTO:-0400
TZNAME:America/Toronto EDT
END:DAYLIGHT
BEGIN:DAYLIGHT
DTSTART:20250309T030000
RDATE:20251102T010000
TZOFFSETFROM:-0500
TZOFFSETTO:-0400
TZNAME:America/Toronto EDT
END:DAYLIGHT
BEGIN:DAYLIGHT
DTSTART:20260308T030000
RDATE:20261101T010000
TZOFFSETFROM:-0500
TZOFFSETTO:-0400
TZNAME:America/Toronto EDT
END:DAYLIGHT
BEGIN:DAYLIGHT
DTSTART:20270314T030000
RDATE:20271107T010000
TZOFFSETFROM:-0500
TZOFFSETTO:-0400
TZNAME:America/Toronto EDT
END:DAYLIGHT
BEGIN:DAYLIGHT
DTSTART:20280312T030000
RDATE:20281105T010000
TZOFFSETFROM:-0500
TZOFFSETTO:-0400
TZNAME:America/Toronto EDT
END:DAYLIGHT
BEGIN:DAYLIGHT
DTSTART:20290311T030000
RDATE:20291104T010000
TZOFFSETFROM:-0500
TZOFFSETTO:-0400
TZNAME:America/Toronto EDT
END:DAYLIGHT
BEGIN:DAYLIGHT
DTSTART:20300310T030000
RDATE:20301103T010000
TZOFFSETFROM:-0500
TZOFFSETTO:-0400
TZNAME:America/Toronto EDT
END:DAYLIGHT
BEGIN:DAYLIGHT
DTSTART:20310309T030000
RDATE:20311102T010000
TZOFFSETFROM:-0500
TZOFFSETTO:-0400
TZNAME:America/Toronto EDT
END:DAYLIGHT
END:VTIMEZONE
BEGIN:VEVENT
UID:23541a460387a667c3559f256e9ea09e
CATEGORIES:Durham Events
CREATED:20230208T133225
SUMMARY:Always and Forever Bridal Show
LOCATION:Newcastle Community Hall
DESCRIPTION:  Join us at our first hybrid Always &amp; Forever Bridal Show The Always &
 amp; Forever Bridal Show was East Durham’s first Wedding Show and now is Du
 rham’s first hybrid show.The live show will be live streamed into a virtual
  event.Participants will be able to meet with vendors, watch the fashion sh
 ow and enter prize draws. Check out Always &amp; Forever Bridal Show | East
  Durham (alwaysandforeverbridalshow.ca) (https://www.alwaysandforeverbridal
 show.ca/) for more info
X-ALT-DESC;FMTTYPE=text/html:<div class="x11i5rnm xat24cr x1mh8g0r x1vvkbs xdj266r"> </div><div class="x
 11i5rnm xat24cr x1mh8g0r x1vvkbs xdj266r"> </div><div class="x11i5rnm xat24
 cr x1mh8g0r x1vvkbs xdj266r"><strong>Join us at our first hybrid Always &am
 p; Forever Bridal Show</strong></div><div class="x11i5rnm xat24cr x1mh8g0r 
 x1vvkbs xdj266r"> </div><div class="x11i5rnm xat24cr x1mh8g0r x1vvkbs xtlvy
 1s">The Always &amp; Forever Bridal Show was East Durham’s first Wedding Sh
 ow and now is Durham’s first hybrid show.</div><div class="x11i5rnm xat24cr
  x1mh8g0r x1vvkbs xtlvy1s">The live show will be live streamed into a virtu
 al event.</div><div class="x11i5rnm xat24cr x1mh8g0r x1vvkbs xtlvy1s">Parti
 cipants will be able to meet with vendors, watch the fashion show and enter
  prize draws.</div><div class="x11i5rnm xat24cr x1mh8g0r x1vvkbs xtlvy1s"> 
 </div><div class="x11i5rnm xat24cr x1mh8g0r x1vvkbs xtlvy1s">Check out <a h
 ref="https://www.alwaysandforeverbridalshow.ca/">Always &amp; Forever Brida
 l Show | East Durham (alwaysandforeverbridalshow.ca)</a> for more info</div
 >
CONTACT:This email address is being protected from spambots. You need JavaScript enabled to view it.
DTSTAMP:20260421T175522
DTSTART;TZID=America/Toronto:20230402T110000
DTEND;TZID=America/Toronto:20230402T160000
SEQUENCE:0
TRANSP:OPAQUE
END:VEVENT
END:VCALENDAR