BEGIN:VCALENDAR
VERSION:2.0
PRODID:-//jEvents 2.0 for Joomla//EN
CALSCALE:GREGORIAN
METHOD:PUBLISH
BEGIN:VTIMEZONE
TZID:America/Toronto
BEGIN:STANDARD
DTSTART:20221106T010000
RDATE:20230312T030000
TZOFFSETFROM:-0400
TZOFFSETTO:-0500
TZNAME:America/Toronto EST
END:STANDARD
BEGIN:STANDARD
DTSTART:20231105T010000
RDATE:20240310T030000
TZOFFSETFROM:-0400
TZOFFSETTO:-0500
TZNAME:America/Toronto EST
END:STANDARD
BEGIN:STANDARD
DTSTART:20241103T010000
RDATE:20250309T030000
TZOFFSETFROM:-0400
TZOFFSETTO:-0500
TZNAME:America/Toronto EST
END:STANDARD
BEGIN:STANDARD
DTSTART:20251102T010000
RDATE:20260308T030000
TZOFFSETFROM:-0400
TZOFFSETTO:-0500
TZNAME:America/Toronto EST
END:STANDARD
BEGIN:STANDARD
DTSTART:20261101T010000
RDATE:20270314T030000
TZOFFSETFROM:-0400
TZOFFSETTO:-0500
TZNAME:America/Toronto EST
END:STANDARD
BEGIN:STANDARD
DTSTART:20271107T010000
RDATE:20280312T030000
TZOFFSETFROM:-0400
TZOFFSETTO:-0500
TZNAME:America/Toronto EST
END:STANDARD
BEGIN:STANDARD
DTSTART:20281105T010000
RDATE:20290311T030000
TZOFFSETFROM:-0400
TZOFFSETTO:-0500
TZNAME:America/Toronto EST
END:STANDARD
BEGIN:STANDARD
DTSTART:20291104T010000
RDATE:20300310T030000
TZOFFSETFROM:-0400
TZOFFSETTO:-0500
TZNAME:America/Toronto EST
END:STANDARD
BEGIN:STANDARD
DTSTART:20301103T010000
RDATE:20310309T030000
TZOFFSETFROM:-0400
TZOFFSETTO:-0500
TZNAME:America/Toronto EST
END:STANDARD
BEGIN:STANDARD
DTSTART:20311102T010000
RDATE:20320314T030000
TZOFFSETFROM:-0400
TZOFFSETTO:-0500
TZNAME:America/Toronto EST
END:STANDARD
BEGIN:DAYLIGHT
DTSTART:20220414T180000
RDATE:20221106T010000
TZOFFSETFROM:-0500
TZOFFSETTO:-0400
TZNAME:America/Toronto EDT
END:DAYLIGHT
BEGIN:DAYLIGHT
DTSTART:20230312T030000
RDATE:20231105T010000
TZOFFSETFROM:-0500
TZOFFSETTO:-0400
TZNAME:America/Toronto EDT
END:DAYLIGHT
BEGIN:DAYLIGHT
DTSTART:20240310T030000
RDATE:20241103T010000
TZOFFSETFROM:-0500
TZOFFSETTO:-0400
TZNAME:America/Toronto EDT
END:DAYLIGHT
BEGIN:DAYLIGHT
DTSTART:20250309T030000
RDATE:20251102T010000
TZOFFSETFROM:-0500
TZOFFSETTO:-0400
TZNAME:America/Toronto EDT
END:DAYLIGHT
BEGIN:DAYLIGHT
DTSTART:20260308T030000
RDATE:20261101T010000
TZOFFSETFROM:-0500
TZOFFSETTO:-0400
TZNAME:America/Toronto EDT
END:DAYLIGHT
BEGIN:DAYLIGHT
DTSTART:20270314T030000
RDATE:20271107T010000
TZOFFSETFROM:-0500
TZOFFSETTO:-0400
TZNAME:America/Toronto EDT
END:DAYLIGHT
BEGIN:DAYLIGHT
DTSTART:20280312T030000
RDATE:20281105T010000
TZOFFSETFROM:-0500
TZOFFSETTO:-0400
TZNAME:America/Toronto EDT
END:DAYLIGHT
BEGIN:DAYLIGHT
DTSTART:20290311T030000
RDATE:20291104T010000
TZOFFSETFROM:-0500
TZOFFSETTO:-0400
TZNAME:America/Toronto EDT
END:DAYLIGHT
BEGIN:DAYLIGHT
DTSTART:20300310T030000
RDATE:20301103T010000
TZOFFSETFROM:-0500
TZOFFSETTO:-0400
TZNAME:America/Toronto EDT
END:DAYLIGHT
BEGIN:DAYLIGHT
DTSTART:20310309T030000
RDATE:20311102T010000
TZOFFSETFROM:-0500
TZOFFSETTO:-0400
TZNAME:America/Toronto EDT
END:DAYLIGHT
END:VTIMEZONE
BEGIN:VEVENT
UID:d84ed4f9aa75566d843f2c836a8028f9
CATEGORIES:Durham Events
CREATED:20230207T154847
SUMMARY:Hearth Place In Paris Gala
LOCATION:Ajax Convention Centre
DESCRIPTION: Come with us as we travel to Paris in the Spring!Join us as we are transpo
 rted to Paris in the springtime, with delicious food inspired by French cui
 sine, amazing Parisian entertainment, and dancing the night away at the Hea
 rth Place In Paris gala! \nHearth Place has been in the community for 26 ye
 ars and is the only cancer support centre in the Durham Region. The Centre 
 provides support to anyone impacted by a cancer diagnosis, including patien
 ts, caregivers, children and teens. Our services are provided free of charg
 e, ensuring that anyone who needs support is able to access it. Our support
  is needed now more than ever. You can help make a difference in the lives 
 of individuals and families affected by cancer in our community by attendin
 g or supporting the gala. \nTickets:$175/person until March 3, 2023$200/per
 son after March 3, 2023Purchase Tickets at www.hearthplace.org/gala (https:
 //hearthplace.org/events/gala/) \nFeaturing:Emcee - Tom Hayes, Anchor/Repor
 ter/Award-Winning Journalist \nBand - Saturday Night Superstars (https://sa
 turdaynightsuperstars.com/) \n
X-ALT-DESC;FMTTYPE=text/html:<h1 style="text-align: center;"><strong> Come with us as we travel to Paris
  in the Spring!</strong></h1><h6 style="text-align: center;">Join us as we 
 are transported to Paris in the springtime, with delicious food inspired by
  French cuisine, amazing Parisian entertainment, and dancing the night away
  at the <strong><em>Hearth Place In Paris</em> </strong>gala!</h6><p style=
 "text-align: center;"> </p><h5>Hearth Place has been in the community for 2
 6 years and is the only cancer support centre in the Durham Region. The Cen
 tre provides support to anyone impacted by a cancer diagnosis, including pa
 tients, caregivers, children and teens. Our services are provided free of c
 harge, ensuring that anyone who needs support is able to access it. Our sup
 port is needed now more than ever. You can help make a difference in the li
 ves of individuals and families affected by cancer in our community by atte
 nding or supporting the gala.</h5><p> </p><h2>Tickets:</h2><h3><strong>$175
 /person until March 3, 2023</strong></h3><h3>$200/person after March 3, 202
 3</h3><h3 style="text-align: center;"><strong>Purchase Tickets at <a href="
 https://hearthplace.org/events/gala/">www.hearthplace.org/gala</a></strong>
 </h3><p> </p><h2><strong>Featuring:</strong></h2><h3 style="padding-left: 3
 0px;"><strong>Emcee - Tom Hayes, Anchor/Reporter/Award-Winning Journalist</
 strong></h3><p> </p><h3 style="padding-left: 30px;"><strong>Band - <a href=
 "https://saturdaynightsuperstars.com/">Saturday Night Superstars</a></stron
 g></h3><p> </p>
CONTACT:Shauna Cartlidge - 905-579-4833
DTSTAMP:20260420T195154
DTSTART;TZID=America/Toronto:20230415T180000
SEQUENCE:0
TRANSP:OPAQUE
END:VEVENT
END:VCALENDAR