BEGIN:VCALENDAR
VERSION:2.0
PRODID:-//jEvents 2.0 for Joomla//EN
CALSCALE:GREGORIAN
METHOD:PUBLISH
BEGIN:VTIMEZONE
TZID:America/Toronto
BEGIN:STANDARD
DTSTART:20220118T193000
RDATE:20220313T030000
TZOFFSETFROM:-0400
TZOFFSETTO:-0500
TZNAME:America/Toronto EST
END:STANDARD
BEGIN:STANDARD
DTSTART:20221106T010000
RDATE:20230312T030000
TZOFFSETFROM:-0400
TZOFFSETTO:-0500
TZNAME:America/Toronto EST
END:STANDARD
BEGIN:STANDARD
DTSTART:20231105T010000
RDATE:20240310T030000
TZOFFSETFROM:-0400
TZOFFSETTO:-0500
TZNAME:America/Toronto EST
END:STANDARD
BEGIN:STANDARD
DTSTART:20241103T010000
RDATE:20250309T030000
TZOFFSETFROM:-0400
TZOFFSETTO:-0500
TZNAME:America/Toronto EST
END:STANDARD
BEGIN:STANDARD
DTSTART:20251102T010000
RDATE:20260308T030000
TZOFFSETFROM:-0400
TZOFFSETTO:-0500
TZNAME:America/Toronto EST
END:STANDARD
BEGIN:STANDARD
DTSTART:20261101T010000
RDATE:20270314T030000
TZOFFSETFROM:-0400
TZOFFSETTO:-0500
TZNAME:America/Toronto EST
END:STANDARD
BEGIN:STANDARD
DTSTART:20271107T010000
RDATE:20280312T030000
TZOFFSETFROM:-0400
TZOFFSETTO:-0500
TZNAME:America/Toronto EST
END:STANDARD
BEGIN:STANDARD
DTSTART:20281105T010000
RDATE:20290311T030000
TZOFFSETFROM:-0400
TZOFFSETTO:-0500
TZNAME:America/Toronto EST
END:STANDARD
BEGIN:STANDARD
DTSTART:20291104T010000
RDATE:20300310T030000
TZOFFSETFROM:-0400
TZOFFSETTO:-0500
TZNAME:America/Toronto EST
END:STANDARD
BEGIN:STANDARD
DTSTART:20301103T010000
RDATE:20310309T030000
TZOFFSETFROM:-0400
TZOFFSETTO:-0500
TZNAME:America/Toronto EST
END:STANDARD
BEGIN:STANDARD
DTSTART:20311102T010000
RDATE:20320314T030000
TZOFFSETFROM:-0400
TZOFFSETTO:-0500
TZNAME:America/Toronto EST
END:STANDARD
BEGIN:DAYLIGHT
DTSTART:20220313T030000
RDATE:20221106T010000
TZOFFSETFROM:-0500
TZOFFSETTO:-0400
TZNAME:America/Toronto EDT
END:DAYLIGHT
BEGIN:DAYLIGHT
DTSTART:20230312T030000
RDATE:20231105T010000
TZOFFSETFROM:-0500
TZOFFSETTO:-0400
TZNAME:America/Toronto EDT
END:DAYLIGHT
BEGIN:DAYLIGHT
DTSTART:20240310T030000
RDATE:20241103T010000
TZOFFSETFROM:-0500
TZOFFSETTO:-0400
TZNAME:America/Toronto EDT
END:DAYLIGHT
BEGIN:DAYLIGHT
DTSTART:20250309T030000
RDATE:20251102T010000
TZOFFSETFROM:-0500
TZOFFSETTO:-0400
TZNAME:America/Toronto EDT
END:DAYLIGHT
BEGIN:DAYLIGHT
DTSTART:20260308T030000
RDATE:20261101T010000
TZOFFSETFROM:-0500
TZOFFSETTO:-0400
TZNAME:America/Toronto EDT
END:DAYLIGHT
BEGIN:DAYLIGHT
DTSTART:20270314T030000
RDATE:20271107T010000
TZOFFSETFROM:-0500
TZOFFSETTO:-0400
TZNAME:America/Toronto EDT
END:DAYLIGHT
BEGIN:DAYLIGHT
DTSTART:20280312T030000
RDATE:20281105T010000
TZOFFSETFROM:-0500
TZOFFSETTO:-0400
TZNAME:America/Toronto EDT
END:DAYLIGHT
BEGIN:DAYLIGHT
DTSTART:20290311T030000
RDATE:20291104T010000
TZOFFSETFROM:-0500
TZOFFSETTO:-0400
TZNAME:America/Toronto EDT
END:DAYLIGHT
BEGIN:DAYLIGHT
DTSTART:20300310T030000
RDATE:20301103T010000
TZOFFSETFROM:-0500
TZOFFSETTO:-0400
TZNAME:America/Toronto EDT
END:DAYLIGHT
BEGIN:DAYLIGHT
DTSTART:20310309T030000
RDATE:20311102T010000
TZOFFSETFROM:-0500
TZOFFSETTO:-0400
TZNAME:America/Toronto EDT
END:DAYLIGHT
END:VTIMEZONE
BEGIN:VEVENT
UID:ad512296506712dc04823251268f494d
CATEGORIES:Durham Events
CREATED:20221110T125956
SUMMARY:Yuk Yuk's Stand Up Comedy Night and Velvet Revolution
LOCATION:The Edge Lounge  20-250 Bayly St Ajax
DESCRIPTION:We Have A Face Canada GTA Chapter is hosting a fundraiser at The Edge Loung
 e in Ajax featuring three Yuk Yuk's stand up comedians followed with entert
 ainment by a local duo, Velvet Revolution. Come on out for some drinks, gre
 at food, lots of laughs and some outstanding music.\nWe will also have sile
 nt auction.\nWe Have A Face Canada is a registered not for profit organizat
 ion that raises awareness for Huntington's disease, a fatal genetic disease
  that affects many families in our community. All proceeds form this event 
 go toward Huntington's disease research and supporting families affected by
  this tragic disease. \nTickets can be purchased here: https://www.eventbri
 te.ca/e/yuk-yuks-stand-up-comedy-show-and-velvet-revolution-tickets-4412480
 93927\n \n
X-ALT-DESC;FMTTYPE=text/html:<p>We Have A Face Canada GTA Chapter is hosting a fundraiser at The Edge Lo
 unge in Ajax featuring three Yuk Yuk's stand up comedians followed with ent
 ertainment by a local duo, Velvet Revolution. Come on out for some drinks, 
 great food, lots of laughs and some outstanding music.</p><p>We will also h
 ave silent auction.</p><p>We Have A Face Canada is a registered not for pro
 fit organization that raises awareness for Huntington's disease, a fatal ge
 netic disease that affects many families in our community. All proceeds for
 m this event go toward Huntington's disease research and supporting familie
 s affected by this tragic disease. </p><p>Tickets can be purchased here: <a
  href="https://www.eventbrite.ca/e/yuk-yuks-stand-up-comedy-show-and-velvet
 -revolution-tickets-441248093927">https://www.eventbrite.ca/e/yuk-yuks-stan
 d-up-comedy-show-and-velvet-revolution-tickets-441248093927</a></p><p> </p>
CONTACT:This email address is being protected from spambots. You need JavaScript enabled to view it.
X-EXTRAINFO:https://www.eventbrite.ca/e/yuk-yuks-stand-up-comedy-show-and-velvet-revolu
 tion-tickets-441248093927
DTSTAMP:20260420T144425
DTSTART;TZID=America/Toronto:20230119T193000
DTEND;TZID=America/Toronto:20230119T233000
SEQUENCE:0
TRANSP:OPAQUE
END:VEVENT
END:VCALENDAR